BEGIN:VCALENDAR
VERSION:2.0
PRODID:-//Town of New Lebanon - ECPv6.15.20//NONSGML v1.0//EN
CALSCALE:GREGORIAN
METHOD:PUBLISH
X-ORIGINAL-URL:https://townofnewlebanon.com
X-WR-CALDESC:Events for Town of New Lebanon
REFRESH-INTERVAL;VALUE=DURATION:PT1H
X-Robots-Tag:noindex
X-PUBLISHED-TTL:PT1H
BEGIN:VTIMEZONE
TZID:America/New_York
BEGIN:DAYLIGHT
TZOFFSETFROM:-0500
TZOFFSETTO:-0400
TZNAME:EDT
DTSTART:20250309T070000
END:DAYLIGHT
BEGIN:STANDARD
TZOFFSETFROM:-0400
TZOFFSETTO:-0500
TZNAME:EST
DTSTART:20251102T060000
END:STANDARD
BEGIN:DAYLIGHT
TZOFFSETFROM:-0500
TZOFFSETTO:-0400
TZNAME:EDT
DTSTART:20260308T070000
END:DAYLIGHT
BEGIN:STANDARD
TZOFFSETFROM:-0400
TZOFFSETTO:-0500
TZNAME:EST
DTSTART:20261101T060000
END:STANDARD
BEGIN:DAYLIGHT
TZOFFSETFROM:-0500
TZOFFSETTO:-0400
TZNAME:EDT
DTSTART:20270314T070000
END:DAYLIGHT
BEGIN:STANDARD
TZOFFSETFROM:-0400
TZOFFSETTO:-0500
TZNAME:EST
DTSTART:20271107T060000
END:STANDARD
END:VTIMEZONE
BEGIN:VEVENT
DTSTART;VALUE=DATE:20261103
DTEND;VALUE=DATE:20261104
DTSTAMP:20260421T003433
CREATED:20241022T123152Z
LAST-MODIFIED:20241022T123152Z
UID:10001870-1793664000-1793750399@townofnewlebanon.com
SUMMARY:Election Day - Town Hall closed
DESCRIPTION:
URL:https://townofnewlebanon.com/event/election-day-town-hall-closed-3/
CATEGORIES:General
END:VEVENT
BEGIN:VEVENT
DTSTART;TZID=America/New_York:20261103T130000
DTEND;TZID=America/New_York:20261103T140000
DTSTAMP:20260421T003433
CREATED:20260311T164623Z
LAST-MODIFIED:20260311T164623Z
UID:10006233-1793710800-1793714400@townofnewlebanon.com
SUMMARY:Town Board Spec Meeting to Pay Highway Bills
DESCRIPTION:
URL:https://townofnewlebanon.com/event/town-board-spec-meeting-to-pay-highway-bills/2026-11-03/
LOCATION:Town Hall\, 14755 Route 22 North\, New Lebanon\, NY\, 12125\, United States
CATEGORIES:General
END:VEVENT
BEGIN:VEVENT
DTSTART;TZID=America/New_York:20261103T140000
DTEND;TZID=America/New_York:20261103T173000
DTSTAMP:20260421T003433
CREATED:20250108T215951Z
LAST-MODIFIED:20250108T215951Z
UID:10002188-1793714400-1793727000@townofnewlebanon.com
SUMMARY:New Lebanon Community Center Open Hours
DESCRIPTION:
URL:https://townofnewlebanon.com/event/new-lebanon-community-center-open-hours/2026-11-03/
LOCATION:New Lebanon Community Center\, 523 US Route 20\, New Lebanon
CATEGORIES:community
END:VEVENT
BEGIN:VEVENT
DTSTART;TZID=America/New_York:20261103T190000
DTEND;TZID=America/New_York:20261103T200000
DTSTAMP:20260421T003433
CREATED:20250325T153928Z
LAST-MODIFIED:20250923T165459Z
UID:10004896-1793732400-1793736000@townofnewlebanon.com
SUMMARY:ZBA Meeting
DESCRIPTION:Check if there is an agenda posted at: https://townofnewlebanon.com/building/ – \nThe Zoning Board of Appeals only meets if it has a case to review. If there is no agenda posted\, there is no meeting.
URL:https://townofnewlebanon.com/event/zba-meeting-if-needed/2026-11-03/
LOCATION:Town Hall\, 14755 Route 22 North\, New Lebanon\, NY\, 12125\, United States
CATEGORIES:General
END:VEVENT
BEGIN:VEVENT
DTSTART;TZID=America/New_York:20261104T140000
DTEND;TZID=America/New_York:20261104T173000
DTSTAMP:20260421T003433
CREATED:20250415T184745Z
LAST-MODIFIED:20250415T184745Z
UID:10005094-1793800800-1793813400@townofnewlebanon.com
SUMMARY:New Lebanon Community Center Open Hours
DESCRIPTION:
URL:https://townofnewlebanon.com/event/new-lebanon-community-center-open-hours-2/2026-11-04/
LOCATION:New Lebanon Community Center\, 523 US Route 20\, New Lebanon
CATEGORIES:community,General
END:VEVENT
BEGIN:VEVENT
DTSTART;TZID=America/New_York:20261104T170000
DTEND;TZID=America/New_York:20261104T183000
DTSTAMP:20260421T003433
CREATED:20220626T161625Z
LAST-MODIFIED:20260320T194508Z
UID:10001620-1793811600-1793817000@townofnewlebanon.com
SUMMARY:CSC Meeting
DESCRIPTION:
URL:https://townofnewlebanon.com/event/csc-meeting-2022-08-03/2026-11-04/
LOCATION:Town Hall\, 14755 Route 22 North\, New Lebanon\, NY\, 12125\, United States
CATEGORIES:General
ATTACH;FMTTYPE=image/jpeg:https://townofnewlebanon.com/wp-content/uploads/2022/06/CSC_bronze-logo-with-NL-e1656592455471.jpeg
END:VEVENT
BEGIN:VEVENT
DTSTART;TZID=America/New_York:20261104T191500
DTEND;TZID=America/New_York:20261104T203000
DTSTAMP:20260421T003433
CREATED:20260323T192950Z
LAST-MODIFIED:20260323T193320Z
UID:10006619-1793819700-1793824200@townofnewlebanon.com
SUMMARY:Yoga at the Community Center
DESCRIPTION:
URL:https://townofnewlebanon.com/event/yoga-at-the-community-center/2026-11-04/
LOCATION:New Lebanon Community Center\, 523 US Route 20\, New Lebanon
CATEGORIES:community
END:VEVENT
BEGIN:VEVENT
DTSTART;TZID=America/New_York:20261105T140000
DTEND;TZID=America/New_York:20261105T173000
DTSTAMP:20260421T003433
CREATED:20250108T220313Z
LAST-MODIFIED:20251023T151221Z
UID:10003233-1793887200-1793899800@townofnewlebanon.com
SUMMARY:New Lebanon Community Center Open Hours
DESCRIPTION:
URL:https://townofnewlebanon.com/event/new-lebanon-community-center-open-hours-3/2026-11-05/
LOCATION:New Lebanon Community Center\, 523 US Route 20\, New Lebanon
CATEGORIES:community
END:VEVENT
BEGIN:VEVENT
DTSTART;TZID=America/New_York:20261106T130000
DTEND;TZID=America/New_York:20261106T150000
DTSTAMP:20260421T003433
CREATED:20240406T213429Z
LAST-MODIFIED:20250226T163458Z
UID:10001516-1793970000-1793977200@townofnewlebanon.com
SUMMARY:Lebanon Valley Seniors Meeting
DESCRIPTION:
URL:https://townofnewlebanon.com/event/lebanon-valley-seniors-meeting-2/2026-11-06/
LOCATION:New Lebanon Community Center\, 523 US Route 20\, New Lebanon
CATEGORIES:community,General
END:VEVENT
BEGIN:VEVENT
DTSTART;TZID=America/New_York:20261107T170000
DTEND;TZID=America/New_York:20261107T200000
DTSTAMP:20260421T003433
CREATED:20250108T220435Z
LAST-MODIFIED:20250108T220521Z
UID:10003755-1794070800-1794081600@townofnewlebanon.com
SUMMARY:New Lebanon Community Center Open Hours
DESCRIPTION:
URL:https://townofnewlebanon.com/event/new-lebanon-community-center-open-hours-4/2026-11-07/
LOCATION:New Lebanon Community Center\, 523 US Route 20\, New Lebanon
CATEGORIES:community
END:VEVENT
BEGIN:VEVENT
DTSTART;TZID=America/New_York:20261108T110000
DTEND;TZID=America/New_York:20261108T140000
DTSTAMP:20260421T003433
CREATED:20250108T220607Z
LAST-MODIFIED:20260319T144103Z
UID:10004277-1794135600-1794146400@townofnewlebanon.com
SUMMARY:New Lebanon Community Center Open Hours
DESCRIPTION:
URL:https://townofnewlebanon.com/event/new-lebanon-community-center-open-hours-5/2026-11-08/
LOCATION:New Lebanon Community Center\, 523 US Route 20\, New Lebanon
CATEGORIES:community
END:VEVENT
BEGIN:VEVENT
DTSTART;TZID=America/New_York:20261110T130000
DTEND;TZID=America/New_York:20261110T140000
DTSTAMP:20260421T003433
CREATED:20260311T164623Z
LAST-MODIFIED:20260311T164623Z
UID:10006234-1794315600-1794319200@townofnewlebanon.com
SUMMARY:Town Board Spec Meeting to Pay Highway Bills
DESCRIPTION:
URL:https://townofnewlebanon.com/event/town-board-spec-meeting-to-pay-highway-bills/2026-11-10/
LOCATION:Town Hall\, 14755 Route 22 North\, New Lebanon\, NY\, 12125\, United States
CATEGORIES:General
END:VEVENT
BEGIN:VEVENT
DTSTART;TZID=America/New_York:20261110T140000
DTEND;TZID=America/New_York:20261110T173000
DTSTAMP:20260421T003433
CREATED:20250108T215951Z
LAST-MODIFIED:20250108T215951Z
UID:10002189-1794319200-1794331800@townofnewlebanon.com
SUMMARY:New Lebanon Community Center Open Hours
DESCRIPTION:
URL:https://townofnewlebanon.com/event/new-lebanon-community-center-open-hours/2026-11-10/
LOCATION:New Lebanon Community Center\, 523 US Route 20\, New Lebanon
CATEGORIES:community
END:VEVENT
BEGIN:VEVENT
DTSTART;TZID=America/New_York:20261110T183000
DTEND;TZID=America/New_York:20261110T203000
DTSTAMP:20260421T003433
CREATED:20260103T220239Z
LAST-MODIFIED:20260311T165724Z
UID:10005654-1794335400-1794342600@townofnewlebanon.com
SUMMARY:Town Board Meeting
DESCRIPTION:
URL:https://townofnewlebanon.com/event/town-board-meeting-4/2026-11-10/
LOCATION:Town Hall\, 14755 Route 22 North\, New Lebanon\, NY\, 12125\, United States
CATEGORIES:General
END:VEVENT
BEGIN:VEVENT
DTSTART;VALUE=DATE:20261111
DTEND;VALUE=DATE:20261112
DTSTAMP:20260421T003433
CREATED:20241022T122311Z
LAST-MODIFIED:20241022T122311Z
UID:10001860-1794355200-1794441599@townofnewlebanon.com
SUMMARY:Veteran's Day - Town Hall closed
DESCRIPTION:
URL:https://townofnewlebanon.com/event/veterans-day-town-hall-closed/2026-11-11/
CATEGORIES:General
END:VEVENT
BEGIN:VEVENT
DTSTART;TZID=America/New_York:20261111T140000
DTEND;TZID=America/New_York:20261111T173000
DTSTAMP:20260421T003433
CREATED:20250415T184745Z
LAST-MODIFIED:20250415T184745Z
UID:10005095-1794405600-1794418200@townofnewlebanon.com
SUMMARY:New Lebanon Community Center Open Hours
DESCRIPTION:
URL:https://townofnewlebanon.com/event/new-lebanon-community-center-open-hours-2/2026-11-11/
LOCATION:New Lebanon Community Center\, 523 US Route 20\, New Lebanon
CATEGORIES:community,General
END:VEVENT
BEGIN:VEVENT
DTSTART;TZID=America/New_York:20261111T191500
DTEND;TZID=America/New_York:20261111T203000
DTSTAMP:20260421T003433
CREATED:20260323T192950Z
LAST-MODIFIED:20260323T193320Z
UID:10006620-1794424500-1794429000@townofnewlebanon.com
SUMMARY:Yoga at the Community Center
DESCRIPTION:
URL:https://townofnewlebanon.com/event/yoga-at-the-community-center/2026-11-11/
LOCATION:New Lebanon Community Center\, 523 US Route 20\, New Lebanon
CATEGORIES:community
END:VEVENT
BEGIN:VEVENT
DTSTART;TZID=America/New_York:20261112T140000
DTEND;TZID=America/New_York:20261112T173000
DTSTAMP:20260421T003433
CREATED:20250108T220313Z
LAST-MODIFIED:20251023T151221Z
UID:10003234-1794492000-1794504600@townofnewlebanon.com
SUMMARY:New Lebanon Community Center Open Hours
DESCRIPTION:
URL:https://townofnewlebanon.com/event/new-lebanon-community-center-open-hours-3/2026-11-12/
LOCATION:New Lebanon Community Center\, 523 US Route 20\, New Lebanon
CATEGORIES:community
END:VEVENT
BEGIN:VEVENT
DTSTART;TZID=America/New_York:20261114T170000
DTEND;TZID=America/New_York:20261114T200000
DTSTAMP:20260421T003433
CREATED:20250108T220435Z
LAST-MODIFIED:20250108T220521Z
UID:10003756-1794675600-1794686400@townofnewlebanon.com
SUMMARY:New Lebanon Community Center Open Hours
DESCRIPTION:
URL:https://townofnewlebanon.com/event/new-lebanon-community-center-open-hours-4/2026-11-14/
LOCATION:New Lebanon Community Center\, 523 US Route 20\, New Lebanon
CATEGORIES:community
END:VEVENT
BEGIN:VEVENT
DTSTART;TZID=America/New_York:20261115T110000
DTEND;TZID=America/New_York:20261115T140000
DTSTAMP:20260421T003433
CREATED:20250108T220607Z
LAST-MODIFIED:20260319T144103Z
UID:10004278-1794740400-1794751200@townofnewlebanon.com
SUMMARY:New Lebanon Community Center Open Hours
DESCRIPTION:
URL:https://townofnewlebanon.com/event/new-lebanon-community-center-open-hours-5/2026-11-15/
LOCATION:New Lebanon Community Center\, 523 US Route 20\, New Lebanon
CATEGORIES:community
END:VEVENT
BEGIN:VEVENT
DTSTART;TZID=America/New_York:20261116T190000
DTEND;TZID=America/New_York:20261116T203000
DTSTAMP:20260421T003433
CREATED:20241210T200511Z
LAST-MODIFIED:20260319T142531Z
UID:10001989-1794855600-1794861000@townofnewlebanon.com
SUMMARY:Zoning Rewrite Committee (ZRC) meeting
DESCRIPTION:
URL:https://townofnewlebanon.com/event/zoning-rewrite-committee-zrc-meeting/2026-11-16/
LOCATION:Town Hall\, 14755 Route 22 North\, New Lebanon\, NY\, 12125\, United States
CATEGORIES:General
END:VEVENT
BEGIN:VEVENT
DTSTART;TZID=America/New_York:20261117T130000
DTEND;TZID=America/New_York:20261117T140000
DTSTAMP:20260421T003433
CREATED:20260311T164623Z
LAST-MODIFIED:20260311T164623Z
UID:10006235-1794920400-1794924000@townofnewlebanon.com
SUMMARY:Town Board Spec Meeting to Pay Highway Bills
DESCRIPTION:
URL:https://townofnewlebanon.com/event/town-board-spec-meeting-to-pay-highway-bills/2026-11-17/
LOCATION:Town Hall\, 14755 Route 22 North\, New Lebanon\, NY\, 12125\, United States
CATEGORIES:General
END:VEVENT
BEGIN:VEVENT
DTSTART;TZID=America/New_York:20261117T140000
DTEND;TZID=America/New_York:20261117T173000
DTSTAMP:20260421T003433
CREATED:20250108T215951Z
LAST-MODIFIED:20250108T215951Z
UID:10002190-1794924000-1794936600@townofnewlebanon.com
SUMMARY:New Lebanon Community Center Open Hours
DESCRIPTION:
URL:https://townofnewlebanon.com/event/new-lebanon-community-center-open-hours/2026-11-17/
LOCATION:New Lebanon Community Center\, 523 US Route 20\, New Lebanon
CATEGORIES:community
END:VEVENT
BEGIN:VEVENT
DTSTART;TZID=America/New_York:20261117T170000
DTEND;TZID=America/New_York:20261117T180000
DTSTAMP:20260421T003433
CREATED:20240216T215703Z
LAST-MODIFIED:20260319T150413Z
UID:10006407-1794934800-1794938400@townofnewlebanon.com
SUMMARY:New Recreation Commission Meeting
DESCRIPTION:
URL:https://townofnewlebanon.com/event/recreation-commission-meeting/2026-11-17/
CATEGORIES:General
END:VEVENT
BEGIN:VEVENT
DTSTART;TZID=America/New_York:20261117T183000
DTEND;TZID=America/New_York:20261117T193000
DTSTAMP:20260421T003433
CREATED:20260319T150247Z
LAST-MODIFIED:20260319T150247Z
UID:10006529-1794940200-1794943800@townofnewlebanon.com
SUMMARY:Events Committee Meeting
DESCRIPTION:
URL:https://townofnewlebanon.com/event/events-committee-meeting/2026-11-17/
LOCATION:Town Hall\, 14755 Route 22 North\, New Lebanon\, NY\, 12125\, United States
CATEGORIES:General
END:VEVENT
BEGIN:VEVENT
DTSTART;TZID=America/New_York:20261118T140000
DTEND;TZID=America/New_York:20261118T173000
DTSTAMP:20260421T003433
CREATED:20250415T184745Z
LAST-MODIFIED:20250415T184745Z
UID:10005096-1795010400-1795023000@townofnewlebanon.com
SUMMARY:New Lebanon Community Center Open Hours
DESCRIPTION:
URL:https://townofnewlebanon.com/event/new-lebanon-community-center-open-hours-2/2026-11-18/
LOCATION:New Lebanon Community Center\, 523 US Route 20\, New Lebanon
CATEGORIES:community,General
END:VEVENT
BEGIN:VEVENT
DTSTART;TZID=America/New_York:20261118T190000
DTEND;TZID=America/New_York:20261118T210000
DTSTAMP:20260421T003433
CREATED:20220626T170833Z
LAST-MODIFIED:20251113T145144Z
UID:10000283-1795028400-1795035600@townofnewlebanon.com
SUMMARY:Planning Board
DESCRIPTION:Also available via Live Stream – for link see PB Agendas and Documents page
URL:https://townofnewlebanon.com/event/planning-board-town-hall/2026-11-18/
LOCATION:Town Hall\, 14755 Route 22 North\, New Lebanon\, NY\, 12125\, United States
CATEGORIES:General
END:VEVENT
BEGIN:VEVENT
DTSTART;TZID=America/New_York:20261118T191500
DTEND;TZID=America/New_York:20261118T203000
DTSTAMP:20260421T003433
CREATED:20260323T192950Z
LAST-MODIFIED:20260323T193320Z
UID:10006621-1795029300-1795033800@townofnewlebanon.com
SUMMARY:Yoga at the Community Center
DESCRIPTION:
URL:https://townofnewlebanon.com/event/yoga-at-the-community-center/2026-11-18/
LOCATION:New Lebanon Community Center\, 523 US Route 20\, New Lebanon
CATEGORIES:community
END:VEVENT
BEGIN:VEVENT
DTSTART;TZID=America/New_York:20261119T130000
DTEND;TZID=America/New_York:20261119T150000
DTSTAMP:20260421T003433
CREATED:20250102T212053Z
LAST-MODIFIED:20250102T212133Z
UID:10002046-1795093200-1795100400@townofnewlebanon.com
SUMMARY:Acoustic Jam
DESCRIPTION:
URL:https://townofnewlebanon.com/event/acoustic-jam/2026-11-19/
LOCATION:New Lebanon Community Center\, 523 US Route 20\, New Lebanon
CATEGORIES:community,General
END:VEVENT
BEGIN:VEVENT
DTSTART;TZID=America/New_York:20261119T140000
DTEND;TZID=America/New_York:20261119T173000
DTSTAMP:20260421T003433
CREATED:20250108T220313Z
LAST-MODIFIED:20251023T151221Z
UID:10003235-1795096800-1795109400@townofnewlebanon.com
SUMMARY:New Lebanon Community Center Open Hours
DESCRIPTION:
URL:https://townofnewlebanon.com/event/new-lebanon-community-center-open-hours-3/2026-11-19/
LOCATION:New Lebanon Community Center\, 523 US Route 20\, New Lebanon
CATEGORIES:community
END:VEVENT
END:VCALENDAR