BEGIN:VCALENDAR
VERSION:2.0
PRODID:-//Town of New Lebanon - ECPv6.15.20//NONSGML v1.0//EN
CALSCALE:GREGORIAN
METHOD:PUBLISH
X-WR-CALNAME:Town of New Lebanon
X-ORIGINAL-URL:https://townofnewlebanon.com
X-WR-CALDESC:Events for Town of New Lebanon
REFRESH-INTERVAL;VALUE=DURATION:PT1H
X-Robots-Tag:noindex
X-PUBLISHED-TTL:PT1H
BEGIN:VTIMEZONE
TZID:America/New_York
BEGIN:DAYLIGHT
TZOFFSETFROM:-0500
TZOFFSETTO:-0400
TZNAME:EDT
DTSTART:20250309T070000
END:DAYLIGHT
BEGIN:STANDARD
TZOFFSETFROM:-0400
TZOFFSETTO:-0500
TZNAME:EST
DTSTART:20251102T060000
END:STANDARD
BEGIN:DAYLIGHT
TZOFFSETFROM:-0500
TZOFFSETTO:-0400
TZNAME:EDT
DTSTART:20260308T070000
END:DAYLIGHT
BEGIN:STANDARD
TZOFFSETFROM:-0400
TZOFFSETTO:-0500
TZNAME:EST
DTSTART:20261101T060000
END:STANDARD
BEGIN:DAYLIGHT
TZOFFSETFROM:-0500
TZOFFSETTO:-0400
TZNAME:EDT
DTSTART:20270314T070000
END:DAYLIGHT
BEGIN:STANDARD
TZOFFSETFROM:-0400
TZOFFSETTO:-0500
TZNAME:EST
DTSTART:20271107T060000
END:STANDARD
END:VTIMEZONE
BEGIN:VEVENT
DTSTART;TZID=America/New_York:20260415T191500
DTEND;TZID=America/New_York:20260415T203000
DTSTAMP:20260419T134912
CREATED:20260323T192950Z
LAST-MODIFIED:20260323T193320Z
UID:10006590-1776280500-1776285000@townofnewlebanon.com
SUMMARY:Yoga at the Community Center
DESCRIPTION:
URL:https://townofnewlebanon.com/event/yoga-at-the-community-center/2026-04-15/
LOCATION:New Lebanon Community Center\, 523 US Route 20\, New Lebanon
CATEGORIES:community
END:VEVENT
BEGIN:VEVENT
DTSTART;TZID=America/New_York:20260416T130000
DTEND;TZID=America/New_York:20260416T150000
DTSTAMP:20260419T134912
CREATED:20250102T212053Z
LAST-MODIFIED:20250102T212133Z
UID:10002039-1776344400-1776351600@townofnewlebanon.com
SUMMARY:Acoustic Jam
DESCRIPTION:
URL:https://townofnewlebanon.com/event/acoustic-jam/2026-04-16/
LOCATION:New Lebanon Community Center\, 523 US Route 20\, New Lebanon
CATEGORIES:community,General
END:VEVENT
BEGIN:VEVENT
DTSTART;TZID=America/New_York:20260416T140000
DTEND;TZID=America/New_York:20260416T173000
DTSTAMP:20260419T134912
CREATED:20250108T220313Z
LAST-MODIFIED:20251023T151221Z
UID:10003204-1776348000-1776360600@townofnewlebanon.com
SUMMARY:New Lebanon Community Center Open Hours
DESCRIPTION:
URL:https://townofnewlebanon.com/event/new-lebanon-community-center-open-hours-3/2026-04-16/
LOCATION:New Lebanon Community Center\, 523 US Route 20\, New Lebanon
CATEGORIES:community
END:VEVENT
BEGIN:VEVENT
DTSTART;TZID=America/New_York:20260417T130000
DTEND;TZID=America/New_York:20260417T150000
DTSTAMP:20260419T134912
CREATED:20240406T213120Z
LAST-MODIFIED:20250113T220339Z
UID:10001452-1776430800-1776438000@townofnewlebanon.com
SUMMARY:Lebanon Valley Seniors Meeting
DESCRIPTION:
URL:https://townofnewlebanon.com/event/lebanon-valley-seniors-meeting/2026-04-17/
LOCATION:New Lebanon Community Center\, 523 US Route 20\, New Lebanon
CATEGORIES:community,General
END:VEVENT
BEGIN:VEVENT
DTSTART;TZID=America/New_York:20260418T170000
DTEND;TZID=America/New_York:20260418T200000
DTSTAMP:20260419T134912
CREATED:20250108T220435Z
LAST-MODIFIED:20250108T220521Z
UID:10003726-1776531600-1776542400@townofnewlebanon.com
SUMMARY:New Lebanon Community Center Open Hours
DESCRIPTION:
URL:https://townofnewlebanon.com/event/new-lebanon-community-center-open-hours-4/2026-04-18/
LOCATION:New Lebanon Community Center\, 523 US Route 20\, New Lebanon
CATEGORIES:community
END:VEVENT
BEGIN:VEVENT
DTSTART;TZID=America/New_York:20260418T173000
DTEND;TZID=America/New_York:20260418T193000
DTSTAMP:20260419T134913
CREATED:20251224T204721Z
LAST-MODIFIED:20251224T204721Z
UID:10005641-1776533400-1776540600@townofnewlebanon.com
SUMMARY:Karaoke night at the Community Center
DESCRIPTION:
URL:https://townofnewlebanon.com/event/karaoke-night-at-the-community-center-10/
CATEGORIES:community,General
END:VEVENT
BEGIN:VEVENT
DTSTART;TZID=America/New_York:20260419T100000
DTEND;TZID=America/New_York:20260419T120000
DTSTAMP:20260419T134913
CREATED:20260323T191213Z
LAST-MODIFIED:20260323T191213Z
UID:10006585-1776592800-1776600000@townofnewlebanon.com
SUMMARY:Seed Starting Workshop
DESCRIPTION:
URL:https://townofnewlebanon.com/event/seed-starting-workshop/
LOCATION:New Lebanon Community Center\, 523 US Route 20\, New Lebanon
CATEGORIES:community
END:VEVENT
BEGIN:VEVENT
DTSTART;TZID=America/New_York:20260419T110000
DTEND;TZID=America/New_York:20260419T140000
DTSTAMP:20260419T134913
CREATED:20250108T220607Z
LAST-MODIFIED:20260319T144103Z
UID:10004248-1776596400-1776607200@townofnewlebanon.com
SUMMARY:New Lebanon Community Center Open Hours
DESCRIPTION:
URL:https://townofnewlebanon.com/event/new-lebanon-community-center-open-hours-5/2026-04-19/
LOCATION:New Lebanon Community Center\, 523 US Route 20\, New Lebanon
CATEGORIES:community
END:VEVENT
BEGIN:VEVENT
DTSTART;TZID=America/New_York:20260420T110000
DTEND;TZID=America/New_York:20260420T120000
DTSTAMP:20260419T134913
CREATED:20260310T172650Z
LAST-MODIFIED:20260310T172915Z
UID:10006189-1776682800-1776686400@townofnewlebanon.com
SUMMARY:Tai Chi at Community Center
DESCRIPTION:
URL:https://townofnewlebanon.com/event/tai-chi-at-community-center/2026-04-20/
LOCATION:New Lebanon Community Center\, 523 US Route 20\, New Lebanon
CATEGORIES:community
END:VEVENT
BEGIN:VEVENT
DTSTART;TZID=America/New_York:20260421T130000
DTEND;TZID=America/New_York:20260421T140000
DTSTAMP:20260419T134913
CREATED:20260311T164623Z
LAST-MODIFIED:20260311T164623Z
UID:10006205-1776776400-1776780000@townofnewlebanon.com
SUMMARY:Town Board Spec Meeting to Pay Highway Bills
DESCRIPTION:
URL:https://townofnewlebanon.com/event/town-board-spec-meeting-to-pay-highway-bills/2026-04-21/
LOCATION:Town Hall\, 14755 Route 22 North\, New Lebanon\, NY\, 12125\, United States
CATEGORIES:General
END:VEVENT
BEGIN:VEVENT
DTSTART;TZID=America/New_York:20260421T140000
DTEND;TZID=America/New_York:20260421T173000
DTSTAMP:20260419T134913
CREATED:20250108T215951Z
LAST-MODIFIED:20250108T215951Z
UID:10002160-1776780000-1776792600@townofnewlebanon.com
SUMMARY:New Lebanon Community Center Open Hours
DESCRIPTION:
URL:https://townofnewlebanon.com/event/new-lebanon-community-center-open-hours/2026-04-21/
LOCATION:New Lebanon Community Center\, 523 US Route 20\, New Lebanon
CATEGORIES:community
END:VEVENT
BEGIN:VEVENT
DTSTART;TZID=America/New_York:20260421T170000
DTEND;TZID=America/New_York:20260421T180000
DTSTAMP:20260419T134913
CREATED:20240216T215703Z
LAST-MODIFIED:20260319T150413Z
UID:10006400-1776790800-1776794400@townofnewlebanon.com
SUMMARY:New Recreation Commission Meeting
DESCRIPTION:
URL:https://townofnewlebanon.com/event/recreation-commission-meeting/2026-04-21/
CATEGORIES:General
END:VEVENT
BEGIN:VEVENT
DTSTART;TZID=America/New_York:20260421T183000
DTEND;TZID=America/New_York:20260421T193000
DTSTAMP:20260419T134913
CREATED:20260319T150247Z
LAST-MODIFIED:20260319T150247Z
UID:10006522-1776796200-1776799800@townofnewlebanon.com
SUMMARY:Events Committee Meeting
DESCRIPTION:
URL:https://townofnewlebanon.com/event/events-committee-meeting/2026-04-21/
LOCATION:Town Hall\, 14755 Route 22 North\, New Lebanon\, NY\, 12125\, United States
CATEGORIES:General
END:VEVENT
BEGIN:VEVENT
DTSTART;TZID=America/New_York:20260422T140000
DTEND;TZID=America/New_York:20260422T173000
DTSTAMP:20260419T134913
CREATED:20250415T184745Z
LAST-MODIFIED:20250415T184745Z
UID:10005066-1776866400-1776879000@townofnewlebanon.com
SUMMARY:New Lebanon Community Center Open Hours
DESCRIPTION:
URL:https://townofnewlebanon.com/event/new-lebanon-community-center-open-hours-2/2026-04-22/
LOCATION:New Lebanon Community Center\, 523 US Route 20\, New Lebanon
CATEGORIES:community,General
END:VEVENT
BEGIN:VEVENT
DTSTART;TZID=America/New_York:20260422T191500
DTEND;TZID=America/New_York:20260422T203000
DTSTAMP:20260419T134913
CREATED:20260323T192950Z
LAST-MODIFIED:20260323T193320Z
UID:10006591-1776885300-1776889800@townofnewlebanon.com
SUMMARY:Yoga at the Community Center
DESCRIPTION:
URL:https://townofnewlebanon.com/event/yoga-at-the-community-center/2026-04-22/
LOCATION:New Lebanon Community Center\, 523 US Route 20\, New Lebanon
CATEGORIES:community
END:VEVENT
BEGIN:VEVENT
DTSTART;TZID=America/New_York:20260423T140000
DTEND;TZID=America/New_York:20260423T173000
DTSTAMP:20260419T134913
CREATED:20250108T220313Z
LAST-MODIFIED:20251023T151221Z
UID:10003205-1776952800-1776965400@townofnewlebanon.com
SUMMARY:New Lebanon Community Center Open Hours
DESCRIPTION:
URL:https://townofnewlebanon.com/event/new-lebanon-community-center-open-hours-3/2026-04-23/
LOCATION:New Lebanon Community Center\, 523 US Route 20\, New Lebanon
CATEGORIES:community
END:VEVENT
BEGIN:VEVENT
DTSTART;TZID=America/New_York:20260425T130000
DTEND;TZID=America/New_York:20260425T170000
DTSTAMP:20260419T134913
CREATED:20260207T200700Z
LAST-MODIFIED:20260311T141345Z
UID:10006159-1777122000-1777136400@townofnewlebanon.com
SUMMARY:Private rental Apr 25
DESCRIPTION:
URL:https://townofnewlebanon.com/event/private-rental/
LOCATION:New Lebanon Community Center\, 523 US Route 20\, New Lebanon
CATEGORIES:community
END:VEVENT
BEGIN:VEVENT
DTSTART;TZID=America/New_York:20260425T170000
DTEND;TZID=America/New_York:20260425T200000
DTSTAMP:20260419T134913
CREATED:20250108T220435Z
LAST-MODIFIED:20250108T220521Z
UID:10003727-1777136400-1777147200@townofnewlebanon.com
SUMMARY:New Lebanon Community Center Open Hours
DESCRIPTION:
URL:https://townofnewlebanon.com/event/new-lebanon-community-center-open-hours-4/2026-04-25/
LOCATION:New Lebanon Community Center\, 523 US Route 20\, New Lebanon
CATEGORIES:community
END:VEVENT
BEGIN:VEVENT
DTSTART;TZID=America/New_York:20260426T110000
DTEND;TZID=America/New_York:20260426T140000
DTSTAMP:20260419T134913
CREATED:20250108T220607Z
LAST-MODIFIED:20260319T144103Z
UID:10004249-1777201200-1777212000@townofnewlebanon.com
SUMMARY:New Lebanon Community Center Open Hours
DESCRIPTION:
URL:https://townofnewlebanon.com/event/new-lebanon-community-center-open-hours-5/2026-04-26/
LOCATION:New Lebanon Community Center\, 523 US Route 20\, New Lebanon
CATEGORIES:community
END:VEVENT
BEGIN:VEVENT
DTSTART;TZID=America/New_York:20260427T110000
DTEND;TZID=America/New_York:20260427T120000
DTSTAMP:20260419T134913
CREATED:20260310T172650Z
LAST-MODIFIED:20260310T172915Z
UID:10006190-1777287600-1777291200@townofnewlebanon.com
SUMMARY:Tai Chi at Community Center
DESCRIPTION:
URL:https://townofnewlebanon.com/event/tai-chi-at-community-center/2026-04-27/
LOCATION:New Lebanon Community Center\, 523 US Route 20\, New Lebanon
CATEGORIES:community
END:VEVENT
BEGIN:VEVENT
DTSTART;TZID=America/New_York:20260427T170000
DTEND;TZID=America/New_York:20260427T183000
DTSTAMP:20260419T134913
CREATED:20250228T173518Z
LAST-MODIFIED:20250827T130442Z
UID:10005418-1777309200-1777314600@townofnewlebanon.com
SUMMARY:LVHS Meeting
DESCRIPTION:
URL:https://townofnewlebanon.com/event/lvhs-meeting-town-hall-2/2026-04-27/
LOCATION:Town Hall\, 14755 Route 22 North\, New Lebanon\, NY\, 12125\, United States
CATEGORIES:General
END:VEVENT
BEGIN:VEVENT
DTSTART;TZID=America/New_York:20260428T130000
DTEND;TZID=America/New_York:20260428T140000
DTSTAMP:20260419T134913
CREATED:20260311T164623Z
LAST-MODIFIED:20260311T164623Z
UID:10006206-1777381200-1777384800@townofnewlebanon.com
SUMMARY:Town Board Spec Meeting to Pay Highway Bills
DESCRIPTION:
URL:https://townofnewlebanon.com/event/town-board-spec-meeting-to-pay-highway-bills/2026-04-28/
LOCATION:Town Hall\, 14755 Route 22 North\, New Lebanon\, NY\, 12125\, United States
CATEGORIES:General
END:VEVENT
BEGIN:VEVENT
DTSTART;TZID=America/New_York:20260428T140000
DTEND;TZID=America/New_York:20260428T173000
DTSTAMP:20260419T134913
CREATED:20250108T215951Z
LAST-MODIFIED:20250108T215951Z
UID:10002161-1777384800-1777397400@townofnewlebanon.com
SUMMARY:New Lebanon Community Center Open Hours
DESCRIPTION:
URL:https://townofnewlebanon.com/event/new-lebanon-community-center-open-hours/2026-04-28/
LOCATION:New Lebanon Community Center\, 523 US Route 20\, New Lebanon
CATEGORIES:community
END:VEVENT
BEGIN:VEVENT
DTSTART;TZID=America/New_York:20260429T140000
DTEND;TZID=America/New_York:20260429T173000
DTSTAMP:20260419T134913
CREATED:20250415T184745Z
LAST-MODIFIED:20250415T184745Z
UID:10005067-1777471200-1777483800@townofnewlebanon.com
SUMMARY:New Lebanon Community Center Open Hours
DESCRIPTION:
URL:https://townofnewlebanon.com/event/new-lebanon-community-center-open-hours-2/2026-04-29/
LOCATION:New Lebanon Community Center\, 523 US Route 20\, New Lebanon
CATEGORIES:community,General
END:VEVENT
BEGIN:VEVENT
DTSTART;TZID=America/New_York:20260429T191500
DTEND;TZID=America/New_York:20260429T203000
DTSTAMP:20260419T134913
CREATED:20260323T192950Z
LAST-MODIFIED:20260323T193320Z
UID:10006592-1777490100-1777494600@townofnewlebanon.com
SUMMARY:Yoga at the Community Center
DESCRIPTION:
URL:https://townofnewlebanon.com/event/yoga-at-the-community-center/2026-04-29/
LOCATION:New Lebanon Community Center\, 523 US Route 20\, New Lebanon
CATEGORIES:community
END:VEVENT
BEGIN:VEVENT
DTSTART;TZID=America/New_York:20260430T140000
DTEND;TZID=America/New_York:20260430T173000
DTSTAMP:20260419T134913
CREATED:20250108T220313Z
LAST-MODIFIED:20251023T151221Z
UID:10003206-1777557600-1777570200@townofnewlebanon.com
SUMMARY:New Lebanon Community Center Open Hours
DESCRIPTION:
URL:https://townofnewlebanon.com/event/new-lebanon-community-center-open-hours-3/2026-04-30/
LOCATION:New Lebanon Community Center\, 523 US Route 20\, New Lebanon
CATEGORIES:community
END:VEVENT
BEGIN:VEVENT
DTSTART;TZID=America/New_York:20260501T130000
DTEND;TZID=America/New_York:20260501T150000
DTSTAMP:20260419T134913
CREATED:20240406T213429Z
LAST-MODIFIED:20250226T163458Z
UID:10001510-1777640400-1777647600@townofnewlebanon.com
SUMMARY:Lebanon Valley Seniors Meeting
DESCRIPTION:
URL:https://townofnewlebanon.com/event/lebanon-valley-seniors-meeting-2/2026-05-01/
LOCATION:New Lebanon Community Center\, 523 US Route 20\, New Lebanon
CATEGORIES:community,General
END:VEVENT
BEGIN:VEVENT
DTSTART;TZID=America/New_York:20260502T080000
DTEND;TZID=America/New_York:20260502T170000
DTSTAMP:20260419T134913
CREATED:20260409T191735Z
LAST-MODIFIED:20260409T191735Z
UID:10006869-1777708800-1777741200@townofnewlebanon.com
SUMMARY:Private Party
DESCRIPTION:
URL:https://townofnewlebanon.com/event/private-party/
LOCATION:New Lebanon Community Center\, 523 US Route 20\, New Lebanon
CATEGORIES:community
END:VEVENT
BEGIN:VEVENT
DTSTART;TZID=America/New_York:20260502T170000
DTEND;TZID=America/New_York:20260502T200000
DTSTAMP:20260419T134913
CREATED:20250108T220435Z
LAST-MODIFIED:20250108T220521Z
UID:10003728-1777741200-1777752000@townofnewlebanon.com
SUMMARY:New Lebanon Community Center Open Hours
DESCRIPTION:
URL:https://townofnewlebanon.com/event/new-lebanon-community-center-open-hours-4/2026-05-02/
LOCATION:New Lebanon Community Center\, 523 US Route 20\, New Lebanon
CATEGORIES:community
END:VEVENT
BEGIN:VEVENT
DTSTART;TZID=America/New_York:20260503T110000
DTEND;TZID=America/New_York:20260503T140000
DTSTAMP:20260419T134913
CREATED:20250108T220607Z
LAST-MODIFIED:20260319T144103Z
UID:10004250-1777806000-1777816800@townofnewlebanon.com
SUMMARY:New Lebanon Community Center Open Hours
DESCRIPTION:
URL:https://townofnewlebanon.com/event/new-lebanon-community-center-open-hours-5/2026-05-03/
LOCATION:New Lebanon Community Center\, 523 US Route 20\, New Lebanon
CATEGORIES:community
END:VEVENT
END:VCALENDAR