BEGIN:VCALENDAR
VERSION:2.0
PRODID:-//Town of New Lebanon - ECPv6.15.20//NONSGML v1.0//EN
CALSCALE:GREGORIAN
METHOD:PUBLISH
X-WR-CALNAME:Town of New Lebanon
X-ORIGINAL-URL:https://townofnewlebanon.com
X-WR-CALDESC:Events for Town of New Lebanon
REFRESH-INTERVAL;VALUE=DURATION:PT1H
X-Robots-Tag:noindex
X-PUBLISHED-TTL:PT1H
BEGIN:VTIMEZONE
TZID:America/New_York
BEGIN:DAYLIGHT
TZOFFSETFROM:-0500
TZOFFSETTO:-0400
TZNAME:EDT
DTSTART:20260308T070000
END:DAYLIGHT
BEGIN:STANDARD
TZOFFSETFROM:-0400
TZOFFSETTO:-0500
TZNAME:EST
DTSTART:20261101T060000
END:STANDARD
BEGIN:DAYLIGHT
TZOFFSETFROM:-0500
TZOFFSETTO:-0400
TZNAME:EDT
DTSTART:20270314T070000
END:DAYLIGHT
BEGIN:STANDARD
TZOFFSETFROM:-0400
TZOFFSETTO:-0500
TZNAME:EST
DTSTART:20271107T060000
END:STANDARD
BEGIN:DAYLIGHT
TZOFFSETFROM:-0500
TZOFFSETTO:-0400
TZNAME:EDT
DTSTART:20280312T070000
END:DAYLIGHT
BEGIN:STANDARD
TZOFFSETFROM:-0400
TZOFFSETTO:-0500
TZNAME:EST
DTSTART:20281105T060000
END:STANDARD
END:VTIMEZONE
BEGIN:VEVENT
DTSTART;TZID=America/New_York:20270121T130000
DTEND;TZID=America/New_York:20270121T150000
DTSTAMP:20260422T184724
CREATED:20250102T212053Z
LAST-MODIFIED:20250102T212133Z
UID:10002048-1800536400-1800543600@townofnewlebanon.com
SUMMARY:Acoustic Jam
DESCRIPTION:
URL:https://townofnewlebanon.com/event/acoustic-jam/2027-01-21/
LOCATION:New Lebanon Community Center\, 523 US Route 20\, New Lebanon
CATEGORIES:community,General
END:VEVENT
BEGIN:VEVENT
DTSTART;TZID=America/New_York:20270120T191500
DTEND;TZID=America/New_York:20270120T203000
DTSTAMP:20260422T184724
CREATED:20260323T192950Z
LAST-MODIFIED:20260323T193320Z
UID:10006630-1800472500-1800477000@townofnewlebanon.com
SUMMARY:Yoga at the Community Center
DESCRIPTION:
URL:https://townofnewlebanon.com/event/yoga-at-the-community-center/2027-01-20/
LOCATION:New Lebanon Community Center\, 523 US Route 20\, New Lebanon
CATEGORIES:community
END:VEVENT
BEGIN:VEVENT
DTSTART;TZID=America/New_York:20270120T190000
DTEND;TZID=America/New_York:20270120T210000
DTSTAMP:20260422T184724
CREATED:20220626T170833Z
LAST-MODIFIED:20251113T145144Z
UID:10000285-1800471600-1800478800@townofnewlebanon.com
SUMMARY:Planning Board
DESCRIPTION:Also available via Live Stream – for link see PB Agendas and Documents page
URL:https://townofnewlebanon.com/event/planning-board-town-hall/2027-01-20/
LOCATION:Town Hall\, 14755 Route 22 North\, New Lebanon\, NY\, 12125\, United States
CATEGORIES:General
END:VEVENT
BEGIN:VEVENT
DTSTART;TZID=America/New_York:20270120T140000
DTEND;TZID=America/New_York:20270120T173000
DTSTAMP:20260422T184724
CREATED:20250415T184745Z
LAST-MODIFIED:20250415T184745Z
UID:10005105-1800453600-1800466200@townofnewlebanon.com
SUMMARY:New Lebanon Community Center Open Hours
DESCRIPTION:
URL:https://townofnewlebanon.com/event/new-lebanon-community-center-open-hours-2/2027-01-20/
LOCATION:New Lebanon Community Center\, 523 US Route 20\, New Lebanon
CATEGORIES:community,General
END:VEVENT
BEGIN:VEVENT
DTSTART;TZID=America/New_York:20270119T183000
DTEND;TZID=America/New_York:20270119T193000
DTSTAMP:20260422T184724
CREATED:20260319T150247Z
LAST-MODIFIED:20260319T150247Z
UID:10006531-1800383400-1800387000@townofnewlebanon.com
SUMMARY:Events Committee Meeting
DESCRIPTION:
URL:https://townofnewlebanon.com/event/events-committee-meeting/2027-01-19/
LOCATION:Town Hall\, 14755 Route 22 North\, New Lebanon\, NY\, 12125\, United States
CATEGORIES:General
END:VEVENT
BEGIN:VEVENT
DTSTART;TZID=America/New_York:20270119T170000
DTEND;TZID=America/New_York:20270119T180000
DTSTAMP:20260422T184724
CREATED:20240216T215703Z
LAST-MODIFIED:20260319T150413Z
UID:10006409-1800378000-1800381600@townofnewlebanon.com
SUMMARY:New Recreation Commission Meeting
DESCRIPTION:
URL:https://townofnewlebanon.com/event/recreation-commission-meeting/2027-01-19/
CATEGORIES:General
END:VEVENT
BEGIN:VEVENT
DTSTART;TZID=America/New_York:20270119T140000
DTEND;TZID=America/New_York:20270119T173000
DTSTAMP:20260422T184724
CREATED:20250108T215951Z
LAST-MODIFIED:20250108T215951Z
UID:10002199-1800367200-1800379800@townofnewlebanon.com
SUMMARY:New Lebanon Community Center Open Hours
DESCRIPTION:
URL:https://townofnewlebanon.com/event/new-lebanon-community-center-open-hours/2027-01-19/
LOCATION:New Lebanon Community Center\, 523 US Route 20\, New Lebanon
CATEGORIES:community
END:VEVENT
BEGIN:VEVENT
DTSTART;TZID=America/New_York:20270119T130000
DTEND;TZID=America/New_York:20270119T140000
DTSTAMP:20260422T184724
CREATED:20260311T164623Z
LAST-MODIFIED:20260311T164623Z
UID:10006244-1800363600-1800367200@townofnewlebanon.com
SUMMARY:Town Board Spec Meeting to Pay Highway Bills
DESCRIPTION:
URL:https://townofnewlebanon.com/event/town-board-spec-meeting-to-pay-highway-bills/2027-01-19/
LOCATION:Town Hall\, 14755 Route 22 North\, New Lebanon\, NY\, 12125\, United States
CATEGORIES:General
END:VEVENT
BEGIN:VEVENT
DTSTART;TZID=America/New_York:20270118T190000
DTEND;TZID=America/New_York:20270118T203000
DTSTAMP:20260422T184724
CREATED:20241210T200511Z
LAST-MODIFIED:20260319T142531Z
UID:10001990-1800298800-1800304200@townofnewlebanon.com
SUMMARY:Zoning Rewrite Committee (ZRC) meeting
DESCRIPTION:
URL:https://townofnewlebanon.com/event/zoning-rewrite-committee-zrc-meeting/2027-01-18/
LOCATION:Town Hall\, 14755 Route 22 North\, New Lebanon\, NY\, 12125\, United States
CATEGORIES:General
END:VEVENT
BEGIN:VEVENT
DTSTART;TZID=America/New_York:20270117T110000
DTEND;TZID=America/New_York:20270117T140000
DTSTAMP:20260422T184724
CREATED:20250108T220607Z
LAST-MODIFIED:20260319T144103Z
UID:10004287-1800183600-1800194400@townofnewlebanon.com
SUMMARY:New Lebanon Community Center Open Hours
DESCRIPTION:
URL:https://townofnewlebanon.com/event/new-lebanon-community-center-open-hours-5/2027-01-17/
LOCATION:New Lebanon Community Center\, 523 US Route 20\, New Lebanon
CATEGORIES:community
END:VEVENT
BEGIN:VEVENT
DTSTART;TZID=America/New_York:20270116T170000
DTEND;TZID=America/New_York:20270116T200000
DTSTAMP:20260422T184724
CREATED:20250108T220435Z
LAST-MODIFIED:20250108T220521Z
UID:10003765-1800118800-1800129600@townofnewlebanon.com
SUMMARY:New Lebanon Community Center Open Hours
DESCRIPTION:
URL:https://townofnewlebanon.com/event/new-lebanon-community-center-open-hours-4/2027-01-16/
LOCATION:New Lebanon Community Center\, 523 US Route 20\, New Lebanon
CATEGORIES:community
END:VEVENT
BEGIN:VEVENT
DTSTART;TZID=America/New_York:20270115T130000
DTEND;TZID=America/New_York:20270115T150000
DTSTAMP:20260422T184724
CREATED:20240406T213120Z
LAST-MODIFIED:20250113T220339Z
UID:10001461-1800018000-1800025200@townofnewlebanon.com
SUMMARY:Lebanon Valley Seniors Meeting
DESCRIPTION:
URL:https://townofnewlebanon.com/event/lebanon-valley-seniors-meeting/2027-01-15/
LOCATION:New Lebanon Community Center\, 523 US Route 20\, New Lebanon
CATEGORIES:community,General
END:VEVENT
BEGIN:VEVENT
DTSTART;TZID=America/New_York:20270114T140000
DTEND;TZID=America/New_York:20270114T173000
DTSTAMP:20260422T184724
CREATED:20250108T220313Z
LAST-MODIFIED:20251023T151221Z
UID:10003243-1799935200-1799947800@townofnewlebanon.com
SUMMARY:New Lebanon Community Center Open Hours
DESCRIPTION:
URL:https://townofnewlebanon.com/event/new-lebanon-community-center-open-hours-3/2027-01-14/
LOCATION:New Lebanon Community Center\, 523 US Route 20\, New Lebanon
CATEGORIES:community
END:VEVENT
BEGIN:VEVENT
DTSTART;TZID=America/New_York:20270113T191500
DTEND;TZID=America/New_York:20270113T203000
DTSTAMP:20260422T184724
CREATED:20260323T192950Z
LAST-MODIFIED:20260323T193320Z
UID:10006629-1799867700-1799872200@townofnewlebanon.com
SUMMARY:Yoga at the Community Center
DESCRIPTION:
URL:https://townofnewlebanon.com/event/yoga-at-the-community-center/2027-01-13/
LOCATION:New Lebanon Community Center\, 523 US Route 20\, New Lebanon
CATEGORIES:community
END:VEVENT
BEGIN:VEVENT
DTSTART;TZID=America/New_York:20270113T140000
DTEND;TZID=America/New_York:20270113T173000
DTSTAMP:20260422T184724
CREATED:20250415T184745Z
LAST-MODIFIED:20250415T184745Z
UID:10005104-1799848800-1799861400@townofnewlebanon.com
SUMMARY:New Lebanon Community Center Open Hours
DESCRIPTION:
URL:https://townofnewlebanon.com/event/new-lebanon-community-center-open-hours-2/2027-01-13/
LOCATION:New Lebanon Community Center\, 523 US Route 20\, New Lebanon
CATEGORIES:community,General
END:VEVENT
BEGIN:VEVENT
DTSTART;TZID=America/New_York:20270112T183000
DTEND;TZID=America/New_York:20270112T203000
DTSTAMP:20260422T184724
CREATED:20260103T220239Z
LAST-MODIFIED:20260311T165724Z
UID:10005656-1799778600-1799785800@townofnewlebanon.com
SUMMARY:Town Board Meeting
DESCRIPTION:
URL:https://townofnewlebanon.com/event/town-board-meeting-4/2027-01-12/
LOCATION:Town Hall\, 14755 Route 22 North\, New Lebanon\, NY\, 12125\, United States
CATEGORIES:General
END:VEVENT
BEGIN:VEVENT
DTSTART;TZID=America/New_York:20270112T140000
DTEND;TZID=America/New_York:20270112T173000
DTSTAMP:20260422T184724
CREATED:20250108T215951Z
LAST-MODIFIED:20250108T215951Z
UID:10002198-1799762400-1799775000@townofnewlebanon.com
SUMMARY:New Lebanon Community Center Open Hours
DESCRIPTION:
URL:https://townofnewlebanon.com/event/new-lebanon-community-center-open-hours/2027-01-12/
LOCATION:New Lebanon Community Center\, 523 US Route 20\, New Lebanon
CATEGORIES:community
END:VEVENT
BEGIN:VEVENT
DTSTART;TZID=America/New_York:20270112T130000
DTEND;TZID=America/New_York:20270112T140000
DTSTAMP:20260422T184724
CREATED:20260311T164623Z
LAST-MODIFIED:20260311T164623Z
UID:10006243-1799758800-1799762400@townofnewlebanon.com
SUMMARY:Town Board Spec Meeting to Pay Highway Bills
DESCRIPTION:
URL:https://townofnewlebanon.com/event/town-board-spec-meeting-to-pay-highway-bills/2027-01-12/
LOCATION:Town Hall\, 14755 Route 22 North\, New Lebanon\, NY\, 12125\, United States
CATEGORIES:General
END:VEVENT
BEGIN:VEVENT
DTSTART;TZID=America/New_York:20270110T110000
DTEND;TZID=America/New_York:20270110T140000
DTSTAMP:20260422T184724
CREATED:20250108T220607Z
LAST-MODIFIED:20260319T144103Z
UID:10004286-1799578800-1799589600@townofnewlebanon.com
SUMMARY:New Lebanon Community Center Open Hours
DESCRIPTION:
URL:https://townofnewlebanon.com/event/new-lebanon-community-center-open-hours-5/2027-01-10/
LOCATION:New Lebanon Community Center\, 523 US Route 20\, New Lebanon
CATEGORIES:community
END:VEVENT
BEGIN:VEVENT
DTSTART;TZID=America/New_York:20270109T170000
DTEND;TZID=America/New_York:20270109T200000
DTSTAMP:20260422T184724
CREATED:20250108T220435Z
LAST-MODIFIED:20250108T220521Z
UID:10003764-1799514000-1799524800@townofnewlebanon.com
SUMMARY:New Lebanon Community Center Open Hours
DESCRIPTION:
URL:https://townofnewlebanon.com/event/new-lebanon-community-center-open-hours-4/2027-01-09/
LOCATION:New Lebanon Community Center\, 523 US Route 20\, New Lebanon
CATEGORIES:community
END:VEVENT
BEGIN:VEVENT
DTSTART;TZID=America/New_York:20270107T140000
DTEND;TZID=America/New_York:20270107T173000
DTSTAMP:20260422T184724
CREATED:20250108T220313Z
LAST-MODIFIED:20251023T151221Z
UID:10003242-1799330400-1799343000@townofnewlebanon.com
SUMMARY:New Lebanon Community Center Open Hours
DESCRIPTION:
URL:https://townofnewlebanon.com/event/new-lebanon-community-center-open-hours-3/2027-01-07/
LOCATION:New Lebanon Community Center\, 523 US Route 20\, New Lebanon
CATEGORIES:community
END:VEVENT
BEGIN:VEVENT
DTSTART;TZID=America/New_York:20270106T191500
DTEND;TZID=America/New_York:20270106T203000
DTSTAMP:20260422T184724
CREATED:20260323T192950Z
LAST-MODIFIED:20260323T193320Z
UID:10006628-1799262900-1799267400@townofnewlebanon.com
SUMMARY:Yoga at the Community Center
DESCRIPTION:
URL:https://townofnewlebanon.com/event/yoga-at-the-community-center/2027-01-06/
LOCATION:New Lebanon Community Center\, 523 US Route 20\, New Lebanon
CATEGORIES:community
END:VEVENT
BEGIN:VEVENT
DTSTART;TZID=America/New_York:20270106T170000
DTEND;TZID=America/New_York:20270106T183000
DTSTAMP:20260422T184724
CREATED:20220626T161625Z
LAST-MODIFIED:20260320T194508Z
UID:10001622-1799254800-1799260200@townofnewlebanon.com
SUMMARY:CSC Meeting
DESCRIPTION:
URL:https://townofnewlebanon.com/event/csc-meeting-2022-08-03/2027-01-06/
LOCATION:Town Hall\, 14755 Route 22 North\, New Lebanon\, NY\, 12125\, United States
CATEGORIES:General
ATTACH;FMTTYPE=image/jpeg:https://townofnewlebanon.com/wp-content/uploads/2022/06/CSC_bronze-logo-with-NL-e1656592455471.jpeg
END:VEVENT
BEGIN:VEVENT
DTSTART;TZID=America/New_York:20270106T140000
DTEND;TZID=America/New_York:20270106T173000
DTSTAMP:20260422T184724
CREATED:20250415T184745Z
LAST-MODIFIED:20250415T184745Z
UID:10005103-1799244000-1799256600@townofnewlebanon.com
SUMMARY:New Lebanon Community Center Open Hours
DESCRIPTION:
URL:https://townofnewlebanon.com/event/new-lebanon-community-center-open-hours-2/2027-01-06/
LOCATION:New Lebanon Community Center\, 523 US Route 20\, New Lebanon
CATEGORIES:community,General
END:VEVENT
BEGIN:VEVENT
DTSTART;TZID=America/New_York:20270105T190000
DTEND;TZID=America/New_York:20270105T200000
DTSTAMP:20260422T184724
CREATED:20250325T153928Z
LAST-MODIFIED:20250923T165459Z
UID:10004898-1799175600-1799179200@townofnewlebanon.com
SUMMARY:ZBA Meeting
DESCRIPTION:Check if there is an agenda posted at: https://townofnewlebanon.com/building/ – \nThe Zoning Board of Appeals only meets if it has a case to review. If there is no agenda posted\, there is no meeting.
URL:https://townofnewlebanon.com/event/zba-meeting-if-needed/2027-01-05/
LOCATION:Town Hall\, 14755 Route 22 North\, New Lebanon\, NY\, 12125\, United States
CATEGORIES:General
END:VEVENT
BEGIN:VEVENT
DTSTART;TZID=America/New_York:20270105T140000
DTEND;TZID=America/New_York:20270105T173000
DTSTAMP:20260422T184724
CREATED:20250108T215951Z
LAST-MODIFIED:20250108T215951Z
UID:10002197-1799157600-1799170200@townofnewlebanon.com
SUMMARY:New Lebanon Community Center Open Hours
DESCRIPTION:
URL:https://townofnewlebanon.com/event/new-lebanon-community-center-open-hours/2027-01-05/
LOCATION:New Lebanon Community Center\, 523 US Route 20\, New Lebanon
CATEGORIES:community
END:VEVENT
BEGIN:VEVENT
DTSTART;TZID=America/New_York:20270105T130000
DTEND;TZID=America/New_York:20270105T140000
DTSTAMP:20260422T184724
CREATED:20260311T164623Z
LAST-MODIFIED:20260311T164623Z
UID:10006242-1799154000-1799157600@townofnewlebanon.com
SUMMARY:Town Board Spec Meeting to Pay Highway Bills
DESCRIPTION:
URL:https://townofnewlebanon.com/event/town-board-spec-meeting-to-pay-highway-bills/2027-01-05/
LOCATION:Town Hall\, 14755 Route 22 North\, New Lebanon\, NY\, 12125\, United States
CATEGORIES:General
END:VEVENT
BEGIN:VEVENT
DTSTART;TZID=America/New_York:20270104T170000
DTEND;TZID=America/New_York:20270104T183000
DTSTAMP:20260422T184724
CREATED:20260122T153503Z
LAST-MODIFIED:20260319T145031Z
UID:10006082-1799082000-1799087400@townofnewlebanon.com
SUMMARY:Conservation Advisory Council Meeting
DESCRIPTION:
URL:https://townofnewlebanon.com/event/conservation-advisory-committee-meeting/2027-01-04/
LOCATION:Town Hall\, 14755 Route 22 North\, New Lebanon\, NY\, 12125\, United States
END:VEVENT
BEGIN:VEVENT
DTSTART;TZID=America/New_York:20270103T110000
DTEND;TZID=America/New_York:20270103T140000
DTSTAMP:20260422T184724
CREATED:20250108T220607Z
LAST-MODIFIED:20260319T144103Z
UID:10004285-1798974000-1798984800@townofnewlebanon.com
SUMMARY:New Lebanon Community Center Open Hours
DESCRIPTION:
URL:https://townofnewlebanon.com/event/new-lebanon-community-center-open-hours-5/2027-01-03/
LOCATION:New Lebanon Community Center\, 523 US Route 20\, New Lebanon
CATEGORIES:community
END:VEVENT
BEGIN:VEVENT
DTSTART;TZID=America/New_York:20270102T170000
DTEND;TZID=America/New_York:20270102T200000
DTSTAMP:20260422T184724
CREATED:20250108T220435Z
LAST-MODIFIED:20250108T220521Z
UID:10003763-1798909200-1798920000@townofnewlebanon.com
SUMMARY:New Lebanon Community Center Open Hours
DESCRIPTION:
URL:https://townofnewlebanon.com/event/new-lebanon-community-center-open-hours-4/2027-01-02/
LOCATION:New Lebanon Community Center\, 523 US Route 20\, New Lebanon
CATEGORIES:community
END:VEVENT
END:VCALENDAR