BEGIN:VCALENDAR
VERSION:2.0
PRODID:-//Town of New Lebanon - ECPv6.15.20//NONSGML v1.0//EN
CALSCALE:GREGORIAN
METHOD:PUBLISH
X-WR-CALNAME:Town of New Lebanon
X-ORIGINAL-URL:https://townofnewlebanon.com
X-WR-CALDESC:Events for Town of New Lebanon
REFRESH-INTERVAL;VALUE=DURATION:PT1H
X-Robots-Tag:noindex
X-PUBLISHED-TTL:PT1H
BEGIN:VTIMEZONE
TZID:America/New_York
BEGIN:DAYLIGHT
TZOFFSETFROM:-0500
TZOFFSETTO:-0400
TZNAME:EDT
DTSTART:20250309T070000
END:DAYLIGHT
BEGIN:STANDARD
TZOFFSETFROM:-0400
TZOFFSETTO:-0500
TZNAME:EST
DTSTART:20251102T060000
END:STANDARD
BEGIN:DAYLIGHT
TZOFFSETFROM:-0500
TZOFFSETTO:-0400
TZNAME:EDT
DTSTART:20260308T070000
END:DAYLIGHT
BEGIN:STANDARD
TZOFFSETFROM:-0400
TZOFFSETTO:-0500
TZNAME:EST
DTSTART:20261101T060000
END:STANDARD
BEGIN:DAYLIGHT
TZOFFSETFROM:-0500
TZOFFSETTO:-0400
TZNAME:EDT
DTSTART:20270314T070000
END:DAYLIGHT
BEGIN:STANDARD
TZOFFSETFROM:-0400
TZOFFSETTO:-0500
TZNAME:EST
DTSTART:20271107T060000
END:STANDARD
BEGIN:DAYLIGHT
TZOFFSETFROM:-0500
TZOFFSETTO:-0400
TZNAME:EDT
DTSTART:20280312T070000
END:DAYLIGHT
BEGIN:STANDARD
TZOFFSETFROM:-0400
TZOFFSETTO:-0500
TZNAME:EST
DTSTART:20281105T060000
END:STANDARD
END:VTIMEZONE
BEGIN:VEVENT
DTSTART;TZID=America/New_York:20261213T110000
DTEND;TZID=America/New_York:20261213T140000
DTSTAMP:20260421T085205
CREATED:20250108T220607Z
LAST-MODIFIED:20260319T144103Z
UID:10004282-1797159600-1797170400@townofnewlebanon.com
SUMMARY:New Lebanon Community Center Open Hours
DESCRIPTION:
URL:https://townofnewlebanon.com/event/new-lebanon-community-center-open-hours-5/2026-12-13/
LOCATION:New Lebanon Community Center\, 523 US Route 20\, New Lebanon
CATEGORIES:community
END:VEVENT
BEGIN:VEVENT
DTSTART;TZID=America/New_York:20261215T130000
DTEND;TZID=America/New_York:20261215T140000
DTSTAMP:20260421T085205
CREATED:20260311T164623Z
LAST-MODIFIED:20260311T164623Z
UID:10006239-1797339600-1797343200@townofnewlebanon.com
SUMMARY:Town Board Spec Meeting to Pay Highway Bills
DESCRIPTION:
URL:https://townofnewlebanon.com/event/town-board-spec-meeting-to-pay-highway-bills/2026-12-15/
LOCATION:Town Hall\, 14755 Route 22 North\, New Lebanon\, NY\, 12125\, United States
CATEGORIES:General
END:VEVENT
BEGIN:VEVENT
DTSTART;TZID=America/New_York:20261215T140000
DTEND;TZID=America/New_York:20261215T173000
DTSTAMP:20260421T085205
CREATED:20250108T215951Z
LAST-MODIFIED:20250108T215951Z
UID:10002194-1797343200-1797355800@townofnewlebanon.com
SUMMARY:New Lebanon Community Center Open Hours
DESCRIPTION:
URL:https://townofnewlebanon.com/event/new-lebanon-community-center-open-hours/2026-12-15/
LOCATION:New Lebanon Community Center\, 523 US Route 20\, New Lebanon
CATEGORIES:community
END:VEVENT
BEGIN:VEVENT
DTSTART;TZID=America/New_York:20261215T170000
DTEND;TZID=America/New_York:20261215T180000
DTSTAMP:20260421T085205
CREATED:20240216T215703Z
LAST-MODIFIED:20260319T150413Z
UID:10006408-1797354000-1797357600@townofnewlebanon.com
SUMMARY:New Recreation Commission Meeting
DESCRIPTION:
URL:https://townofnewlebanon.com/event/recreation-commission-meeting/2026-12-15/
CATEGORIES:General
END:VEVENT
BEGIN:VEVENT
DTSTART;TZID=America/New_York:20261215T183000
DTEND;TZID=America/New_York:20261215T193000
DTSTAMP:20260421T085205
CREATED:20260319T150247Z
LAST-MODIFIED:20260319T150247Z
UID:10006530-1797359400-1797363000@townofnewlebanon.com
SUMMARY:Events Committee Meeting
DESCRIPTION:
URL:https://townofnewlebanon.com/event/events-committee-meeting/2026-12-15/
LOCATION:Town Hall\, 14755 Route 22 North\, New Lebanon\, NY\, 12125\, United States
CATEGORIES:General
END:VEVENT
BEGIN:VEVENT
DTSTART;TZID=America/New_York:20261216T140000
DTEND;TZID=America/New_York:20261216T173000
DTSTAMP:20260421T085205
CREATED:20250415T184745Z
LAST-MODIFIED:20250415T184745Z
UID:10005100-1797429600-1797442200@townofnewlebanon.com
SUMMARY:New Lebanon Community Center Open Hours
DESCRIPTION:
URL:https://townofnewlebanon.com/event/new-lebanon-community-center-open-hours-2/2026-12-16/
LOCATION:New Lebanon Community Center\, 523 US Route 20\, New Lebanon
CATEGORIES:community,General
END:VEVENT
BEGIN:VEVENT
DTSTART;TZID=America/New_York:20261216T190000
DTEND;TZID=America/New_York:20261216T210000
DTSTAMP:20260421T085205
CREATED:20220626T170833Z
LAST-MODIFIED:20251113T145144Z
UID:10000284-1797447600-1797454800@townofnewlebanon.com
SUMMARY:Planning Board
DESCRIPTION:Also available via Live Stream – for link see PB Agendas and Documents page
URL:https://townofnewlebanon.com/event/planning-board-town-hall/2026-12-16/
LOCATION:Town Hall\, 14755 Route 22 North\, New Lebanon\, NY\, 12125\, United States
CATEGORIES:General
END:VEVENT
BEGIN:VEVENT
DTSTART;TZID=America/New_York:20261216T191500
DTEND;TZID=America/New_York:20261216T203000
DTSTAMP:20260421T085205
CREATED:20260323T192950Z
LAST-MODIFIED:20260323T193320Z
UID:10006625-1797448500-1797453000@townofnewlebanon.com
SUMMARY:Yoga at the Community Center
DESCRIPTION:
URL:https://townofnewlebanon.com/event/yoga-at-the-community-center/2026-12-16/
LOCATION:New Lebanon Community Center\, 523 US Route 20\, New Lebanon
CATEGORIES:community
END:VEVENT
BEGIN:VEVENT
DTSTART;TZID=America/New_York:20261217T130000
DTEND;TZID=America/New_York:20261217T150000
DTSTAMP:20260421T085205
CREATED:20250102T212053Z
LAST-MODIFIED:20250102T212133Z
UID:10002047-1797512400-1797519600@townofnewlebanon.com
SUMMARY:Acoustic Jam
DESCRIPTION:
URL:https://townofnewlebanon.com/event/acoustic-jam/2026-12-17/
LOCATION:New Lebanon Community Center\, 523 US Route 20\, New Lebanon
CATEGORIES:community,General
END:VEVENT
BEGIN:VEVENT
DTSTART;TZID=America/New_York:20261217T140000
DTEND;TZID=America/New_York:20261217T173000
DTSTAMP:20260421T085205
CREATED:20250108T220313Z
LAST-MODIFIED:20251023T151221Z
UID:10003239-1797516000-1797528600@townofnewlebanon.com
SUMMARY:New Lebanon Community Center Open Hours
DESCRIPTION:
URL:https://townofnewlebanon.com/event/new-lebanon-community-center-open-hours-3/2026-12-17/
LOCATION:New Lebanon Community Center\, 523 US Route 20\, New Lebanon
CATEGORIES:community
END:VEVENT
BEGIN:VEVENT
DTSTART;TZID=America/New_York:20261218T130000
DTEND;TZID=America/New_York:20261218T150000
DTSTAMP:20260421T085205
CREATED:20240406T213120Z
LAST-MODIFIED:20250113T220339Z
UID:10001460-1797598800-1797606000@townofnewlebanon.com
SUMMARY:Lebanon Valley Seniors Meeting
DESCRIPTION:
URL:https://townofnewlebanon.com/event/lebanon-valley-seniors-meeting/2026-12-18/
LOCATION:New Lebanon Community Center\, 523 US Route 20\, New Lebanon
CATEGORIES:community,General
END:VEVENT
BEGIN:VEVENT
DTSTART;TZID=America/New_York:20261219T170000
DTEND;TZID=America/New_York:20261219T200000
DTSTAMP:20260421T085205
CREATED:20250108T220435Z
LAST-MODIFIED:20250108T220521Z
UID:10003761-1797699600-1797710400@townofnewlebanon.com
SUMMARY:New Lebanon Community Center Open Hours
DESCRIPTION:
URL:https://townofnewlebanon.com/event/new-lebanon-community-center-open-hours-4/2026-12-19/
LOCATION:New Lebanon Community Center\, 523 US Route 20\, New Lebanon
CATEGORIES:community
END:VEVENT
BEGIN:VEVENT
DTSTART;TZID=America/New_York:20261220T110000
DTEND;TZID=America/New_York:20261220T140000
DTSTAMP:20260421T085205
CREATED:20250108T220607Z
LAST-MODIFIED:20260319T144103Z
UID:10004283-1797764400-1797775200@townofnewlebanon.com
SUMMARY:New Lebanon Community Center Open Hours
DESCRIPTION:
URL:https://townofnewlebanon.com/event/new-lebanon-community-center-open-hours-5/2026-12-20/
LOCATION:New Lebanon Community Center\, 523 US Route 20\, New Lebanon
CATEGORIES:community
END:VEVENT
BEGIN:VEVENT
DTSTART;TZID=America/New_York:20261221T190000
DTEND;TZID=America/New_York:20261221T203000
DTSTAMP:20260421T085205
CREATED:20241210T200511Z
LAST-MODIFIED:20260319T142531Z
UID:10005378-1797879600-1797885000@townofnewlebanon.com
SUMMARY:Zoning Rewrite Committee (ZRC) meeting
DESCRIPTION:
URL:https://townofnewlebanon.com/event/zoning-rewrite-committee-zrc-meeting/2026-12-21/
LOCATION:Town Hall\, 14755 Route 22 North\, New Lebanon\, NY\, 12125\, United States
CATEGORIES:General
END:VEVENT
BEGIN:VEVENT
DTSTART;TZID=America/New_York:20261222T130000
DTEND;TZID=America/New_York:20261222T140000
DTSTAMP:20260421T085205
CREATED:20260311T164623Z
LAST-MODIFIED:20260311T164623Z
UID:10006240-1797944400-1797948000@townofnewlebanon.com
SUMMARY:Town Board Spec Meeting to Pay Highway Bills
DESCRIPTION:
URL:https://townofnewlebanon.com/event/town-board-spec-meeting-to-pay-highway-bills/2026-12-22/
LOCATION:Town Hall\, 14755 Route 22 North\, New Lebanon\, NY\, 12125\, United States
CATEGORIES:General
END:VEVENT
BEGIN:VEVENT
DTSTART;TZID=America/New_York:20261222T140000
DTEND;TZID=America/New_York:20261222T173000
DTSTAMP:20260421T085205
CREATED:20250108T215951Z
LAST-MODIFIED:20250108T215951Z
UID:10002195-1797948000-1797960600@townofnewlebanon.com
SUMMARY:New Lebanon Community Center Open Hours
DESCRIPTION:
URL:https://townofnewlebanon.com/event/new-lebanon-community-center-open-hours/2026-12-22/
LOCATION:New Lebanon Community Center\, 523 US Route 20\, New Lebanon
CATEGORIES:community
END:VEVENT
BEGIN:VEVENT
DTSTART;TZID=America/New_York:20261223T140000
DTEND;TZID=America/New_York:20261223T173000
DTSTAMP:20260421T085205
CREATED:20250415T184745Z
LAST-MODIFIED:20250415T184745Z
UID:10005101-1798034400-1798047000@townofnewlebanon.com
SUMMARY:New Lebanon Community Center Open Hours
DESCRIPTION:
URL:https://townofnewlebanon.com/event/new-lebanon-community-center-open-hours-2/2026-12-23/
LOCATION:New Lebanon Community Center\, 523 US Route 20\, New Lebanon
CATEGORIES:community,General
END:VEVENT
BEGIN:VEVENT
DTSTART;TZID=America/New_York:20261223T191500
DTEND;TZID=America/New_York:20261223T203000
DTSTAMP:20260421T085205
CREATED:20260323T192950Z
LAST-MODIFIED:20260323T193320Z
UID:10006626-1798053300-1798057800@townofnewlebanon.com
SUMMARY:Yoga at the Community Center
DESCRIPTION:
URL:https://townofnewlebanon.com/event/yoga-at-the-community-center/2026-12-23/
LOCATION:New Lebanon Community Center\, 523 US Route 20\, New Lebanon
CATEGORIES:community
END:VEVENT
BEGIN:VEVENT
DTSTART;TZID=America/New_York:20261224T140000
DTEND;TZID=America/New_York:20261224T173000
DTSTAMP:20260421T085205
CREATED:20250108T220313Z
LAST-MODIFIED:20251023T151221Z
UID:10003240-1798120800-1798133400@townofnewlebanon.com
SUMMARY:New Lebanon Community Center Open Hours
DESCRIPTION:
URL:https://townofnewlebanon.com/event/new-lebanon-community-center-open-hours-3/2026-12-24/
LOCATION:New Lebanon Community Center\, 523 US Route 20\, New Lebanon
CATEGORIES:community
END:VEVENT
BEGIN:VEVENT
DTSTART;VALUE=DATE:20261225
DTEND;VALUE=DATE:20261226
DTSTAMP:20260421T085205
CREATED:20241022T122037Z
LAST-MODIFIED:20241022T122037Z
UID:10001850-1798156800-1798243199@townofnewlebanon.com
SUMMARY:Christmas - Town Hall closed
DESCRIPTION:
URL:https://townofnewlebanon.com/event/christmas-town-hall-closed/2026-12-25/
CATEGORIES:General
END:VEVENT
BEGIN:VEVENT
DTSTART;TZID=America/New_York:20261226T170000
DTEND;TZID=America/New_York:20261226T200000
DTSTAMP:20260421T085205
CREATED:20250108T220435Z
LAST-MODIFIED:20250108T220521Z
UID:10003762-1798304400-1798315200@townofnewlebanon.com
SUMMARY:New Lebanon Community Center Open Hours
DESCRIPTION:
URL:https://townofnewlebanon.com/event/new-lebanon-community-center-open-hours-4/2026-12-26/
LOCATION:New Lebanon Community Center\, 523 US Route 20\, New Lebanon
CATEGORIES:community
END:VEVENT
BEGIN:VEVENT
DTSTART;TZID=America/New_York:20261227T110000
DTEND;TZID=America/New_York:20261227T140000
DTSTAMP:20260421T085205
CREATED:20250108T220607Z
LAST-MODIFIED:20260319T144103Z
UID:10004284-1798369200-1798380000@townofnewlebanon.com
SUMMARY:New Lebanon Community Center Open Hours
DESCRIPTION:
URL:https://townofnewlebanon.com/event/new-lebanon-community-center-open-hours-5/2026-12-27/
LOCATION:New Lebanon Community Center\, 523 US Route 20\, New Lebanon
CATEGORIES:community
END:VEVENT
BEGIN:VEVENT
DTSTART;TZID=America/New_York:20261228T170000
DTEND;TZID=America/New_York:20261228T183000
DTSTAMP:20260421T085205
CREATED:20250228T173518Z
LAST-MODIFIED:20250827T130442Z
UID:10005426-1798477200-1798482600@townofnewlebanon.com
SUMMARY:LVHS Meeting
DESCRIPTION:
URL:https://townofnewlebanon.com/event/lvhs-meeting-town-hall-2/2026-12-28/
LOCATION:Town Hall\, 14755 Route 22 North\, New Lebanon\, NY\, 12125\, United States
CATEGORIES:General
END:VEVENT
BEGIN:VEVENT
DTSTART;TZID=America/New_York:20261229T130000
DTEND;TZID=America/New_York:20261229T140000
DTSTAMP:20260421T085205
CREATED:20260311T164623Z
LAST-MODIFIED:20260311T164623Z
UID:10006241-1798549200-1798552800@townofnewlebanon.com
SUMMARY:Town Board Spec Meeting to Pay Highway Bills
DESCRIPTION:
URL:https://townofnewlebanon.com/event/town-board-spec-meeting-to-pay-highway-bills/2026-12-29/
LOCATION:Town Hall\, 14755 Route 22 North\, New Lebanon\, NY\, 12125\, United States
CATEGORIES:General
END:VEVENT
BEGIN:VEVENT
DTSTART;TZID=America/New_York:20261229T140000
DTEND;TZID=America/New_York:20261229T173000
DTSTAMP:20260421T085205
CREATED:20250108T215951Z
LAST-MODIFIED:20250108T215951Z
UID:10002196-1798552800-1798565400@townofnewlebanon.com
SUMMARY:New Lebanon Community Center Open Hours
DESCRIPTION:
URL:https://townofnewlebanon.com/event/new-lebanon-community-center-open-hours/2026-12-29/
LOCATION:New Lebanon Community Center\, 523 US Route 20\, New Lebanon
CATEGORIES:community
END:VEVENT
BEGIN:VEVENT
DTSTART;TZID=America/New_York:20261230T140000
DTEND;TZID=America/New_York:20261230T173000
DTSTAMP:20260421T085205
CREATED:20250415T184745Z
LAST-MODIFIED:20250415T184745Z
UID:10005102-1798639200-1798651800@townofnewlebanon.com
SUMMARY:New Lebanon Community Center Open Hours
DESCRIPTION:
URL:https://townofnewlebanon.com/event/new-lebanon-community-center-open-hours-2/2026-12-30/
LOCATION:New Lebanon Community Center\, 523 US Route 20\, New Lebanon
CATEGORIES:community,General
END:VEVENT
BEGIN:VEVENT
DTSTART;TZID=America/New_York:20261230T191500
DTEND;TZID=America/New_York:20261230T203000
DTSTAMP:20260421T085205
CREATED:20260323T192950Z
LAST-MODIFIED:20260323T193320Z
UID:10006627-1798658100-1798662600@townofnewlebanon.com
SUMMARY:Yoga at the Community Center
DESCRIPTION:
URL:https://townofnewlebanon.com/event/yoga-at-the-community-center/2026-12-30/
LOCATION:New Lebanon Community Center\, 523 US Route 20\, New Lebanon
CATEGORIES:community
END:VEVENT
BEGIN:VEVENT
DTSTART;TZID=America/New_York:20261231T140000
DTEND;TZID=America/New_York:20261231T173000
DTSTAMP:20260421T085205
CREATED:20250108T220313Z
LAST-MODIFIED:20251023T151221Z
UID:10003241-1798725600-1798738200@townofnewlebanon.com
SUMMARY:New Lebanon Community Center Open Hours
DESCRIPTION:
URL:https://townofnewlebanon.com/event/new-lebanon-community-center-open-hours-3/2026-12-31/
LOCATION:New Lebanon Community Center\, 523 US Route 20\, New Lebanon
CATEGORIES:community
END:VEVENT
BEGIN:VEVENT
DTSTART;VALUE=DATE:20270101
DTEND;VALUE=DATE:20270102
DTSTAMP:20260421T085205
CREATED:20241022T122126Z
LAST-MODIFIED:20241022T122126Z
UID:10001855-1798761600-1798847999@townofnewlebanon.com
SUMMARY:New Year's Day - Town Hall closed
DESCRIPTION:
URL:https://townofnewlebanon.com/event/new-years-day-town-hall-closed/2027-01-01/
CATEGORIES:General
END:VEVENT
BEGIN:VEVENT
DTSTART;TZID=America/New_York:20270101T130000
DTEND;TZID=America/New_York:20270101T150000
DTSTAMP:20260421T085205
CREATED:20240406T213429Z
LAST-MODIFIED:20250226T163458Z
UID:10001518-1798808400-1798815600@townofnewlebanon.com
SUMMARY:Lebanon Valley Seniors Meeting
DESCRIPTION:
URL:https://townofnewlebanon.com/event/lebanon-valley-seniors-meeting-2/2027-01-01/
LOCATION:New Lebanon Community Center\, 523 US Route 20\, New Lebanon
CATEGORIES:community,General
END:VEVENT
END:VCALENDAR