BEGIN:VCALENDAR
VERSION:2.0
PRODID:-//Town of New Lebanon - ECPv6.15.20//NONSGML v1.0//EN
CALSCALE:GREGORIAN
METHOD:PUBLISH
X-WR-CALNAME:Town of New Lebanon
X-ORIGINAL-URL:https://townofnewlebanon.com
X-WR-CALDESC:Events for Town of New Lebanon
REFRESH-INTERVAL;VALUE=DURATION:PT1H
X-Robots-Tag:noindex
X-PUBLISHED-TTL:PT1H
BEGIN:VTIMEZONE
TZID:America/New_York
BEGIN:DAYLIGHT
TZOFFSETFROM:-0500
TZOFFSETTO:-0400
TZNAME:EDT
DTSTART:20250309T070000
END:DAYLIGHT
BEGIN:STANDARD
TZOFFSETFROM:-0400
TZOFFSETTO:-0500
TZNAME:EST
DTSTART:20251102T060000
END:STANDARD
BEGIN:DAYLIGHT
TZOFFSETFROM:-0500
TZOFFSETTO:-0400
TZNAME:EDT
DTSTART:20260308T070000
END:DAYLIGHT
BEGIN:STANDARD
TZOFFSETFROM:-0400
TZOFFSETTO:-0500
TZNAME:EST
DTSTART:20261101T060000
END:STANDARD
BEGIN:DAYLIGHT
TZOFFSETFROM:-0500
TZOFFSETTO:-0400
TZNAME:EDT
DTSTART:20270314T070000
END:DAYLIGHT
BEGIN:STANDARD
TZOFFSETFROM:-0400
TZOFFSETTO:-0500
TZNAME:EST
DTSTART:20271107T060000
END:STANDARD
END:VTIMEZONE
BEGIN:VEVENT
DTSTART;TZID=America/New_York:20261015T130000
DTEND;TZID=America/New_York:20261015T150000
DTSTAMP:20260421T005344
CREATED:20250102T212053Z
LAST-MODIFIED:20250102T212133Z
UID:10002045-1792069200-1792076400@townofnewlebanon.com
SUMMARY:Acoustic Jam
DESCRIPTION:
URL:https://townofnewlebanon.com/event/acoustic-jam/2026-10-15/
LOCATION:New Lebanon Community Center\, 523 US Route 20\, New Lebanon
CATEGORIES:community,General
END:VEVENT
BEGIN:VEVENT
DTSTART;TZID=America/New_York:20261015T140000
DTEND;TZID=America/New_York:20261015T173000
DTSTAMP:20260421T005344
CREATED:20250108T220313Z
LAST-MODIFIED:20251023T151221Z
UID:10003230-1792072800-1792085400@townofnewlebanon.com
SUMMARY:New Lebanon Community Center Open Hours
DESCRIPTION:
URL:https://townofnewlebanon.com/event/new-lebanon-community-center-open-hours-3/2026-10-15/
LOCATION:New Lebanon Community Center\, 523 US Route 20\, New Lebanon
CATEGORIES:community
END:VEVENT
BEGIN:VEVENT
DTSTART;TZID=America/New_York:20261016T130000
DTEND;TZID=America/New_York:20261016T150000
DTSTAMP:20260421T005344
CREATED:20240406T213120Z
LAST-MODIFIED:20250113T220339Z
UID:10001458-1792155600-1792162800@townofnewlebanon.com
SUMMARY:Lebanon Valley Seniors Meeting
DESCRIPTION:
URL:https://townofnewlebanon.com/event/lebanon-valley-seniors-meeting/2026-10-16/
LOCATION:New Lebanon Community Center\, 523 US Route 20\, New Lebanon
CATEGORIES:community,General
END:VEVENT
BEGIN:VEVENT
DTSTART;TZID=America/New_York:20261017T170000
DTEND;TZID=America/New_York:20261017T200000
DTSTAMP:20260421T005344
CREATED:20250108T220435Z
LAST-MODIFIED:20250108T220521Z
UID:10003752-1792256400-1792267200@townofnewlebanon.com
SUMMARY:New Lebanon Community Center Open Hours
DESCRIPTION:
URL:https://townofnewlebanon.com/event/new-lebanon-community-center-open-hours-4/2026-10-17/
LOCATION:New Lebanon Community Center\, 523 US Route 20\, New Lebanon
CATEGORIES:community
END:VEVENT
BEGIN:VEVENT
DTSTART;TZID=America/New_York:20261018T110000
DTEND;TZID=America/New_York:20261018T140000
DTSTAMP:20260421T005344
CREATED:20250108T220607Z
LAST-MODIFIED:20260319T144103Z
UID:10004274-1792321200-1792332000@townofnewlebanon.com
SUMMARY:New Lebanon Community Center Open Hours
DESCRIPTION:
URL:https://townofnewlebanon.com/event/new-lebanon-community-center-open-hours-5/2026-10-18/
LOCATION:New Lebanon Community Center\, 523 US Route 20\, New Lebanon
CATEGORIES:community
END:VEVENT
BEGIN:VEVENT
DTSTART;TZID=America/New_York:20261019T190000
DTEND;TZID=America/New_York:20261019T203000
DTSTAMP:20260421T005344
CREATED:20241210T200511Z
LAST-MODIFIED:20260319T142531Z
UID:10005377-1792436400-1792441800@townofnewlebanon.com
SUMMARY:Zoning Rewrite Committee (ZRC) meeting
DESCRIPTION:
URL:https://townofnewlebanon.com/event/zoning-rewrite-committee-zrc-meeting/2026-10-19/
LOCATION:Town Hall\, 14755 Route 22 North\, New Lebanon\, NY\, 12125\, United States
CATEGORIES:General
END:VEVENT
BEGIN:VEVENT
DTSTART;TZID=America/New_York:20261020T130000
DTEND;TZID=America/New_York:20261020T140000
DTSTAMP:20260421T005344
CREATED:20260311T164623Z
LAST-MODIFIED:20260311T164623Z
UID:10006231-1792501200-1792504800@townofnewlebanon.com
SUMMARY:Town Board Spec Meeting to Pay Highway Bills
DESCRIPTION:
URL:https://townofnewlebanon.com/event/town-board-spec-meeting-to-pay-highway-bills/2026-10-20/
LOCATION:Town Hall\, 14755 Route 22 North\, New Lebanon\, NY\, 12125\, United States
CATEGORIES:General
END:VEVENT
BEGIN:VEVENT
DTSTART;TZID=America/New_York:20261020T140000
DTEND;TZID=America/New_York:20261020T173000
DTSTAMP:20260421T005344
CREATED:20250108T215951Z
LAST-MODIFIED:20250108T215951Z
UID:10002186-1792504800-1792517400@townofnewlebanon.com
SUMMARY:New Lebanon Community Center Open Hours
DESCRIPTION:
URL:https://townofnewlebanon.com/event/new-lebanon-community-center-open-hours/2026-10-20/
LOCATION:New Lebanon Community Center\, 523 US Route 20\, New Lebanon
CATEGORIES:community
END:VEVENT
BEGIN:VEVENT
DTSTART;TZID=America/New_York:20261020T170000
DTEND;TZID=America/New_York:20261020T180000
DTSTAMP:20260421T005344
CREATED:20240216T215703Z
LAST-MODIFIED:20260319T150413Z
UID:10006406-1792515600-1792519200@townofnewlebanon.com
SUMMARY:New Recreation Commission Meeting
DESCRIPTION:
URL:https://townofnewlebanon.com/event/recreation-commission-meeting/2026-10-20/
CATEGORIES:General
END:VEVENT
BEGIN:VEVENT
DTSTART;TZID=America/New_York:20261020T183000
DTEND;TZID=America/New_York:20261020T193000
DTSTAMP:20260421T005344
CREATED:20260319T150247Z
LAST-MODIFIED:20260319T150247Z
UID:10006528-1792521000-1792524600@townofnewlebanon.com
SUMMARY:Events Committee Meeting
DESCRIPTION:
URL:https://townofnewlebanon.com/event/events-committee-meeting/2026-10-20/
LOCATION:Town Hall\, 14755 Route 22 North\, New Lebanon\, NY\, 12125\, United States
CATEGORIES:General
END:VEVENT
BEGIN:VEVENT
DTSTART;TZID=America/New_York:20261021T140000
DTEND;TZID=America/New_York:20261021T173000
DTSTAMP:20260421T005344
CREATED:20250415T184745Z
LAST-MODIFIED:20250415T184745Z
UID:10005092-1792591200-1792603800@townofnewlebanon.com
SUMMARY:New Lebanon Community Center Open Hours
DESCRIPTION:
URL:https://townofnewlebanon.com/event/new-lebanon-community-center-open-hours-2/2026-10-21/
LOCATION:New Lebanon Community Center\, 523 US Route 20\, New Lebanon
CATEGORIES:community,General
END:VEVENT
BEGIN:VEVENT
DTSTART;TZID=America/New_York:20261021T190000
DTEND;TZID=America/New_York:20261021T210000
DTSTAMP:20260421T005344
CREATED:20220626T170833Z
LAST-MODIFIED:20251113T145144Z
UID:10000282-1792609200-1792616400@townofnewlebanon.com
SUMMARY:Planning Board
DESCRIPTION:Also available via Live Stream – for link see PB Agendas and Documents page
URL:https://townofnewlebanon.com/event/planning-board-town-hall/2026-10-21/
LOCATION:Town Hall\, 14755 Route 22 North\, New Lebanon\, NY\, 12125\, United States
CATEGORIES:General
END:VEVENT
BEGIN:VEVENT
DTSTART;TZID=America/New_York:20261021T191500
DTEND;TZID=America/New_York:20261021T203000
DTSTAMP:20260421T005344
CREATED:20260323T192950Z
LAST-MODIFIED:20260323T193320Z
UID:10006617-1792610100-1792614600@townofnewlebanon.com
SUMMARY:Yoga at the Community Center
DESCRIPTION:
URL:https://townofnewlebanon.com/event/yoga-at-the-community-center/2026-10-21/
LOCATION:New Lebanon Community Center\, 523 US Route 20\, New Lebanon
CATEGORIES:community
END:VEVENT
BEGIN:VEVENT
DTSTART;TZID=America/New_York:20261022T140000
DTEND;TZID=America/New_York:20261022T173000
DTSTAMP:20260421T005344
CREATED:20250108T220313Z
LAST-MODIFIED:20251023T151221Z
UID:10003231-1792677600-1792690200@townofnewlebanon.com
SUMMARY:New Lebanon Community Center Open Hours
DESCRIPTION:
URL:https://townofnewlebanon.com/event/new-lebanon-community-center-open-hours-3/2026-10-22/
LOCATION:New Lebanon Community Center\, 523 US Route 20\, New Lebanon
CATEGORIES:community
END:VEVENT
BEGIN:VEVENT
DTSTART;TZID=America/New_York:20261024T170000
DTEND;TZID=America/New_York:20261024T200000
DTSTAMP:20260421T005344
CREATED:20250108T220435Z
LAST-MODIFIED:20250108T220521Z
UID:10003753-1792861200-1792872000@townofnewlebanon.com
SUMMARY:New Lebanon Community Center Open Hours
DESCRIPTION:
URL:https://townofnewlebanon.com/event/new-lebanon-community-center-open-hours-4/2026-10-24/
LOCATION:New Lebanon Community Center\, 523 US Route 20\, New Lebanon
CATEGORIES:community
END:VEVENT
BEGIN:VEVENT
DTSTART;TZID=America/New_York:20261025T110000
DTEND;TZID=America/New_York:20261025T140000
DTSTAMP:20260421T005344
CREATED:20250108T220607Z
LAST-MODIFIED:20260319T144103Z
UID:10004275-1792926000-1792936800@townofnewlebanon.com
SUMMARY:New Lebanon Community Center Open Hours
DESCRIPTION:
URL:https://townofnewlebanon.com/event/new-lebanon-community-center-open-hours-5/2026-10-25/
LOCATION:New Lebanon Community Center\, 523 US Route 20\, New Lebanon
CATEGORIES:community
END:VEVENT
BEGIN:VEVENT
DTSTART;TZID=America/New_York:20261026T170000
DTEND;TZID=America/New_York:20261026T183000
DTSTAMP:20260421T005344
CREATED:20250228T173518Z
LAST-MODIFIED:20250827T130442Z
UID:10005424-1793034000-1793039400@townofnewlebanon.com
SUMMARY:LVHS Meeting
DESCRIPTION:
URL:https://townofnewlebanon.com/event/lvhs-meeting-town-hall-2/2026-10-26/
LOCATION:Town Hall\, 14755 Route 22 North\, New Lebanon\, NY\, 12125\, United States
CATEGORIES:General
END:VEVENT
BEGIN:VEVENT
DTSTART;TZID=America/New_York:20261027T130000
DTEND;TZID=America/New_York:20261027T140000
DTSTAMP:20260421T005344
CREATED:20260311T164623Z
LAST-MODIFIED:20260311T164623Z
UID:10006232-1793106000-1793109600@townofnewlebanon.com
SUMMARY:Town Board Spec Meeting to Pay Highway Bills
DESCRIPTION:
URL:https://townofnewlebanon.com/event/town-board-spec-meeting-to-pay-highway-bills/2026-10-27/
LOCATION:Town Hall\, 14755 Route 22 North\, New Lebanon\, NY\, 12125\, United States
CATEGORIES:General
END:VEVENT
BEGIN:VEVENT
DTSTART;TZID=America/New_York:20261027T140000
DTEND;TZID=America/New_York:20261027T173000
DTSTAMP:20260421T005344
CREATED:20250108T215951Z
LAST-MODIFIED:20250108T215951Z
UID:10002187-1793109600-1793122200@townofnewlebanon.com
SUMMARY:New Lebanon Community Center Open Hours
DESCRIPTION:
URL:https://townofnewlebanon.com/event/new-lebanon-community-center-open-hours/2026-10-27/
LOCATION:New Lebanon Community Center\, 523 US Route 20\, New Lebanon
CATEGORIES:community
END:VEVENT
BEGIN:VEVENT
DTSTART;TZID=America/New_York:20261028T140000
DTEND;TZID=America/New_York:20261028T173000
DTSTAMP:20260421T005344
CREATED:20250415T184745Z
LAST-MODIFIED:20250415T184745Z
UID:10005093-1793196000-1793208600@townofnewlebanon.com
SUMMARY:New Lebanon Community Center Open Hours
DESCRIPTION:
URL:https://townofnewlebanon.com/event/new-lebanon-community-center-open-hours-2/2026-10-28/
LOCATION:New Lebanon Community Center\, 523 US Route 20\, New Lebanon
CATEGORIES:community,General
END:VEVENT
BEGIN:VEVENT
DTSTART;TZID=America/New_York:20261028T191500
DTEND;TZID=America/New_York:20261028T203000
DTSTAMP:20260421T005344
CREATED:20260323T192950Z
LAST-MODIFIED:20260323T193320Z
UID:10006618-1793214900-1793219400@townofnewlebanon.com
SUMMARY:Yoga at the Community Center
DESCRIPTION:
URL:https://townofnewlebanon.com/event/yoga-at-the-community-center/2026-10-28/
LOCATION:New Lebanon Community Center\, 523 US Route 20\, New Lebanon
CATEGORIES:community
END:VEVENT
BEGIN:VEVENT
DTSTART;TZID=America/New_York:20261029T140000
DTEND;TZID=America/New_York:20261029T173000
DTSTAMP:20260421T005344
CREATED:20250108T220313Z
LAST-MODIFIED:20251023T151221Z
UID:10003232-1793282400-1793295000@townofnewlebanon.com
SUMMARY:New Lebanon Community Center Open Hours
DESCRIPTION:
URL:https://townofnewlebanon.com/event/new-lebanon-community-center-open-hours-3/2026-10-29/
LOCATION:New Lebanon Community Center\, 523 US Route 20\, New Lebanon
CATEGORIES:community
END:VEVENT
BEGIN:VEVENT
DTSTART;TZID=America/New_York:20261031T170000
DTEND;TZID=America/New_York:20261031T200000
DTSTAMP:20260421T005344
CREATED:20250108T220435Z
LAST-MODIFIED:20250108T220521Z
UID:10003754-1793466000-1793476800@townofnewlebanon.com
SUMMARY:New Lebanon Community Center Open Hours
DESCRIPTION:
URL:https://townofnewlebanon.com/event/new-lebanon-community-center-open-hours-4/2026-10-31/
LOCATION:New Lebanon Community Center\, 523 US Route 20\, New Lebanon
CATEGORIES:community
END:VEVENT
BEGIN:VEVENT
DTSTART;TZID=America/New_York:20261101T110000
DTEND;TZID=America/New_York:20261101T140000
DTSTAMP:20260421T005344
CREATED:20250108T220607Z
LAST-MODIFIED:20260319T144103Z
UID:10004276-1793530800-1793541600@townofnewlebanon.com
SUMMARY:New Lebanon Community Center Open Hours
DESCRIPTION:
URL:https://townofnewlebanon.com/event/new-lebanon-community-center-open-hours-5/2026-11-01/
LOCATION:New Lebanon Community Center\, 523 US Route 20\, New Lebanon
CATEGORIES:community
END:VEVENT
BEGIN:VEVENT
DTSTART;TZID=America/New_York:20261102T170000
DTEND;TZID=America/New_York:20261102T183000
DTSTAMP:20260421T005344
CREATED:20260122T153503Z
LAST-MODIFIED:20260319T145031Z
UID:10006080-1793638800-1793644200@townofnewlebanon.com
SUMMARY:Conservation Advisory Council Meeting
DESCRIPTION:
URL:https://townofnewlebanon.com/event/conservation-advisory-committee-meeting/2026-11-02/
LOCATION:Town Hall\, 14755 Route 22 North\, New Lebanon\, NY\, 12125\, United States
END:VEVENT
BEGIN:VEVENT
DTSTART;VALUE=DATE:20261103
DTEND;VALUE=DATE:20261104
DTSTAMP:20260421T005344
CREATED:20241022T123152Z
LAST-MODIFIED:20241022T123152Z
UID:10001870-1793664000-1793750399@townofnewlebanon.com
SUMMARY:Election Day - Town Hall closed
DESCRIPTION:
URL:https://townofnewlebanon.com/event/election-day-town-hall-closed-3/
CATEGORIES:General
END:VEVENT
BEGIN:VEVENT
DTSTART;TZID=America/New_York:20261103T130000
DTEND;TZID=America/New_York:20261103T140000
DTSTAMP:20260421T005344
CREATED:20260311T164623Z
LAST-MODIFIED:20260311T164623Z
UID:10006233-1793710800-1793714400@townofnewlebanon.com
SUMMARY:Town Board Spec Meeting to Pay Highway Bills
DESCRIPTION:
URL:https://townofnewlebanon.com/event/town-board-spec-meeting-to-pay-highway-bills/2026-11-03/
LOCATION:Town Hall\, 14755 Route 22 North\, New Lebanon\, NY\, 12125\, United States
CATEGORIES:General
END:VEVENT
BEGIN:VEVENT
DTSTART;TZID=America/New_York:20261103T140000
DTEND;TZID=America/New_York:20261103T173000
DTSTAMP:20260421T005344
CREATED:20250108T215951Z
LAST-MODIFIED:20250108T215951Z
UID:10002188-1793714400-1793727000@townofnewlebanon.com
SUMMARY:New Lebanon Community Center Open Hours
DESCRIPTION:
URL:https://townofnewlebanon.com/event/new-lebanon-community-center-open-hours/2026-11-03/
LOCATION:New Lebanon Community Center\, 523 US Route 20\, New Lebanon
CATEGORIES:community
END:VEVENT
BEGIN:VEVENT
DTSTART;TZID=America/New_York:20261103T190000
DTEND;TZID=America/New_York:20261103T200000
DTSTAMP:20260421T005344
CREATED:20250325T153928Z
LAST-MODIFIED:20250923T165459Z
UID:10004896-1793732400-1793736000@townofnewlebanon.com
SUMMARY:ZBA Meeting
DESCRIPTION:Check if there is an agenda posted at: https://townofnewlebanon.com/building/ – \nThe Zoning Board of Appeals only meets if it has a case to review. If there is no agenda posted\, there is no meeting.
URL:https://townofnewlebanon.com/event/zba-meeting-if-needed/2026-11-03/
LOCATION:Town Hall\, 14755 Route 22 North\, New Lebanon\, NY\, 12125\, United States
CATEGORIES:General
END:VEVENT
BEGIN:VEVENT
DTSTART;TZID=America/New_York:20261104T140000
DTEND;TZID=America/New_York:20261104T173000
DTSTAMP:20260421T005344
CREATED:20250415T184745Z
LAST-MODIFIED:20250415T184745Z
UID:10005094-1793800800-1793813400@townofnewlebanon.com
SUMMARY:New Lebanon Community Center Open Hours
DESCRIPTION:
URL:https://townofnewlebanon.com/event/new-lebanon-community-center-open-hours-2/2026-11-04/
LOCATION:New Lebanon Community Center\, 523 US Route 20\, New Lebanon
CATEGORIES:community,General
END:VEVENT
END:VCALENDAR