BEGIN:VCALENDAR
VERSION:2.0
PRODID:-//Town of New Lebanon - ECPv6.15.20//NONSGML v1.0//EN
CALSCALE:GREGORIAN
METHOD:PUBLISH
X-ORIGINAL-URL:https://townofnewlebanon.com
X-WR-CALDESC:Events for Town of New Lebanon
REFRESH-INTERVAL;VALUE=DURATION:PT1H
X-Robots-Tag:noindex
X-PUBLISHED-TTL:PT1H
BEGIN:VTIMEZONE
TZID:America/New_York
BEGIN:DAYLIGHT
TZOFFSETFROM:-0500
TZOFFSETTO:-0400
TZNAME:EDT
DTSTART:20260308T070000
END:DAYLIGHT
BEGIN:STANDARD
TZOFFSETFROM:-0400
TZOFFSETTO:-0500
TZNAME:EST
DTSTART:20261101T060000
END:STANDARD
BEGIN:DAYLIGHT
TZOFFSETFROM:-0500
TZOFFSETTO:-0400
TZNAME:EDT
DTSTART:20270314T070000
END:DAYLIGHT
BEGIN:STANDARD
TZOFFSETFROM:-0400
TZOFFSETTO:-0500
TZNAME:EST
DTSTART:20271107T060000
END:STANDARD
BEGIN:DAYLIGHT
TZOFFSETFROM:-0500
TZOFFSETTO:-0400
TZNAME:EDT
DTSTART:20280312T070000
END:DAYLIGHT
BEGIN:STANDARD
TZOFFSETFROM:-0400
TZOFFSETTO:-0500
TZNAME:EST
DTSTART:20281105T060000
END:STANDARD
END:VTIMEZONE
BEGIN:VEVENT
DTSTART;TZID=America/New_York:20270429T140000
DTEND;TZID=America/New_York:20270429T173000
DTSTAMP:20260422T183649
CREATED:20250108T220313Z
LAST-MODIFIED:20251023T151221Z
UID:10003258-1809007200-1809019800@townofnewlebanon.com
SUMMARY:New Lebanon Community Center Open Hours
DESCRIPTION:
URL:https://townofnewlebanon.com/event/new-lebanon-community-center-open-hours-3/2027-04-29/
LOCATION:New Lebanon Community Center\, 523 US Route 20\, New Lebanon
CATEGORIES:community
END:VEVENT
BEGIN:VEVENT
DTSTART;TZID=America/New_York:20270501T170000
DTEND;TZID=America/New_York:20270501T200000
DTSTAMP:20260422T183649
CREATED:20250108T220435Z
LAST-MODIFIED:20250108T220521Z
UID:10003780-1809190800-1809201600@townofnewlebanon.com
SUMMARY:New Lebanon Community Center Open Hours
DESCRIPTION:
URL:https://townofnewlebanon.com/event/new-lebanon-community-center-open-hours-4/2027-05-01/
LOCATION:New Lebanon Community Center\, 523 US Route 20\, New Lebanon
CATEGORIES:community
END:VEVENT
BEGIN:VEVENT
DTSTART;TZID=America/New_York:20270502T110000
DTEND;TZID=America/New_York:20270502T140000
DTSTAMP:20260422T183649
CREATED:20250108T220607Z
LAST-MODIFIED:20260319T144103Z
UID:10004302-1809255600-1809266400@townofnewlebanon.com
SUMMARY:New Lebanon Community Center Open Hours
DESCRIPTION:
URL:https://townofnewlebanon.com/event/new-lebanon-community-center-open-hours-5/2027-05-02/
LOCATION:New Lebanon Community Center\, 523 US Route 20\, New Lebanon
CATEGORIES:community
END:VEVENT
BEGIN:VEVENT
DTSTART;TZID=America/New_York:20270503T170000
DTEND;TZID=America/New_York:20270503T183000
DTSTAMP:20260422T183649
CREATED:20260122T153503Z
LAST-MODIFIED:20260319T145031Z
UID:10006086-1809363600-1809369000@townofnewlebanon.com
SUMMARY:Conservation Advisory Council Meeting
DESCRIPTION:
URL:https://townofnewlebanon.com/event/conservation-advisory-committee-meeting/2027-05-03/
LOCATION:Town Hall\, 14755 Route 22 North\, New Lebanon\, NY\, 12125\, United States
END:VEVENT
BEGIN:VEVENT
DTSTART;TZID=America/New_York:20270504T140000
DTEND;TZID=America/New_York:20270504T173000
DTSTAMP:20260422T183649
CREATED:20250108T215951Z
LAST-MODIFIED:20250108T215951Z
UID:10002214-1809439200-1809451800@townofnewlebanon.com
SUMMARY:New Lebanon Community Center Open Hours
DESCRIPTION:
URL:https://townofnewlebanon.com/event/new-lebanon-community-center-open-hours/2027-05-04/
LOCATION:New Lebanon Community Center\, 523 US Route 20\, New Lebanon
CATEGORIES:community
END:VEVENT
BEGIN:VEVENT
DTSTART;TZID=America/New_York:20270504T190000
DTEND;TZID=America/New_York:20270504T200000
DTSTAMP:20260422T183649
CREATED:20250325T153928Z
LAST-MODIFIED:20250923T165459Z
UID:10004902-1809457200-1809460800@townofnewlebanon.com
SUMMARY:ZBA Meeting
DESCRIPTION:Check if there is an agenda posted at: https://townofnewlebanon.com/building/ – \nThe Zoning Board of Appeals only meets if it has a case to review. If there is no agenda posted\, there is no meeting.
URL:https://townofnewlebanon.com/event/zba-meeting-if-needed/2027-05-04/
LOCATION:Town Hall\, 14755 Route 22 North\, New Lebanon\, NY\, 12125\, United States
CATEGORIES:General
END:VEVENT
BEGIN:VEVENT
DTSTART;TZID=America/New_York:20270505T140000
DTEND;TZID=America/New_York:20270505T173000
DTSTAMP:20260422T183649
CREATED:20250415T184745Z
LAST-MODIFIED:20250415T184745Z
UID:10005120-1809525600-1809538200@townofnewlebanon.com
SUMMARY:New Lebanon Community Center Open Hours
DESCRIPTION:
URL:https://townofnewlebanon.com/event/new-lebanon-community-center-open-hours-2/2027-05-05/
LOCATION:New Lebanon Community Center\, 523 US Route 20\, New Lebanon
CATEGORIES:community,General
END:VEVENT
BEGIN:VEVENT
DTSTART;TZID=America/New_York:20270505T170000
DTEND;TZID=America/New_York:20270505T183000
DTSTAMP:20260422T183649
CREATED:20220626T161625Z
LAST-MODIFIED:20260320T194508Z
UID:10001626-1809536400-1809541800@townofnewlebanon.com
SUMMARY:CSC Meeting
DESCRIPTION:
URL:https://townofnewlebanon.com/event/csc-meeting-2022-08-03/2027-05-05/
LOCATION:Town Hall\, 14755 Route 22 North\, New Lebanon\, NY\, 12125\, United States
CATEGORIES:General
ATTACH;FMTTYPE=image/jpeg:https://townofnewlebanon.com/wp-content/uploads/2022/06/CSC_bronze-logo-with-NL-e1656592455471.jpeg
END:VEVENT
BEGIN:VEVENT
DTSTART;TZID=America/New_York:20270505T191500
DTEND;TZID=America/New_York:20270505T203000
DTSTAMP:20260422T183649
CREATED:20260323T192950Z
LAST-MODIFIED:20260323T193320Z
UID:10006645-1809544500-1809549000@townofnewlebanon.com
SUMMARY:Yoga at the Community Center
DESCRIPTION:
URL:https://townofnewlebanon.com/event/yoga-at-the-community-center/2027-05-05/
LOCATION:New Lebanon Community Center\, 523 US Route 20\, New Lebanon
CATEGORIES:community
END:VEVENT
BEGIN:VEVENT
DTSTART;TZID=America/New_York:20270506T140000
DTEND;TZID=America/New_York:20270506T173000
DTSTAMP:20260422T183649
CREATED:20250108T220313Z
LAST-MODIFIED:20251023T151221Z
UID:10003259-1809612000-1809624600@townofnewlebanon.com
SUMMARY:New Lebanon Community Center Open Hours
DESCRIPTION:
URL:https://townofnewlebanon.com/event/new-lebanon-community-center-open-hours-3/2027-05-06/
LOCATION:New Lebanon Community Center\, 523 US Route 20\, New Lebanon
CATEGORIES:community
END:VEVENT
BEGIN:VEVENT
DTSTART;TZID=America/New_York:20270507T130000
DTEND;TZID=America/New_York:20270507T150000
DTSTAMP:20260422T183649
CREATED:20240406T213429Z
LAST-MODIFIED:20250226T163458Z
UID:10001522-1809694800-1809702000@townofnewlebanon.com
SUMMARY:Lebanon Valley Seniors Meeting
DESCRIPTION:
URL:https://townofnewlebanon.com/event/lebanon-valley-seniors-meeting-2/2027-05-07/
LOCATION:New Lebanon Community Center\, 523 US Route 20\, New Lebanon
CATEGORIES:community,General
END:VEVENT
BEGIN:VEVENT
DTSTART;TZID=America/New_York:20270508T170000
DTEND;TZID=America/New_York:20270508T200000
DTSTAMP:20260422T183649
CREATED:20250108T220435Z
LAST-MODIFIED:20250108T220521Z
UID:10003781-1809795600-1809806400@townofnewlebanon.com
SUMMARY:New Lebanon Community Center Open Hours
DESCRIPTION:
URL:https://townofnewlebanon.com/event/new-lebanon-community-center-open-hours-4/2027-05-08/
LOCATION:New Lebanon Community Center\, 523 US Route 20\, New Lebanon
CATEGORIES:community
END:VEVENT
BEGIN:VEVENT
DTSTART;TZID=America/New_York:20270509T110000
DTEND;TZID=America/New_York:20270509T140000
DTSTAMP:20260422T183649
CREATED:20250108T220607Z
LAST-MODIFIED:20260319T144103Z
UID:10004303-1809860400-1809871200@townofnewlebanon.com
SUMMARY:New Lebanon Community Center Open Hours
DESCRIPTION:
URL:https://townofnewlebanon.com/event/new-lebanon-community-center-open-hours-5/2027-05-09/
LOCATION:New Lebanon Community Center\, 523 US Route 20\, New Lebanon
CATEGORIES:community
END:VEVENT
BEGIN:VEVENT
DTSTART;TZID=America/New_York:20270511T140000
DTEND;TZID=America/New_York:20270511T173000
DTSTAMP:20260422T183649
CREATED:20250108T215951Z
LAST-MODIFIED:20250108T215951Z
UID:10002215-1810044000-1810056600@townofnewlebanon.com
SUMMARY:New Lebanon Community Center Open Hours
DESCRIPTION:
URL:https://townofnewlebanon.com/event/new-lebanon-community-center-open-hours/2027-05-11/
LOCATION:New Lebanon Community Center\, 523 US Route 20\, New Lebanon
CATEGORIES:community
END:VEVENT
BEGIN:VEVENT
DTSTART;TZID=America/New_York:20270511T183000
DTEND;TZID=America/New_York:20270511T203000
DTSTAMP:20260422T183649
CREATED:20260103T220239Z
LAST-MODIFIED:20260311T165724Z
UID:10005660-1810060200-1810067400@townofnewlebanon.com
SUMMARY:Town Board Meeting
DESCRIPTION:
URL:https://townofnewlebanon.com/event/town-board-meeting-4/2027-05-11/
LOCATION:Town Hall\, 14755 Route 22 North\, New Lebanon\, NY\, 12125\, United States
CATEGORIES:General
END:VEVENT
BEGIN:VEVENT
DTSTART;TZID=America/New_York:20270512T140000
DTEND;TZID=America/New_York:20270512T173000
DTSTAMP:20260422T183649
CREATED:20250415T184745Z
LAST-MODIFIED:20250415T184745Z
UID:10005121-1810130400-1810143000@townofnewlebanon.com
SUMMARY:New Lebanon Community Center Open Hours
DESCRIPTION:
URL:https://townofnewlebanon.com/event/new-lebanon-community-center-open-hours-2/2027-05-12/
LOCATION:New Lebanon Community Center\, 523 US Route 20\, New Lebanon
CATEGORIES:community,General
END:VEVENT
BEGIN:VEVENT
DTSTART;TZID=America/New_York:20270512T191500
DTEND;TZID=America/New_York:20270512T203000
DTSTAMP:20260422T183649
CREATED:20260323T192950Z
LAST-MODIFIED:20260323T193320Z
UID:10006646-1810149300-1810153800@townofnewlebanon.com
SUMMARY:Yoga at the Community Center
DESCRIPTION:
URL:https://townofnewlebanon.com/event/yoga-at-the-community-center/2027-05-12/
LOCATION:New Lebanon Community Center\, 523 US Route 20\, New Lebanon
CATEGORIES:community
END:VEVENT
BEGIN:VEVENT
DTSTART;TZID=America/New_York:20270513T140000
DTEND;TZID=America/New_York:20270513T173000
DTSTAMP:20260422T183649
CREATED:20250108T220313Z
LAST-MODIFIED:20251023T151221Z
UID:10003260-1810216800-1810229400@townofnewlebanon.com
SUMMARY:New Lebanon Community Center Open Hours
DESCRIPTION:
URL:https://townofnewlebanon.com/event/new-lebanon-community-center-open-hours-3/2027-05-13/
LOCATION:New Lebanon Community Center\, 523 US Route 20\, New Lebanon
CATEGORIES:community
END:VEVENT
BEGIN:VEVENT
DTSTART;TZID=America/New_York:20270515T170000
DTEND;TZID=America/New_York:20270515T200000
DTSTAMP:20260422T183649
CREATED:20250108T220435Z
LAST-MODIFIED:20250108T220521Z
UID:10003782-1810400400-1810411200@townofnewlebanon.com
SUMMARY:New Lebanon Community Center Open Hours
DESCRIPTION:
URL:https://townofnewlebanon.com/event/new-lebanon-community-center-open-hours-4/2027-05-15/
LOCATION:New Lebanon Community Center\, 523 US Route 20\, New Lebanon
CATEGORIES:community
END:VEVENT
BEGIN:VEVENT
DTSTART;TZID=America/New_York:20270516T110000
DTEND;TZID=America/New_York:20270516T140000
DTSTAMP:20260422T183649
CREATED:20250108T220607Z
LAST-MODIFIED:20260319T144103Z
UID:10004304-1810465200-1810476000@townofnewlebanon.com
SUMMARY:New Lebanon Community Center Open Hours
DESCRIPTION:
URL:https://townofnewlebanon.com/event/new-lebanon-community-center-open-hours-5/2027-05-16/
LOCATION:New Lebanon Community Center\, 523 US Route 20\, New Lebanon
CATEGORIES:community
END:VEVENT
BEGIN:VEVENT
DTSTART;TZID=America/New_York:20270517T190000
DTEND;TZID=America/New_York:20270517T203000
DTSTAMP:20260422T183649
CREATED:20241210T200511Z
LAST-MODIFIED:20260319T142531Z
UID:10001992-1810580400-1810585800@townofnewlebanon.com
SUMMARY:Zoning Rewrite Committee (ZRC) meeting
DESCRIPTION:
URL:https://townofnewlebanon.com/event/zoning-rewrite-committee-zrc-meeting/2027-05-17/
LOCATION:Town Hall\, 14755 Route 22 North\, New Lebanon\, NY\, 12125\, United States
CATEGORIES:General
END:VEVENT
BEGIN:VEVENT
DTSTART;TZID=America/New_York:20270518T140000
DTEND;TZID=America/New_York:20270518T173000
DTSTAMP:20260422T183649
CREATED:20250108T215951Z
LAST-MODIFIED:20250108T215951Z
UID:10002216-1810648800-1810661400@townofnewlebanon.com
SUMMARY:New Lebanon Community Center Open Hours
DESCRIPTION:
URL:https://townofnewlebanon.com/event/new-lebanon-community-center-open-hours/2027-05-18/
LOCATION:New Lebanon Community Center\, 523 US Route 20\, New Lebanon
CATEGORIES:community
END:VEVENT
BEGIN:VEVENT
DTSTART;TZID=America/New_York:20270518T170000
DTEND;TZID=America/New_York:20270518T180000
DTSTAMP:20260422T183649
CREATED:20240216T215703Z
LAST-MODIFIED:20260319T150413Z
UID:10006413-1810659600-1810663200@townofnewlebanon.com
SUMMARY:New Recreation Commission Meeting
DESCRIPTION:
URL:https://townofnewlebanon.com/event/recreation-commission-meeting/2027-05-18/
CATEGORIES:General
END:VEVENT
BEGIN:VEVENT
DTSTART;TZID=America/New_York:20270518T183000
DTEND;TZID=America/New_York:20270518T193000
DTSTAMP:20260422T183649
CREATED:20260319T150247Z
LAST-MODIFIED:20260319T150247Z
UID:10006535-1810665000-1810668600@townofnewlebanon.com
SUMMARY:Events Committee Meeting
DESCRIPTION:
URL:https://townofnewlebanon.com/event/events-committee-meeting/2027-05-18/
LOCATION:Town Hall\, 14755 Route 22 North\, New Lebanon\, NY\, 12125\, United States
CATEGORIES:General
END:VEVENT
BEGIN:VEVENT
DTSTART;TZID=America/New_York:20270519T140000
DTEND;TZID=America/New_York:20270519T173000
DTSTAMP:20260422T183649
CREATED:20250415T184745Z
LAST-MODIFIED:20250415T184745Z
UID:10005122-1810735200-1810747800@townofnewlebanon.com
SUMMARY:New Lebanon Community Center Open Hours
DESCRIPTION:
URL:https://townofnewlebanon.com/event/new-lebanon-community-center-open-hours-2/2027-05-19/
LOCATION:New Lebanon Community Center\, 523 US Route 20\, New Lebanon
CATEGORIES:community,General
END:VEVENT
BEGIN:VEVENT
DTSTART;TZID=America/New_York:20270519T190000
DTEND;TZID=America/New_York:20270519T210000
DTSTAMP:20260422T183649
CREATED:20220626T170833Z
LAST-MODIFIED:20251113T145144Z
UID:10000289-1810753200-1810760400@townofnewlebanon.com
SUMMARY:Planning Board
DESCRIPTION:Also available via Live Stream – for link see PB Agendas and Documents page
URL:https://townofnewlebanon.com/event/planning-board-town-hall/2027-05-19/
LOCATION:Town Hall\, 14755 Route 22 North\, New Lebanon\, NY\, 12125\, United States
CATEGORIES:General
END:VEVENT
BEGIN:VEVENT
DTSTART;TZID=America/New_York:20270519T191500
DTEND;TZID=America/New_York:20270519T203000
DTSTAMP:20260422T183649
CREATED:20260323T192950Z
LAST-MODIFIED:20260323T193320Z
UID:10006647-1810754100-1810758600@townofnewlebanon.com
SUMMARY:Yoga at the Community Center
DESCRIPTION:
URL:https://townofnewlebanon.com/event/yoga-at-the-community-center/2027-05-19/
LOCATION:New Lebanon Community Center\, 523 US Route 20\, New Lebanon
CATEGORIES:community
END:VEVENT
BEGIN:VEVENT
DTSTART;TZID=America/New_York:20270520T130000
DTEND;TZID=America/New_York:20270520T150000
DTSTAMP:20260422T183649
CREATED:20250102T212053Z
LAST-MODIFIED:20250102T212133Z
UID:10002052-1810818000-1810825200@townofnewlebanon.com
SUMMARY:Acoustic Jam
DESCRIPTION:
URL:https://townofnewlebanon.com/event/acoustic-jam/2027-05-20/
LOCATION:New Lebanon Community Center\, 523 US Route 20\, New Lebanon
CATEGORIES:community,General
END:VEVENT
BEGIN:VEVENT
DTSTART;TZID=America/New_York:20270520T140000
DTEND;TZID=America/New_York:20270520T173000
DTSTAMP:20260422T183649
CREATED:20250108T220313Z
LAST-MODIFIED:20251023T151221Z
UID:10003261-1810821600-1810834200@townofnewlebanon.com
SUMMARY:New Lebanon Community Center Open Hours
DESCRIPTION:
URL:https://townofnewlebanon.com/event/new-lebanon-community-center-open-hours-3/2027-05-20/
LOCATION:New Lebanon Community Center\, 523 US Route 20\, New Lebanon
CATEGORIES:community
END:VEVENT
BEGIN:VEVENT
DTSTART;TZID=America/New_York:20270521T130000
DTEND;TZID=America/New_York:20270521T150000
DTSTAMP:20260422T183649
CREATED:20240406T213120Z
LAST-MODIFIED:20250113T220339Z
UID:10001465-1810904400-1810911600@townofnewlebanon.com
SUMMARY:Lebanon Valley Seniors Meeting
DESCRIPTION:
URL:https://townofnewlebanon.com/event/lebanon-valley-seniors-meeting/2027-05-21/
LOCATION:New Lebanon Community Center\, 523 US Route 20\, New Lebanon
CATEGORIES:community,General
END:VEVENT
END:VCALENDAR