BEGIN:VCALENDAR
VERSION:2.0
PRODID:-//Town of New Lebanon - ECPv6.15.20//NONSGML v1.0//EN
CALSCALE:GREGORIAN
METHOD:PUBLISH
X-ORIGINAL-URL:https://townofnewlebanon.com
X-WR-CALDESC:Events for Town of New Lebanon
REFRESH-INTERVAL;VALUE=DURATION:PT1H
X-Robots-Tag:noindex
X-PUBLISHED-TTL:PT1H
BEGIN:VTIMEZONE
TZID:America/New_York
BEGIN:DAYLIGHT
TZOFFSETFROM:-0500
TZOFFSETTO:-0400
TZNAME:EDT
DTSTART:20260308T070000
END:DAYLIGHT
BEGIN:STANDARD
TZOFFSETFROM:-0400
TZOFFSETTO:-0500
TZNAME:EST
DTSTART:20261101T060000
END:STANDARD
BEGIN:DAYLIGHT
TZOFFSETFROM:-0500
TZOFFSETTO:-0400
TZNAME:EDT
DTSTART:20270314T070000
END:DAYLIGHT
BEGIN:STANDARD
TZOFFSETFROM:-0400
TZOFFSETTO:-0500
TZNAME:EST
DTSTART:20271107T060000
END:STANDARD
BEGIN:DAYLIGHT
TZOFFSETFROM:-0500
TZOFFSETTO:-0400
TZNAME:EDT
DTSTART:20280312T070000
END:DAYLIGHT
BEGIN:STANDARD
TZOFFSETFROM:-0400
TZOFFSETTO:-0500
TZNAME:EST
DTSTART:20281105T060000
END:STANDARD
END:VTIMEZONE
BEGIN:VEVENT
DTSTART;TZID=America/New_York:20270313T170000
DTEND;TZID=America/New_York:20270313T200000
DTSTAMP:20260422T183835
CREATED:20250108T220435Z
LAST-MODIFIED:20250108T220521Z
UID:10003773-1804957200-1804968000@townofnewlebanon.com
SUMMARY:New Lebanon Community Center Open Hours
DESCRIPTION:
URL:https://townofnewlebanon.com/event/new-lebanon-community-center-open-hours-4/2027-03-13/
LOCATION:New Lebanon Community Center\, 523 US Route 20\, New Lebanon
CATEGORIES:community
END:VEVENT
BEGIN:VEVENT
DTSTART;TZID=America/New_York:20270314T110000
DTEND;TZID=America/New_York:20270314T140000
DTSTAMP:20260422T183835
CREATED:20250108T220607Z
LAST-MODIFIED:20260319T144103Z
UID:10004295-1805022000-1805032800@townofnewlebanon.com
SUMMARY:New Lebanon Community Center Open Hours
DESCRIPTION:
URL:https://townofnewlebanon.com/event/new-lebanon-community-center-open-hours-5/2027-03-14/
LOCATION:New Lebanon Community Center\, 523 US Route 20\, New Lebanon
CATEGORIES:community
END:VEVENT
BEGIN:VEVENT
DTSTART;TZID=America/New_York:20270315T190000
DTEND;TZID=America/New_York:20270315T203000
DTSTAMP:20260422T183835
CREATED:20241210T200511Z
LAST-MODIFIED:20260319T142531Z
UID:10001991-1805137200-1805142600@townofnewlebanon.com
SUMMARY:Zoning Rewrite Committee (ZRC) meeting
DESCRIPTION:
URL:https://townofnewlebanon.com/event/zoning-rewrite-committee-zrc-meeting/2027-03-15/
LOCATION:Town Hall\, 14755 Route 22 North\, New Lebanon\, NY\, 12125\, United States
CATEGORIES:General
END:VEVENT
BEGIN:VEVENT
DTSTART;TZID=America/New_York:20270316T130000
DTEND;TZID=America/New_York:20270316T140000
DTSTAMP:20260422T183835
CREATED:20260311T164623Z
LAST-MODIFIED:20260311T164623Z
UID:10006252-1805202000-1805205600@townofnewlebanon.com
SUMMARY:Town Board Spec Meeting to Pay Highway Bills
DESCRIPTION:
URL:https://townofnewlebanon.com/event/town-board-spec-meeting-to-pay-highway-bills/2027-03-16/
LOCATION:Town Hall\, 14755 Route 22 North\, New Lebanon\, NY\, 12125\, United States
CATEGORIES:General
END:VEVENT
BEGIN:VEVENT
DTSTART;TZID=America/New_York:20270316T140000
DTEND;TZID=America/New_York:20270316T173000
DTSTAMP:20260422T183835
CREATED:20250108T215951Z
LAST-MODIFIED:20250108T215951Z
UID:10002207-1805205600-1805218200@townofnewlebanon.com
SUMMARY:New Lebanon Community Center Open Hours
DESCRIPTION:
URL:https://townofnewlebanon.com/event/new-lebanon-community-center-open-hours/2027-03-16/
LOCATION:New Lebanon Community Center\, 523 US Route 20\, New Lebanon
CATEGORIES:community
END:VEVENT
BEGIN:VEVENT
DTSTART;TZID=America/New_York:20270316T170000
DTEND;TZID=America/New_York:20270316T180000
DTSTAMP:20260422T183835
CREATED:20240216T215703Z
LAST-MODIFIED:20260319T150413Z
UID:10006411-1805216400-1805220000@townofnewlebanon.com
SUMMARY:New Recreation Commission Meeting
DESCRIPTION:
URL:https://townofnewlebanon.com/event/recreation-commission-meeting/2027-03-16/
CATEGORIES:General
END:VEVENT
BEGIN:VEVENT
DTSTART;TZID=America/New_York:20270316T183000
DTEND;TZID=America/New_York:20270316T193000
DTSTAMP:20260422T183835
CREATED:20260319T150247Z
LAST-MODIFIED:20260319T150247Z
UID:10006533-1805221800-1805225400@townofnewlebanon.com
SUMMARY:Events Committee Meeting
DESCRIPTION:
URL:https://townofnewlebanon.com/event/events-committee-meeting/2027-03-16/
LOCATION:Town Hall\, 14755 Route 22 North\, New Lebanon\, NY\, 12125\, United States
CATEGORIES:General
END:VEVENT
BEGIN:VEVENT
DTSTART;TZID=America/New_York:20270317T140000
DTEND;TZID=America/New_York:20270317T173000
DTSTAMP:20260422T183835
CREATED:20250415T184745Z
LAST-MODIFIED:20250415T184745Z
UID:10005113-1805292000-1805304600@townofnewlebanon.com
SUMMARY:New Lebanon Community Center Open Hours
DESCRIPTION:
URL:https://townofnewlebanon.com/event/new-lebanon-community-center-open-hours-2/2027-03-17/
LOCATION:New Lebanon Community Center\, 523 US Route 20\, New Lebanon
CATEGORIES:community,General
END:VEVENT
BEGIN:VEVENT
DTSTART;TZID=America/New_York:20270317T190000
DTEND;TZID=America/New_York:20270317T210000
DTSTAMP:20260422T183835
CREATED:20220626T170833Z
LAST-MODIFIED:20251113T145144Z
UID:10000287-1805310000-1805317200@townofnewlebanon.com
SUMMARY:Planning Board
DESCRIPTION:Also available via Live Stream – for link see PB Agendas and Documents page
URL:https://townofnewlebanon.com/event/planning-board-town-hall/2027-03-17/
LOCATION:Town Hall\, 14755 Route 22 North\, New Lebanon\, NY\, 12125\, United States
CATEGORIES:General
END:VEVENT
BEGIN:VEVENT
DTSTART;TZID=America/New_York:20270317T191500
DTEND;TZID=America/New_York:20270317T203000
DTSTAMP:20260422T183835
CREATED:20260323T192950Z
LAST-MODIFIED:20260323T193320Z
UID:10006638-1805310900-1805315400@townofnewlebanon.com
SUMMARY:Yoga at the Community Center
DESCRIPTION:
URL:https://townofnewlebanon.com/event/yoga-at-the-community-center/2027-03-17/
LOCATION:New Lebanon Community Center\, 523 US Route 20\, New Lebanon
CATEGORIES:community
END:VEVENT
BEGIN:VEVENT
DTSTART;TZID=America/New_York:20270318T130000
DTEND;TZID=America/New_York:20270318T150000
DTSTAMP:20260422T183835
CREATED:20250102T212053Z
LAST-MODIFIED:20250102T212133Z
UID:10002050-1805374800-1805382000@townofnewlebanon.com
SUMMARY:Acoustic Jam
DESCRIPTION:
URL:https://townofnewlebanon.com/event/acoustic-jam/2027-03-18/
LOCATION:New Lebanon Community Center\, 523 US Route 20\, New Lebanon
CATEGORIES:community,General
END:VEVENT
BEGIN:VEVENT
DTSTART;TZID=America/New_York:20270318T140000
DTEND;TZID=America/New_York:20270318T173000
DTSTAMP:20260422T183835
CREATED:20250108T220313Z
LAST-MODIFIED:20251023T151221Z
UID:10003252-1805378400-1805391000@townofnewlebanon.com
SUMMARY:New Lebanon Community Center Open Hours
DESCRIPTION:
URL:https://townofnewlebanon.com/event/new-lebanon-community-center-open-hours-3/2027-03-18/
LOCATION:New Lebanon Community Center\, 523 US Route 20\, New Lebanon
CATEGORIES:community
END:VEVENT
BEGIN:VEVENT
DTSTART;TZID=America/New_York:20270319T130000
DTEND;TZID=America/New_York:20270319T150000
DTSTAMP:20260422T183835
CREATED:20240406T213120Z
LAST-MODIFIED:20250113T220339Z
UID:10001463-1805461200-1805468400@townofnewlebanon.com
SUMMARY:Lebanon Valley Seniors Meeting
DESCRIPTION:
URL:https://townofnewlebanon.com/event/lebanon-valley-seniors-meeting/2027-03-19/
LOCATION:New Lebanon Community Center\, 523 US Route 20\, New Lebanon
CATEGORIES:community,General
END:VEVENT
BEGIN:VEVENT
DTSTART;TZID=America/New_York:20270320T170000
DTEND;TZID=America/New_York:20270320T200000
DTSTAMP:20260422T183835
CREATED:20250108T220435Z
LAST-MODIFIED:20250108T220521Z
UID:10003774-1805562000-1805572800@townofnewlebanon.com
SUMMARY:New Lebanon Community Center Open Hours
DESCRIPTION:
URL:https://townofnewlebanon.com/event/new-lebanon-community-center-open-hours-4/2027-03-20/
LOCATION:New Lebanon Community Center\, 523 US Route 20\, New Lebanon
CATEGORIES:community
END:VEVENT
BEGIN:VEVENT
DTSTART;TZID=America/New_York:20270321T110000
DTEND;TZID=America/New_York:20270321T140000
DTSTAMP:20260422T183835
CREATED:20250108T220607Z
LAST-MODIFIED:20260319T144103Z
UID:10004296-1805626800-1805637600@townofnewlebanon.com
SUMMARY:New Lebanon Community Center Open Hours
DESCRIPTION:
URL:https://townofnewlebanon.com/event/new-lebanon-community-center-open-hours-5/2027-03-21/
LOCATION:New Lebanon Community Center\, 523 US Route 20\, New Lebanon
CATEGORIES:community
END:VEVENT
BEGIN:VEVENT
DTSTART;TZID=America/New_York:20270322T170000
DTEND;TZID=America/New_York:20270322T183000
DTSTAMP:20260422T183835
CREATED:20250228T173518Z
LAST-MODIFIED:20250827T130442Z
UID:10005429-1805734800-1805740200@townofnewlebanon.com
SUMMARY:LVHS Meeting
DESCRIPTION:
URL:https://townofnewlebanon.com/event/lvhs-meeting-town-hall-2/2027-03-22/
LOCATION:Town Hall\, 14755 Route 22 North\, New Lebanon\, NY\, 12125\, United States
CATEGORIES:General
END:VEVENT
BEGIN:VEVENT
DTSTART;TZID=America/New_York:20270323T130000
DTEND;TZID=America/New_York:20270323T140000
DTSTAMP:20260422T183835
CREATED:20260311T164623Z
LAST-MODIFIED:20260311T164623Z
UID:10006253-1805806800-1805810400@townofnewlebanon.com
SUMMARY:Town Board Spec Meeting to Pay Highway Bills
DESCRIPTION:
URL:https://townofnewlebanon.com/event/town-board-spec-meeting-to-pay-highway-bills/2027-03-23/
LOCATION:Town Hall\, 14755 Route 22 North\, New Lebanon\, NY\, 12125\, United States
CATEGORIES:General
END:VEVENT
BEGIN:VEVENT
DTSTART;TZID=America/New_York:20270323T140000
DTEND;TZID=America/New_York:20270323T173000
DTSTAMP:20260422T183835
CREATED:20250108T215951Z
LAST-MODIFIED:20250108T215951Z
UID:10002208-1805810400-1805823000@townofnewlebanon.com
SUMMARY:New Lebanon Community Center Open Hours
DESCRIPTION:
URL:https://townofnewlebanon.com/event/new-lebanon-community-center-open-hours/2027-03-23/
LOCATION:New Lebanon Community Center\, 523 US Route 20\, New Lebanon
CATEGORIES:community
END:VEVENT
BEGIN:VEVENT
DTSTART;TZID=America/New_York:20270324T140000
DTEND;TZID=America/New_York:20270324T173000
DTSTAMP:20260422T183835
CREATED:20250415T184745Z
LAST-MODIFIED:20250415T184745Z
UID:10005114-1805896800-1805909400@townofnewlebanon.com
SUMMARY:New Lebanon Community Center Open Hours
DESCRIPTION:
URL:https://townofnewlebanon.com/event/new-lebanon-community-center-open-hours-2/2027-03-24/
LOCATION:New Lebanon Community Center\, 523 US Route 20\, New Lebanon
CATEGORIES:community,General
END:VEVENT
BEGIN:VEVENT
DTSTART;TZID=America/New_York:20270324T191500
DTEND;TZID=America/New_York:20270324T203000
DTSTAMP:20260422T183835
CREATED:20260323T192950Z
LAST-MODIFIED:20260323T193320Z
UID:10006639-1805915700-1805920200@townofnewlebanon.com
SUMMARY:Yoga at the Community Center
DESCRIPTION:
URL:https://townofnewlebanon.com/event/yoga-at-the-community-center/2027-03-24/
LOCATION:New Lebanon Community Center\, 523 US Route 20\, New Lebanon
CATEGORIES:community
END:VEVENT
BEGIN:VEVENT
DTSTART;TZID=America/New_York:20270325T140000
DTEND;TZID=America/New_York:20270325T173000
DTSTAMP:20260422T183835
CREATED:20250108T220313Z
LAST-MODIFIED:20251023T151221Z
UID:10003253-1805983200-1805995800@townofnewlebanon.com
SUMMARY:New Lebanon Community Center Open Hours
DESCRIPTION:
URL:https://townofnewlebanon.com/event/new-lebanon-community-center-open-hours-3/2027-03-25/
LOCATION:New Lebanon Community Center\, 523 US Route 20\, New Lebanon
CATEGORIES:community
END:VEVENT
BEGIN:VEVENT
DTSTART;TZID=America/New_York:20270327T170000
DTEND;TZID=America/New_York:20270327T200000
DTSTAMP:20260422T183835
CREATED:20250108T220435Z
LAST-MODIFIED:20250108T220521Z
UID:10003775-1806166800-1806177600@townofnewlebanon.com
SUMMARY:New Lebanon Community Center Open Hours
DESCRIPTION:
URL:https://townofnewlebanon.com/event/new-lebanon-community-center-open-hours-4/2027-03-27/
LOCATION:New Lebanon Community Center\, 523 US Route 20\, New Lebanon
CATEGORIES:community
END:VEVENT
BEGIN:VEVENT
DTSTART;TZID=America/New_York:20270328T110000
DTEND;TZID=America/New_York:20270328T140000
DTSTAMP:20260422T183835
CREATED:20250108T220607Z
LAST-MODIFIED:20260319T144103Z
UID:10004297-1806231600-1806242400@townofnewlebanon.com
SUMMARY:New Lebanon Community Center Open Hours
DESCRIPTION:
URL:https://townofnewlebanon.com/event/new-lebanon-community-center-open-hours-5/2027-03-28/
LOCATION:New Lebanon Community Center\, 523 US Route 20\, New Lebanon
CATEGORIES:community
END:VEVENT
BEGIN:VEVENT
DTSTART;TZID=America/New_York:20270330T130000
DTEND;TZID=America/New_York:20270330T140000
DTSTAMP:20260422T183835
CREATED:20260311T164623Z
LAST-MODIFIED:20260311T164623Z
UID:10006254-1806411600-1806415200@townofnewlebanon.com
SUMMARY:Town Board Spec Meeting to Pay Highway Bills
DESCRIPTION:
URL:https://townofnewlebanon.com/event/town-board-spec-meeting-to-pay-highway-bills/2027-03-30/
LOCATION:Town Hall\, 14755 Route 22 North\, New Lebanon\, NY\, 12125\, United States
CATEGORIES:General
END:VEVENT
BEGIN:VEVENT
DTSTART;TZID=America/New_York:20270330T140000
DTEND;TZID=America/New_York:20270330T173000
DTSTAMP:20260422T183835
CREATED:20250108T215951Z
LAST-MODIFIED:20250108T215951Z
UID:10002209-1806415200-1806427800@townofnewlebanon.com
SUMMARY:New Lebanon Community Center Open Hours
DESCRIPTION:
URL:https://townofnewlebanon.com/event/new-lebanon-community-center-open-hours/2027-03-30/
LOCATION:New Lebanon Community Center\, 523 US Route 20\, New Lebanon
CATEGORIES:community
END:VEVENT
BEGIN:VEVENT
DTSTART;TZID=America/New_York:20270331T140000
DTEND;TZID=America/New_York:20270331T173000
DTSTAMP:20260422T183835
CREATED:20250415T184745Z
LAST-MODIFIED:20250415T184745Z
UID:10005115-1806501600-1806514200@townofnewlebanon.com
SUMMARY:New Lebanon Community Center Open Hours
DESCRIPTION:
URL:https://townofnewlebanon.com/event/new-lebanon-community-center-open-hours-2/2027-03-31/
LOCATION:New Lebanon Community Center\, 523 US Route 20\, New Lebanon
CATEGORIES:community,General
END:VEVENT
BEGIN:VEVENT
DTSTART;TZID=America/New_York:20270331T191500
DTEND;TZID=America/New_York:20270331T203000
DTSTAMP:20260422T183835
CREATED:20260323T192950Z
LAST-MODIFIED:20260323T193320Z
UID:10006640-1806520500-1806525000@townofnewlebanon.com
SUMMARY:Yoga at the Community Center
DESCRIPTION:
URL:https://townofnewlebanon.com/event/yoga-at-the-community-center/2027-03-31/
LOCATION:New Lebanon Community Center\, 523 US Route 20\, New Lebanon
CATEGORIES:community
END:VEVENT
BEGIN:VEVENT
DTSTART;TZID=America/New_York:20270401T140000
DTEND;TZID=America/New_York:20270401T173000
DTSTAMP:20260422T183835
CREATED:20250108T220313Z
LAST-MODIFIED:20251023T151221Z
UID:10003254-1806588000-1806600600@townofnewlebanon.com
SUMMARY:New Lebanon Community Center Open Hours
DESCRIPTION:
URL:https://townofnewlebanon.com/event/new-lebanon-community-center-open-hours-3/2027-04-01/
LOCATION:New Lebanon Community Center\, 523 US Route 20\, New Lebanon
CATEGORIES:community
END:VEVENT
BEGIN:VEVENT
DTSTART;TZID=America/New_York:20270402T130000
DTEND;TZID=America/New_York:20270402T150000
DTSTAMP:20260422T183835
CREATED:20240406T213429Z
LAST-MODIFIED:20250226T163458Z
UID:10001521-1806670800-1806678000@townofnewlebanon.com
SUMMARY:Lebanon Valley Seniors Meeting
DESCRIPTION:
URL:https://townofnewlebanon.com/event/lebanon-valley-seniors-meeting-2/2027-04-02/
LOCATION:New Lebanon Community Center\, 523 US Route 20\, New Lebanon
CATEGORIES:community,General
END:VEVENT
BEGIN:VEVENT
DTSTART;TZID=America/New_York:20270403T170000
DTEND;TZID=America/New_York:20270403T200000
DTSTAMP:20260422T183835
CREATED:20250108T220435Z
LAST-MODIFIED:20250108T220521Z
UID:10003776-1806771600-1806782400@townofnewlebanon.com
SUMMARY:New Lebanon Community Center Open Hours
DESCRIPTION:
URL:https://townofnewlebanon.com/event/new-lebanon-community-center-open-hours-4/2027-04-03/
LOCATION:New Lebanon Community Center\, 523 US Route 20\, New Lebanon
CATEGORIES:community
END:VEVENT
END:VCALENDAR