BEGIN:VCALENDAR
VERSION:2.0
PRODID:-//Town of New Lebanon - ECPv6.15.20//NONSGML v1.0//EN
CALSCALE:GREGORIAN
METHOD:PUBLISH
X-WR-CALNAME:Town of New Lebanon
X-ORIGINAL-URL:https://townofnewlebanon.com
X-WR-CALDESC:Events for Town of New Lebanon
REFRESH-INTERVAL;VALUE=DURATION:PT1H
X-Robots-Tag:noindex
X-PUBLISHED-TTL:PT1H
BEGIN:VTIMEZONE
TZID:America/New_York
BEGIN:DAYLIGHT
TZOFFSETFROM:-0500
TZOFFSETTO:-0400
TZNAME:EDT
DTSTART:20260308T070000
END:DAYLIGHT
BEGIN:STANDARD
TZOFFSETFROM:-0400
TZOFFSETTO:-0500
TZNAME:EST
DTSTART:20261101T060000
END:STANDARD
BEGIN:DAYLIGHT
TZOFFSETFROM:-0500
TZOFFSETTO:-0400
TZNAME:EDT
DTSTART:20270314T070000
END:DAYLIGHT
BEGIN:STANDARD
TZOFFSETFROM:-0400
TZOFFSETTO:-0500
TZNAME:EST
DTSTART:20271107T060000
END:STANDARD
BEGIN:DAYLIGHT
TZOFFSETFROM:-0500
TZOFFSETTO:-0400
TZNAME:EDT
DTSTART:20280312T070000
END:DAYLIGHT
BEGIN:STANDARD
TZOFFSETFROM:-0400
TZOFFSETTO:-0500
TZNAME:EST
DTSTART:20281105T060000
END:STANDARD
END:VTIMEZONE
BEGIN:VEVENT
DTSTART;TZID=America/New_York:20270517T190000
DTEND;TZID=America/New_York:20270517T203000
DTSTAMP:20260422T213612
CREATED:20241210T200511Z
LAST-MODIFIED:20260319T142531Z
UID:10001992-1810580400-1810585800@townofnewlebanon.com
SUMMARY:Zoning Rewrite Committee (ZRC) meeting
DESCRIPTION:
URL:https://townofnewlebanon.com/event/zoning-rewrite-committee-zrc-meeting/2027-05-17/
LOCATION:Town Hall\, 14755 Route 22 North\, New Lebanon\, NY\, 12125\, United States
CATEGORIES:General
END:VEVENT
BEGIN:VEVENT
DTSTART;TZID=America/New_York:20270518T140000
DTEND;TZID=America/New_York:20270518T173000
DTSTAMP:20260422T213612
CREATED:20250108T215951Z
LAST-MODIFIED:20250108T215951Z
UID:10002216-1810648800-1810661400@townofnewlebanon.com
SUMMARY:New Lebanon Community Center Open Hours
DESCRIPTION:
URL:https://townofnewlebanon.com/event/new-lebanon-community-center-open-hours/2027-05-18/
LOCATION:New Lebanon Community Center\, 523 US Route 20\, New Lebanon
CATEGORIES:community
END:VEVENT
BEGIN:VEVENT
DTSTART;TZID=America/New_York:20270518T170000
DTEND;TZID=America/New_York:20270518T180000
DTSTAMP:20260422T213612
CREATED:20240216T215703Z
LAST-MODIFIED:20260319T150413Z
UID:10006413-1810659600-1810663200@townofnewlebanon.com
SUMMARY:New Recreation Commission Meeting
DESCRIPTION:
URL:https://townofnewlebanon.com/event/recreation-commission-meeting/2027-05-18/
CATEGORIES:General
END:VEVENT
BEGIN:VEVENT
DTSTART;TZID=America/New_York:20270518T183000
DTEND;TZID=America/New_York:20270518T193000
DTSTAMP:20260422T213612
CREATED:20260319T150247Z
LAST-MODIFIED:20260319T150247Z
UID:10006535-1810665000-1810668600@townofnewlebanon.com
SUMMARY:Events Committee Meeting
DESCRIPTION:
URL:https://townofnewlebanon.com/event/events-committee-meeting/2027-05-18/
LOCATION:Town Hall\, 14755 Route 22 North\, New Lebanon\, NY\, 12125\, United States
CATEGORIES:General
END:VEVENT
BEGIN:VEVENT
DTSTART;TZID=America/New_York:20270519T140000
DTEND;TZID=America/New_York:20270519T173000
DTSTAMP:20260422T213612
CREATED:20250415T184745Z
LAST-MODIFIED:20250415T184745Z
UID:10005122-1810735200-1810747800@townofnewlebanon.com
SUMMARY:New Lebanon Community Center Open Hours
DESCRIPTION:
URL:https://townofnewlebanon.com/event/new-lebanon-community-center-open-hours-2/2027-05-19/
LOCATION:New Lebanon Community Center\, 523 US Route 20\, New Lebanon
CATEGORIES:community,General
END:VEVENT
BEGIN:VEVENT
DTSTART;TZID=America/New_York:20270519T190000
DTEND;TZID=America/New_York:20270519T210000
DTSTAMP:20260422T213612
CREATED:20220626T170833Z
LAST-MODIFIED:20251113T145144Z
UID:10000289-1810753200-1810760400@townofnewlebanon.com
SUMMARY:Planning Board
DESCRIPTION:Also available via Live Stream – for link see PB Agendas and Documents page
URL:https://townofnewlebanon.com/event/planning-board-town-hall/2027-05-19/
LOCATION:Town Hall\, 14755 Route 22 North\, New Lebanon\, NY\, 12125\, United States
CATEGORIES:General
END:VEVENT
BEGIN:VEVENT
DTSTART;TZID=America/New_York:20270519T191500
DTEND;TZID=America/New_York:20270519T203000
DTSTAMP:20260422T213612
CREATED:20260323T192950Z
LAST-MODIFIED:20260323T193320Z
UID:10006647-1810754100-1810758600@townofnewlebanon.com
SUMMARY:Yoga at the Community Center
DESCRIPTION:
URL:https://townofnewlebanon.com/event/yoga-at-the-community-center/2027-05-19/
LOCATION:New Lebanon Community Center\, 523 US Route 20\, New Lebanon
CATEGORIES:community
END:VEVENT
BEGIN:VEVENT
DTSTART;TZID=America/New_York:20270520T130000
DTEND;TZID=America/New_York:20270520T150000
DTSTAMP:20260422T213612
CREATED:20250102T212053Z
LAST-MODIFIED:20250102T212133Z
UID:10002052-1810818000-1810825200@townofnewlebanon.com
SUMMARY:Acoustic Jam
DESCRIPTION:
URL:https://townofnewlebanon.com/event/acoustic-jam/2027-05-20/
LOCATION:New Lebanon Community Center\, 523 US Route 20\, New Lebanon
CATEGORIES:community,General
END:VEVENT
BEGIN:VEVENT
DTSTART;TZID=America/New_York:20270520T140000
DTEND;TZID=America/New_York:20270520T173000
DTSTAMP:20260422T213612
CREATED:20250108T220313Z
LAST-MODIFIED:20251023T151221Z
UID:10003261-1810821600-1810834200@townofnewlebanon.com
SUMMARY:New Lebanon Community Center Open Hours
DESCRIPTION:
URL:https://townofnewlebanon.com/event/new-lebanon-community-center-open-hours-3/2027-05-20/
LOCATION:New Lebanon Community Center\, 523 US Route 20\, New Lebanon
CATEGORIES:community
END:VEVENT
BEGIN:VEVENT
DTSTART;TZID=America/New_York:20270521T130000
DTEND;TZID=America/New_York:20270521T150000
DTSTAMP:20260422T213612
CREATED:20240406T213120Z
LAST-MODIFIED:20250113T220339Z
UID:10001465-1810904400-1810911600@townofnewlebanon.com
SUMMARY:Lebanon Valley Seniors Meeting
DESCRIPTION:
URL:https://townofnewlebanon.com/event/lebanon-valley-seniors-meeting/2027-05-21/
LOCATION:New Lebanon Community Center\, 523 US Route 20\, New Lebanon
CATEGORIES:community,General
END:VEVENT
BEGIN:VEVENT
DTSTART;TZID=America/New_York:20270522T170000
DTEND;TZID=America/New_York:20270522T200000
DTSTAMP:20260422T213612
CREATED:20250108T220435Z
LAST-MODIFIED:20250108T220521Z
UID:10003783-1811005200-1811016000@townofnewlebanon.com
SUMMARY:New Lebanon Community Center Open Hours
DESCRIPTION:
URL:https://townofnewlebanon.com/event/new-lebanon-community-center-open-hours-4/2027-05-22/
LOCATION:New Lebanon Community Center\, 523 US Route 20\, New Lebanon
CATEGORIES:community
END:VEVENT
BEGIN:VEVENT
DTSTART;TZID=America/New_York:20270523T110000
DTEND;TZID=America/New_York:20270523T140000
DTSTAMP:20260422T213612
CREATED:20250108T220607Z
LAST-MODIFIED:20260319T144103Z
UID:10004305-1811070000-1811080800@townofnewlebanon.com
SUMMARY:New Lebanon Community Center Open Hours
DESCRIPTION:
URL:https://townofnewlebanon.com/event/new-lebanon-community-center-open-hours-5/2027-05-23/
LOCATION:New Lebanon Community Center\, 523 US Route 20\, New Lebanon
CATEGORIES:community
END:VEVENT
BEGIN:VEVENT
DTSTART;TZID=America/New_York:20270524T170000
DTEND;TZID=America/New_York:20270524T183000
DTSTAMP:20260422T213612
CREATED:20250228T173518Z
LAST-MODIFIED:20250827T130442Z
UID:10005431-1811178000-1811183400@townofnewlebanon.com
SUMMARY:LVHS Meeting
DESCRIPTION:
URL:https://townofnewlebanon.com/event/lvhs-meeting-town-hall-2/2027-05-24/
LOCATION:Town Hall\, 14755 Route 22 North\, New Lebanon\, NY\, 12125\, United States
CATEGORIES:General
END:VEVENT
BEGIN:VEVENT
DTSTART;TZID=America/New_York:20270525T140000
DTEND;TZID=America/New_York:20270525T173000
DTSTAMP:20260422T213612
CREATED:20250108T215951Z
LAST-MODIFIED:20250108T215951Z
UID:10002217-1811253600-1811266200@townofnewlebanon.com
SUMMARY:New Lebanon Community Center Open Hours
DESCRIPTION:
URL:https://townofnewlebanon.com/event/new-lebanon-community-center-open-hours/2027-05-25/
LOCATION:New Lebanon Community Center\, 523 US Route 20\, New Lebanon
CATEGORIES:community
END:VEVENT
BEGIN:VEVENT
DTSTART;TZID=America/New_York:20270526T140000
DTEND;TZID=America/New_York:20270526T173000
DTSTAMP:20260422T213612
CREATED:20250415T184745Z
LAST-MODIFIED:20250415T184745Z
UID:10005123-1811340000-1811352600@townofnewlebanon.com
SUMMARY:New Lebanon Community Center Open Hours
DESCRIPTION:
URL:https://townofnewlebanon.com/event/new-lebanon-community-center-open-hours-2/2027-05-26/
LOCATION:New Lebanon Community Center\, 523 US Route 20\, New Lebanon
CATEGORIES:community,General
END:VEVENT
BEGIN:VEVENT
DTSTART;TZID=America/New_York:20270526T191500
DTEND;TZID=America/New_York:20270526T203000
DTSTAMP:20260422T213612
CREATED:20260323T192950Z
LAST-MODIFIED:20260323T193320Z
UID:10006648-1811358900-1811363400@townofnewlebanon.com
SUMMARY:Yoga at the Community Center
DESCRIPTION:
URL:https://townofnewlebanon.com/event/yoga-at-the-community-center/2027-05-26/
LOCATION:New Lebanon Community Center\, 523 US Route 20\, New Lebanon
CATEGORIES:community
END:VEVENT
BEGIN:VEVENT
DTSTART;TZID=America/New_York:20270527T140000
DTEND;TZID=America/New_York:20270527T173000
DTSTAMP:20260422T213612
CREATED:20250108T220313Z
LAST-MODIFIED:20251023T151221Z
UID:10003262-1811426400-1811439000@townofnewlebanon.com
SUMMARY:New Lebanon Community Center Open Hours
DESCRIPTION:
URL:https://townofnewlebanon.com/event/new-lebanon-community-center-open-hours-3/2027-05-27/
LOCATION:New Lebanon Community Center\, 523 US Route 20\, New Lebanon
CATEGORIES:community
END:VEVENT
BEGIN:VEVENT
DTSTART;TZID=America/New_York:20270529T170000
DTEND;TZID=America/New_York:20270529T200000
DTSTAMP:20260422T213612
CREATED:20250108T220435Z
LAST-MODIFIED:20250108T220521Z
UID:10003784-1811610000-1811620800@townofnewlebanon.com
SUMMARY:New Lebanon Community Center Open Hours
DESCRIPTION:
URL:https://townofnewlebanon.com/event/new-lebanon-community-center-open-hours-4/2027-05-29/
LOCATION:New Lebanon Community Center\, 523 US Route 20\, New Lebanon
CATEGORIES:community
END:VEVENT
BEGIN:VEVENT
DTSTART;TZID=America/New_York:20270530T110000
DTEND;TZID=America/New_York:20270530T140000
DTSTAMP:20260422T213612
CREATED:20250108T220607Z
LAST-MODIFIED:20260319T144103Z
UID:10004306-1811674800-1811685600@townofnewlebanon.com
SUMMARY:New Lebanon Community Center Open Hours
DESCRIPTION:
URL:https://townofnewlebanon.com/event/new-lebanon-community-center-open-hours-5/2027-05-30/
LOCATION:New Lebanon Community Center\, 523 US Route 20\, New Lebanon
CATEGORIES:community
END:VEVENT
BEGIN:VEVENT
DTSTART;TZID=America/New_York:20270601T140000
DTEND;TZID=America/New_York:20270601T173000
DTSTAMP:20260422T213612
CREATED:20250108T215951Z
LAST-MODIFIED:20250108T215951Z
UID:10002218-1811858400-1811871000@townofnewlebanon.com
SUMMARY:New Lebanon Community Center Open Hours
DESCRIPTION:
URL:https://townofnewlebanon.com/event/new-lebanon-community-center-open-hours/2027-06-01/
LOCATION:New Lebanon Community Center\, 523 US Route 20\, New Lebanon
CATEGORIES:community
END:VEVENT
BEGIN:VEVENT
DTSTART;TZID=America/New_York:20270601T190000
DTEND;TZID=America/New_York:20270601T200000
DTSTAMP:20260422T213612
CREATED:20250325T153928Z
LAST-MODIFIED:20250923T165459Z
UID:10004903-1811876400-1811880000@townofnewlebanon.com
SUMMARY:ZBA Meeting
DESCRIPTION:Check if there is an agenda posted at: https://townofnewlebanon.com/building/ – \nThe Zoning Board of Appeals only meets if it has a case to review. If there is no agenda posted\, there is no meeting.
URL:https://townofnewlebanon.com/event/zba-meeting-if-needed/2027-06-01/
LOCATION:Town Hall\, 14755 Route 22 North\, New Lebanon\, NY\, 12125\, United States
CATEGORIES:General
END:VEVENT
BEGIN:VEVENT
DTSTART;TZID=America/New_York:20270602T140000
DTEND;TZID=America/New_York:20270602T173000
DTSTAMP:20260422T213612
CREATED:20250415T184745Z
LAST-MODIFIED:20250415T184745Z
UID:10005124-1811944800-1811957400@townofnewlebanon.com
SUMMARY:New Lebanon Community Center Open Hours
DESCRIPTION:
URL:https://townofnewlebanon.com/event/new-lebanon-community-center-open-hours-2/2027-06-02/
LOCATION:New Lebanon Community Center\, 523 US Route 20\, New Lebanon
CATEGORIES:community,General
END:VEVENT
BEGIN:VEVENT
DTSTART;TZID=America/New_York:20270602T170000
DTEND;TZID=America/New_York:20270602T183000
DTSTAMP:20260422T213612
CREATED:20220626T161625Z
LAST-MODIFIED:20260320T194508Z
UID:10001627-1811955600-1811961000@townofnewlebanon.com
SUMMARY:CSC Meeting
DESCRIPTION:
URL:https://townofnewlebanon.com/event/csc-meeting-2022-08-03/2027-06-02/
LOCATION:Town Hall\, 14755 Route 22 North\, New Lebanon\, NY\, 12125\, United States
CATEGORIES:General
ATTACH;FMTTYPE=image/jpeg:https://townofnewlebanon.com/wp-content/uploads/2022/06/CSC_bronze-logo-with-NL-e1656592455471.jpeg
END:VEVENT
BEGIN:VEVENT
DTSTART;TZID=America/New_York:20270602T191500
DTEND;TZID=America/New_York:20270602T203000
DTSTAMP:20260422T213612
CREATED:20260323T192950Z
LAST-MODIFIED:20260323T193320Z
UID:10006649-1811963700-1811968200@townofnewlebanon.com
SUMMARY:Yoga at the Community Center
DESCRIPTION:
URL:https://townofnewlebanon.com/event/yoga-at-the-community-center/2027-06-02/
LOCATION:New Lebanon Community Center\, 523 US Route 20\, New Lebanon
CATEGORIES:community
END:VEVENT
BEGIN:VEVENT
DTSTART;TZID=America/New_York:20270603T140000
DTEND;TZID=America/New_York:20270603T173000
DTSTAMP:20260422T213612
CREATED:20250108T220313Z
LAST-MODIFIED:20251023T151221Z
UID:10003263-1812031200-1812043800@townofnewlebanon.com
SUMMARY:New Lebanon Community Center Open Hours
DESCRIPTION:
URL:https://townofnewlebanon.com/event/new-lebanon-community-center-open-hours-3/2027-06-03/
LOCATION:New Lebanon Community Center\, 523 US Route 20\, New Lebanon
CATEGORIES:community
END:VEVENT
BEGIN:VEVENT
DTSTART;TZID=America/New_York:20270604T130000
DTEND;TZID=America/New_York:20270604T150000
DTSTAMP:20260422T213612
CREATED:20240406T213429Z
LAST-MODIFIED:20250226T163458Z
UID:10001523-1812114000-1812121200@townofnewlebanon.com
SUMMARY:Lebanon Valley Seniors Meeting
DESCRIPTION:
URL:https://townofnewlebanon.com/event/lebanon-valley-seniors-meeting-2/2027-06-04/
LOCATION:New Lebanon Community Center\, 523 US Route 20\, New Lebanon
CATEGORIES:community,General
END:VEVENT
BEGIN:VEVENT
DTSTART;TZID=America/New_York:20270605T170000
DTEND;TZID=America/New_York:20270605T200000
DTSTAMP:20260422T213612
CREATED:20250108T220435Z
LAST-MODIFIED:20250108T220521Z
UID:10003785-1812214800-1812225600@townofnewlebanon.com
SUMMARY:New Lebanon Community Center Open Hours
DESCRIPTION:
URL:https://townofnewlebanon.com/event/new-lebanon-community-center-open-hours-4/2027-06-05/
LOCATION:New Lebanon Community Center\, 523 US Route 20\, New Lebanon
CATEGORIES:community
END:VEVENT
BEGIN:VEVENT
DTSTART;TZID=America/New_York:20270606T110000
DTEND;TZID=America/New_York:20270606T140000
DTSTAMP:20260422T213612
CREATED:20250108T220607Z
LAST-MODIFIED:20260319T144103Z
UID:10004307-1812279600-1812290400@townofnewlebanon.com
SUMMARY:New Lebanon Community Center Open Hours
DESCRIPTION:
URL:https://townofnewlebanon.com/event/new-lebanon-community-center-open-hours-5/2027-06-06/
LOCATION:New Lebanon Community Center\, 523 US Route 20\, New Lebanon
CATEGORIES:community
END:VEVENT
BEGIN:VEVENT
DTSTART;TZID=America/New_York:20270607T170000
DTEND;TZID=America/New_York:20270607T183000
DTSTAMP:20260422T213612
CREATED:20260122T153503Z
LAST-MODIFIED:20260319T145031Z
UID:10006087-1812387600-1812393000@townofnewlebanon.com
SUMMARY:Conservation Advisory Council Meeting
DESCRIPTION:
URL:https://townofnewlebanon.com/event/conservation-advisory-committee-meeting/2027-06-07/
LOCATION:Town Hall\, 14755 Route 22 North\, New Lebanon\, NY\, 12125\, United States
END:VEVENT
BEGIN:VEVENT
DTSTART;TZID=America/New_York:20270608T140000
DTEND;TZID=America/New_York:20270608T173000
DTSTAMP:20260422T213613
CREATED:20250108T215951Z
LAST-MODIFIED:20250108T215951Z
UID:10002219-1812463200-1812475800@townofnewlebanon.com
SUMMARY:New Lebanon Community Center Open Hours
DESCRIPTION:
URL:https://townofnewlebanon.com/event/new-lebanon-community-center-open-hours/2027-06-08/
LOCATION:New Lebanon Community Center\, 523 US Route 20\, New Lebanon
CATEGORIES:community
END:VEVENT
END:VCALENDAR