BEGIN:VCALENDAR
VERSION:2.0
PRODID:-//Town of New Lebanon - ECPv6.15.20//NONSGML v1.0//EN
CALSCALE:GREGORIAN
METHOD:PUBLISH
X-WR-CALNAME:Town of New Lebanon
X-ORIGINAL-URL:https://townofnewlebanon.com
X-WR-CALDESC:Events for Town of New Lebanon
REFRESH-INTERVAL;VALUE=DURATION:PT1H
X-Robots-Tag:noindex
X-PUBLISHED-TTL:PT1H
BEGIN:VTIMEZONE
TZID:America/New_York
BEGIN:DAYLIGHT
TZOFFSETFROM:-0500
TZOFFSETTO:-0400
TZNAME:EDT
DTSTART:20250309T070000
END:DAYLIGHT
BEGIN:STANDARD
TZOFFSETFROM:-0400
TZOFFSETTO:-0500
TZNAME:EST
DTSTART:20251102T060000
END:STANDARD
BEGIN:DAYLIGHT
TZOFFSETFROM:-0500
TZOFFSETTO:-0400
TZNAME:EDT
DTSTART:20260308T070000
END:DAYLIGHT
BEGIN:STANDARD
TZOFFSETFROM:-0400
TZOFFSETTO:-0500
TZNAME:EST
DTSTART:20261101T060000
END:STANDARD
BEGIN:DAYLIGHT
TZOFFSETFROM:-0500
TZOFFSETTO:-0400
TZNAME:EDT
DTSTART:20270314T070000
END:DAYLIGHT
BEGIN:STANDARD
TZOFFSETFROM:-0400
TZOFFSETTO:-0500
TZNAME:EST
DTSTART:20271107T060000
END:STANDARD
END:VTIMEZONE
BEGIN:VEVENT
DTSTART;TZID=America/New_York:20260531T110000
DTEND;TZID=America/New_York:20260531T140000
DTSTAMP:20260422T073702
CREATED:20250108T220607Z
LAST-MODIFIED:20260319T144103Z
UID:10004254-1780225200-1780236000@townofnewlebanon.com
SUMMARY:New Lebanon Community Center Open Hours
DESCRIPTION:
URL:https://townofnewlebanon.com/event/new-lebanon-community-center-open-hours-5/2026-05-31/
LOCATION:New Lebanon Community Center\, 523 US Route 20\, New Lebanon
CATEGORIES:community
END:VEVENT
BEGIN:VEVENT
DTSTART;TZID=America/New_York:20260601T110000
DTEND;TZID=America/New_York:20260601T120000
DTSTAMP:20260422T073702
CREATED:20260310T172650Z
LAST-MODIFIED:20260310T172915Z
UID:10006195-1780311600-1780315200@townofnewlebanon.com
SUMMARY:Tai Chi at Community Center
DESCRIPTION:
URL:https://townofnewlebanon.com/event/tai-chi-at-community-center/2026-06-01/
LOCATION:New Lebanon Community Center\, 523 US Route 20\, New Lebanon
CATEGORIES:community
END:VEVENT
BEGIN:VEVENT
DTSTART;TZID=America/New_York:20260602T140000
DTEND;TZID=America/New_York:20260602T173000
DTSTAMP:20260422T073702
CREATED:20250108T215951Z
LAST-MODIFIED:20250108T215951Z
UID:10002166-1780408800-1780421400@townofnewlebanon.com
SUMMARY:New Lebanon Community Center Open Hours
DESCRIPTION:
URL:https://townofnewlebanon.com/event/new-lebanon-community-center-open-hours/2026-06-02/
LOCATION:New Lebanon Community Center\, 523 US Route 20\, New Lebanon
CATEGORIES:community
END:VEVENT
BEGIN:VEVENT
DTSTART;TZID=America/New_York:20260603T140000
DTEND;TZID=America/New_York:20260603T173000
DTSTAMP:20260422T073702
CREATED:20250415T184745Z
LAST-MODIFIED:20250415T184745Z
UID:10005072-1780495200-1780507800@townofnewlebanon.com
SUMMARY:New Lebanon Community Center Open Hours
DESCRIPTION:
URL:https://townofnewlebanon.com/event/new-lebanon-community-center-open-hours-2/2026-06-03/
LOCATION:New Lebanon Community Center\, 523 US Route 20\, New Lebanon
CATEGORIES:community,General
END:VEVENT
BEGIN:VEVENT
DTSTART;TZID=America/New_York:20260603T191500
DTEND;TZID=America/New_York:20260603T203000
DTSTAMP:20260422T073702
CREATED:20260323T192950Z
LAST-MODIFIED:20260323T193320Z
UID:10006597-1780514100-1780518600@townofnewlebanon.com
SUMMARY:Yoga at the Community Center
DESCRIPTION:
URL:https://townofnewlebanon.com/event/yoga-at-the-community-center/2026-06-03/
LOCATION:New Lebanon Community Center\, 523 US Route 20\, New Lebanon
CATEGORIES:community
END:VEVENT
BEGIN:VEVENT
DTSTART;TZID=America/New_York:20260604T140000
DTEND;TZID=America/New_York:20260604T173000
DTSTAMP:20260422T073702
CREATED:20250108T220313Z
LAST-MODIFIED:20251023T151221Z
UID:10003211-1780581600-1780594200@townofnewlebanon.com
SUMMARY:New Lebanon Community Center Open Hours
DESCRIPTION:
URL:https://townofnewlebanon.com/event/new-lebanon-community-center-open-hours-3/2026-06-04/
LOCATION:New Lebanon Community Center\, 523 US Route 20\, New Lebanon
CATEGORIES:community
END:VEVENT
BEGIN:VEVENT
DTSTART;TZID=America/New_York:20260605T130000
DTEND;TZID=America/New_York:20260605T150000
DTSTAMP:20260422T073702
CREATED:20240406T213429Z
LAST-MODIFIED:20250226T163458Z
UID:10001511-1780664400-1780671600@townofnewlebanon.com
SUMMARY:Lebanon Valley Seniors Meeting
DESCRIPTION:
URL:https://townofnewlebanon.com/event/lebanon-valley-seniors-meeting-2/2026-06-05/
LOCATION:New Lebanon Community Center\, 523 US Route 20\, New Lebanon
CATEGORIES:community,General
END:VEVENT
BEGIN:VEVENT
DTSTART;TZID=America/New_York:20260606T170000
DTEND;TZID=America/New_York:20260606T200000
DTSTAMP:20260422T073702
CREATED:20250108T220435Z
LAST-MODIFIED:20250108T220521Z
UID:10003733-1780765200-1780776000@townofnewlebanon.com
SUMMARY:New Lebanon Community Center Open Hours
DESCRIPTION:
URL:https://townofnewlebanon.com/event/new-lebanon-community-center-open-hours-4/2026-06-06/
LOCATION:New Lebanon Community Center\, 523 US Route 20\, New Lebanon
CATEGORIES:community
END:VEVENT
END:VCALENDAR