BEGIN:VCALENDAR
VERSION:2.0
PRODID:-//Town of New Lebanon - ECPv6.15.20//NONSGML v1.0//EN
CALSCALE:GREGORIAN
METHOD:PUBLISH
X-WR-CALNAME:Town of New Lebanon
X-ORIGINAL-URL:https://townofnewlebanon.com
X-WR-CALDESC:Events for Town of New Lebanon
REFRESH-INTERVAL;VALUE=DURATION:PT1H
X-Robots-Tag:noindex
X-PUBLISHED-TTL:PT1H
BEGIN:VTIMEZONE
TZID:America/New_York
BEGIN:DAYLIGHT
TZOFFSETFROM:-0500
TZOFFSETTO:-0400
TZNAME:EDT
DTSTART:20250309T070000
END:DAYLIGHT
BEGIN:STANDARD
TZOFFSETFROM:-0400
TZOFFSETTO:-0500
TZNAME:EST
DTSTART:20251102T060000
END:STANDARD
BEGIN:DAYLIGHT
TZOFFSETFROM:-0500
TZOFFSETTO:-0400
TZNAME:EDT
DTSTART:20260308T070000
END:DAYLIGHT
BEGIN:STANDARD
TZOFFSETFROM:-0400
TZOFFSETTO:-0500
TZNAME:EST
DTSTART:20261101T060000
END:STANDARD
BEGIN:DAYLIGHT
TZOFFSETFROM:-0500
TZOFFSETTO:-0400
TZNAME:EDT
DTSTART:20270314T070000
END:DAYLIGHT
BEGIN:STANDARD
TZOFFSETFROM:-0400
TZOFFSETTO:-0500
TZNAME:EST
DTSTART:20271107T060000
END:STANDARD
END:VTIMEZONE
BEGIN:VEVENT
DTSTART;TZID=America/New_York:20260315T110000
DTEND;TZID=America/New_York:20260315T140000
DTSTAMP:20260422T073708
CREATED:20250108T220607Z
LAST-MODIFIED:20260319T144103Z
UID:10004243-1773572400-1773583200@townofnewlebanon.com
SUMMARY:New Lebanon Community Center Open Hours
DESCRIPTION:
URL:https://townofnewlebanon.com/event/new-lebanon-community-center-open-hours-5/2026-03-15/
LOCATION:New Lebanon Community Center\, 523 US Route 20\, New Lebanon
CATEGORIES:community
END:VEVENT
BEGIN:VEVENT
DTSTART;TZID=America/New_York:20260317T140000
DTEND;TZID=America/New_York:20260317T173000
DTSTAMP:20260422T073708
CREATED:20250108T215951Z
LAST-MODIFIED:20250108T215951Z
UID:10002155-1773756000-1773768600@townofnewlebanon.com
SUMMARY:New Lebanon Community Center Open Hours
DESCRIPTION:
URL:https://townofnewlebanon.com/event/new-lebanon-community-center-open-hours/2026-03-17/
LOCATION:New Lebanon Community Center\, 523 US Route 20\, New Lebanon
CATEGORIES:community
END:VEVENT
BEGIN:VEVENT
DTSTART;TZID=America/New_York:20260318T140000
DTEND;TZID=America/New_York:20260318T173000
DTSTAMP:20260422T073708
CREATED:20250415T184745Z
LAST-MODIFIED:20250415T184745Z
UID:10005061-1773842400-1773855000@townofnewlebanon.com
SUMMARY:New Lebanon Community Center Open Hours
DESCRIPTION:
URL:https://townofnewlebanon.com/event/new-lebanon-community-center-open-hours-2/2026-03-18/
LOCATION:New Lebanon Community Center\, 523 US Route 20\, New Lebanon
CATEGORIES:community,General
END:VEVENT
BEGIN:VEVENT
DTSTART;TZID=America/New_York:20260319T130000
DTEND;TZID=America/New_York:20260319T150000
DTSTAMP:20260422T073708
CREATED:20250102T212053Z
LAST-MODIFIED:20250102T212133Z
UID:10002038-1773925200-1773932400@townofnewlebanon.com
SUMMARY:Acoustic Jam
DESCRIPTION:
URL:https://townofnewlebanon.com/event/acoustic-jam/2026-03-19/
LOCATION:New Lebanon Community Center\, 523 US Route 20\, New Lebanon
CATEGORIES:community,General
END:VEVENT
BEGIN:VEVENT
DTSTART;TZID=America/New_York:20260319T140000
DTEND;TZID=America/New_York:20260319T173000
DTSTAMP:20260422T073708
CREATED:20250108T220313Z
LAST-MODIFIED:20251023T151221Z
UID:10003200-1773928800-1773941400@townofnewlebanon.com
SUMMARY:New Lebanon Community Center Open Hours
DESCRIPTION:
URL:https://townofnewlebanon.com/event/new-lebanon-community-center-open-hours-3/2026-03-19/
LOCATION:New Lebanon Community Center\, 523 US Route 20\, New Lebanon
CATEGORIES:community
END:VEVENT
BEGIN:VEVENT
DTSTART;TZID=America/New_York:20260319T170000
DTEND;TZID=America/New_York:20260319T183000
DTSTAMP:20260422T073708
CREATED:20260207T194626Z
LAST-MODIFIED:20260207T194626Z
UID:10006158-1773939600-1773945000@townofnewlebanon.com
SUMMARY:Chicken & Waffle Dinner at Community Center
DESCRIPTION:
URL:https://townofnewlebanon.com/event/chicken-waffle-dinner-at-community-center/
LOCATION:New Lebanon Community Center\, 523 US Route 20\, New Lebanon
CATEGORIES:community
END:VEVENT
BEGIN:VEVENT
DTSTART;TZID=America/New_York:20260320T130000
DTEND;TZID=America/New_York:20260320T150000
DTSTAMP:20260422T073708
CREATED:20240406T213120Z
LAST-MODIFIED:20250113T220339Z
UID:10001451-1774011600-1774018800@townofnewlebanon.com
SUMMARY:Lebanon Valley Seniors Meeting
DESCRIPTION:
URL:https://townofnewlebanon.com/event/lebanon-valley-seniors-meeting/2026-03-20/
LOCATION:New Lebanon Community Center\, 523 US Route 20\, New Lebanon
CATEGORIES:community,General
END:VEVENT
BEGIN:VEVENT
DTSTART;TZID=America/New_York:20260321T110000
DTEND;TZID=America/New_York:20260321T170000
DTSTAMP:20260422T073708
CREATED:20260212T145120Z
LAST-MODIFIED:20260311T141306Z
UID:10006166-1774090800-1774112400@townofnewlebanon.com
SUMMARY:Private rental March 21
DESCRIPTION:
URL:https://townofnewlebanon.com/event/private-rental-3/
LOCATION:New Lebanon Community Center\, 523 US Route 20\, New Lebanon
CATEGORIES:community
END:VEVENT
BEGIN:VEVENT
DTSTART;TZID=America/New_York:20260321T170000
DTEND;TZID=America/New_York:20260321T200000
DTSTAMP:20260422T073708
CREATED:20250108T220435Z
LAST-MODIFIED:20250108T220521Z
UID:10003722-1774112400-1774123200@townofnewlebanon.com
SUMMARY:New Lebanon Community Center Open Hours
DESCRIPTION:
URL:https://townofnewlebanon.com/event/new-lebanon-community-center-open-hours-4/2026-03-21/
LOCATION:New Lebanon Community Center\, 523 US Route 20\, New Lebanon
CATEGORIES:community
END:VEVENT
BEGIN:VEVENT
DTSTART;TZID=America/New_York:20260321T173000
DTEND;TZID=America/New_York:20260321T193000
DTSTAMP:20260422T073708
CREATED:20251224T204700Z
LAST-MODIFIED:20251224T204700Z
UID:10005640-1774114200-1774121400@townofnewlebanon.com
SUMMARY:Karaoke night at the Community Center
DESCRIPTION:
URL:https://townofnewlebanon.com/event/karaoke-night-at-the-community-center-9/
CATEGORIES:community,General
END:VEVENT
END:VCALENDAR