BEGIN:VCALENDAR
VERSION:2.0
PRODID:-//Town of New Lebanon - ECPv6.15.20//NONSGML v1.0//EN
CALSCALE:GREGORIAN
METHOD:PUBLISH
X-WR-CALNAME:Town of New Lebanon
X-ORIGINAL-URL:https://townofnewlebanon.com
X-WR-CALDESC:Events for Town of New Lebanon
REFRESH-INTERVAL;VALUE=DURATION:PT1H
X-Robots-Tag:noindex
X-PUBLISHED-TTL:PT1H
BEGIN:VTIMEZONE
TZID:America/New_York
BEGIN:DAYLIGHT
TZOFFSETFROM:-0500
TZOFFSETTO:-0400
TZNAME:EDT
DTSTART:20250309T070000
END:DAYLIGHT
BEGIN:STANDARD
TZOFFSETFROM:-0400
TZOFFSETTO:-0500
TZNAME:EST
DTSTART:20251102T060000
END:STANDARD
BEGIN:DAYLIGHT
TZOFFSETFROM:-0500
TZOFFSETTO:-0400
TZNAME:EDT
DTSTART:20260308T070000
END:DAYLIGHT
BEGIN:STANDARD
TZOFFSETFROM:-0400
TZOFFSETTO:-0500
TZNAME:EST
DTSTART:20261101T060000
END:STANDARD
BEGIN:DAYLIGHT
TZOFFSETFROM:-0500
TZOFFSETTO:-0400
TZNAME:EDT
DTSTART:20270314T070000
END:DAYLIGHT
BEGIN:STANDARD
TZOFFSETFROM:-0400
TZOFFSETTO:-0500
TZNAME:EST
DTSTART:20271107T060000
END:STANDARD
END:VTIMEZONE
BEGIN:VEVENT
DTSTART;TZID=America/New_York:20260325T191500
DTEND;TZID=America/New_York:20260325T203000
DTSTAMP:20260422T175745
CREATED:20260323T192950Z
LAST-MODIFIED:20260323T193320Z
UID:10006587-1774466100-1774470600@townofnewlebanon.com
SUMMARY:Yoga at the Community Center
DESCRIPTION:
URL:https://townofnewlebanon.com/event/yoga-at-the-community-center/2026-03-25/
LOCATION:New Lebanon Community Center\, 523 US Route 20\, New Lebanon
CATEGORIES:community
END:VEVENT
BEGIN:VEVENT
DTSTART;TZID=America/New_York:20260326T140000
DTEND;TZID=America/New_York:20260326T173000
DTSTAMP:20260422T175745
CREATED:20250108T220313Z
LAST-MODIFIED:20251023T151221Z
UID:10003201-1774533600-1774546200@townofnewlebanon.com
SUMMARY:New Lebanon Community Center Open Hours
DESCRIPTION:
URL:https://townofnewlebanon.com/event/new-lebanon-community-center-open-hours-3/2026-03-26/
LOCATION:New Lebanon Community Center\, 523 US Route 20\, New Lebanon
CATEGORIES:community
END:VEVENT
BEGIN:VEVENT
DTSTART;TZID=America/New_York:20260327T090000
DTEND;TZID=America/New_York:20260327T170000
DTSTAMP:20260422T175745
CREATED:20260107T160611Z
LAST-MODIFIED:20260107T160611Z
UID:10005705-1774602000-1774630800@townofnewlebanon.com
SUMMARY:Project Prom Setup
DESCRIPTION:
URL:https://townofnewlebanon.com/event/project-prom-setup/
LOCATION:New Lebanon Community Center\, 523 US Route 20\, New Lebanon
CATEGORIES:community
END:VEVENT
BEGIN:VEVENT
DTSTART;TZID=America/New_York:20260328T110000
DTEND;TZID=America/New_York:20260328T150000
DTSTAMP:20260422T175745
CREATED:20260107T160640Z
LAST-MODIFIED:20260107T160640Z
UID:10005706-1774695600-1774710000@townofnewlebanon.com
SUMMARY:Project Prom
DESCRIPTION:
URL:https://townofnewlebanon.com/event/project-prom/
LOCATION:New Lebanon Community Center\, 523 US Route 20\, New Lebanon
CATEGORIES:community
END:VEVENT
BEGIN:VEVENT
DTSTART;TZID=America/New_York:20260328T170000
DTEND;TZID=America/New_York:20260328T200000
DTSTAMP:20260422T175745
CREATED:20250108T220435Z
LAST-MODIFIED:20250108T220521Z
UID:10003723-1774717200-1774728000@townofnewlebanon.com
SUMMARY:New Lebanon Community Center Open Hours
DESCRIPTION:
URL:https://townofnewlebanon.com/event/new-lebanon-community-center-open-hours-4/2026-03-28/
LOCATION:New Lebanon Community Center\, 523 US Route 20\, New Lebanon
CATEGORIES:community
END:VEVENT
BEGIN:VEVENT
DTSTART;TZID=America/New_York:20260328T170000
DTEND;TZID=America/New_York:20260328T200000
DTSTAMP:20260422T175745
CREATED:20260107T160710Z
LAST-MODIFIED:20260107T160710Z
UID:10005707-1774717200-1774728000@townofnewlebanon.com
SUMMARY:Project Prom
DESCRIPTION:
URL:https://townofnewlebanon.com/event/project-prom-2/
LOCATION:New Lebanon Community Center\, 523 US Route 20\, New Lebanon
CATEGORIES:community
END:VEVENT
BEGIN:VEVENT
DTSTART;TZID=America/New_York:20260329T110000
DTEND;TZID=America/New_York:20260329T140000
DTSTAMP:20260422T175745
CREATED:20250108T220607Z
LAST-MODIFIED:20260319T144103Z
UID:10004245-1774782000-1774792800@townofnewlebanon.com
SUMMARY:New Lebanon Community Center Open Hours
DESCRIPTION:
URL:https://townofnewlebanon.com/event/new-lebanon-community-center-open-hours-5/2026-03-29/
LOCATION:New Lebanon Community Center\, 523 US Route 20\, New Lebanon
CATEGORIES:community
END:VEVENT
BEGIN:VEVENT
DTSTART;TZID=America/New_York:20260329T110000
DTEND;TZID=America/New_York:20260329T150000
DTSTAMP:20260422T175745
CREATED:20260107T160738Z
LAST-MODIFIED:20260107T160738Z
UID:10005708-1774782000-1774796400@townofnewlebanon.com
SUMMARY:Project Prom
DESCRIPTION:
URL:https://townofnewlebanon.com/event/project-prom-3/
LOCATION:New Lebanon Community Center\, 523 US Route 20\, New Lebanon
CATEGORIES:community
END:VEVENT
BEGIN:VEVENT
DTSTART;TZID=America/New_York:20260331T140000
DTEND;TZID=America/New_York:20260331T173000
DTSTAMP:20260422T175745
CREATED:20250108T215951Z
LAST-MODIFIED:20250108T215951Z
UID:10002157-1774965600-1774978200@townofnewlebanon.com
SUMMARY:New Lebanon Community Center Open Hours
DESCRIPTION:
URL:https://townofnewlebanon.com/event/new-lebanon-community-center-open-hours/2026-03-31/
LOCATION:New Lebanon Community Center\, 523 US Route 20\, New Lebanon
CATEGORIES:community
END:VEVENT
BEGIN:VEVENT
DTSTART;TZID=America/New_York:20260401T140000
DTEND;TZID=America/New_York:20260401T173000
DTSTAMP:20260422T175745
CREATED:20250415T184745Z
LAST-MODIFIED:20250415T184745Z
UID:10005063-1775052000-1775064600@townofnewlebanon.com
SUMMARY:New Lebanon Community Center Open Hours
DESCRIPTION:
URL:https://townofnewlebanon.com/event/new-lebanon-community-center-open-hours-2/2026-04-01/
LOCATION:New Lebanon Community Center\, 523 US Route 20\, New Lebanon
CATEGORIES:community,General
END:VEVENT
BEGIN:VEVENT
DTSTART;TZID=America/New_York:20260401T191500
DTEND;TZID=America/New_York:20260401T203000
DTSTAMP:20260422T175745
CREATED:20260323T192950Z
LAST-MODIFIED:20260323T193320Z
UID:10006588-1775070900-1775075400@townofnewlebanon.com
SUMMARY:Yoga at the Community Center
DESCRIPTION:
URL:https://townofnewlebanon.com/event/yoga-at-the-community-center/2026-04-01/
LOCATION:New Lebanon Community Center\, 523 US Route 20\, New Lebanon
CATEGORIES:community
END:VEVENT
BEGIN:VEVENT
DTSTART;TZID=America/New_York:20260402T140000
DTEND;TZID=America/New_York:20260402T173000
DTSTAMP:20260422T175745
CREATED:20250108T220313Z
LAST-MODIFIED:20251023T151221Z
UID:10003202-1775138400-1775151000@townofnewlebanon.com
SUMMARY:New Lebanon Community Center Open Hours
DESCRIPTION:
URL:https://townofnewlebanon.com/event/new-lebanon-community-center-open-hours-3/2026-04-02/
LOCATION:New Lebanon Community Center\, 523 US Route 20\, New Lebanon
CATEGORIES:community
END:VEVENT
BEGIN:VEVENT
DTSTART;TZID=America/New_York:20260403T130000
DTEND;TZID=America/New_York:20260403T150000
DTSTAMP:20260422T175745
CREATED:20240406T213429Z
LAST-MODIFIED:20250226T163458Z
UID:10001509-1775221200-1775228400@townofnewlebanon.com
SUMMARY:Lebanon Valley Seniors Meeting
DESCRIPTION:
URL:https://townofnewlebanon.com/event/lebanon-valley-seniors-meeting-2/2026-04-03/
LOCATION:New Lebanon Community Center\, 523 US Route 20\, New Lebanon
CATEGORIES:community,General
END:VEVENT
BEGIN:VEVENT
DTSTART;TZID=America/New_York:20260403T160000
DTEND;TZID=America/New_York:20260403T200000
DTSTAMP:20260422T175745
CREATED:20260319T143615Z
LAST-MODIFIED:20260319T143615Z
UID:10006394-1775232000-1775246400@townofnewlebanon.com
SUMMARY:Private Rental
DESCRIPTION:
URL:https://townofnewlebanon.com/event/private-rental-4/
LOCATION:New Lebanon Community Center\, 523 US Route 20\, New Lebanon
CATEGORIES:community
END:VEVENT
BEGIN:VEVENT
DTSTART;TZID=America/New_York:20260404T170000
DTEND;TZID=America/New_York:20260404T200000
DTSTAMP:20260422T175745
CREATED:20250108T220435Z
LAST-MODIFIED:20250108T220521Z
UID:10003724-1775322000-1775332800@townofnewlebanon.com
SUMMARY:New Lebanon Community Center Open Hours
DESCRIPTION:
URL:https://townofnewlebanon.com/event/new-lebanon-community-center-open-hours-4/2026-04-04/
LOCATION:New Lebanon Community Center\, 523 US Route 20\, New Lebanon
CATEGORIES:community
END:VEVENT
BEGIN:VEVENT
DTSTART;TZID=America/New_York:20260407T140000
DTEND;TZID=America/New_York:20260407T173000
DTSTAMP:20260422T175745
CREATED:20250108T215951Z
LAST-MODIFIED:20250108T215951Z
UID:10002158-1775570400-1775583000@townofnewlebanon.com
SUMMARY:New Lebanon Community Center Open Hours
DESCRIPTION:
URL:https://townofnewlebanon.com/event/new-lebanon-community-center-open-hours/2026-04-07/
LOCATION:New Lebanon Community Center\, 523 US Route 20\, New Lebanon
CATEGORIES:community
END:VEVENT
BEGIN:VEVENT
DTSTART;TZID=America/New_York:20260408T140000
DTEND;TZID=America/New_York:20260408T173000
DTSTAMP:20260422T175745
CREATED:20250415T184745Z
LAST-MODIFIED:20250415T184745Z
UID:10005064-1775656800-1775669400@townofnewlebanon.com
SUMMARY:New Lebanon Community Center Open Hours
DESCRIPTION:
URL:https://townofnewlebanon.com/event/new-lebanon-community-center-open-hours-2/2026-04-08/
LOCATION:New Lebanon Community Center\, 523 US Route 20\, New Lebanon
CATEGORIES:community,General
END:VEVENT
BEGIN:VEVENT
DTSTART;TZID=America/New_York:20260408T191500
DTEND;TZID=America/New_York:20260408T203000
DTSTAMP:20260422T175745
CREATED:20260323T192950Z
LAST-MODIFIED:20260323T193320Z
UID:10006589-1775675700-1775680200@townofnewlebanon.com
SUMMARY:Yoga at the Community Center
DESCRIPTION:
URL:https://townofnewlebanon.com/event/yoga-at-the-community-center/2026-04-08/
LOCATION:New Lebanon Community Center\, 523 US Route 20\, New Lebanon
CATEGORIES:community
END:VEVENT
BEGIN:VEVENT
DTSTART;TZID=America/New_York:20260409T140000
DTEND;TZID=America/New_York:20260409T173000
DTSTAMP:20260422T175745
CREATED:20250108T220313Z
LAST-MODIFIED:20251023T151221Z
UID:10003203-1775743200-1775755800@townofnewlebanon.com
SUMMARY:New Lebanon Community Center Open Hours
DESCRIPTION:
URL:https://townofnewlebanon.com/event/new-lebanon-community-center-open-hours-3/2026-04-09/
LOCATION:New Lebanon Community Center\, 523 US Route 20\, New Lebanon
CATEGORIES:community
END:VEVENT
BEGIN:VEVENT
DTSTART;TZID=America/New_York:20260411T110000
DTEND;TZID=America/New_York:20260411T170000
DTSTAMP:20260422T175745
CREATED:20260323T193039Z
LAST-MODIFIED:20260323T193039Z
UID:10006586-1775905200-1775926800@townofnewlebanon.com
SUMMARY:Private Rental
DESCRIPTION:
URL:https://townofnewlebanon.com/event/private-rental-5/
LOCATION:New Lebanon Community Center\, 523 US Route 20\, New Lebanon
CATEGORIES:community
END:VEVENT
BEGIN:VEVENT
DTSTART;TZID=America/New_York:20260411T170000
DTEND;TZID=America/New_York:20260411T200000
DTSTAMP:20260422T175745
CREATED:20250108T220435Z
LAST-MODIFIED:20250108T220521Z
UID:10003725-1775926800-1775937600@townofnewlebanon.com
SUMMARY:New Lebanon Community Center Open Hours
DESCRIPTION:
URL:https://townofnewlebanon.com/event/new-lebanon-community-center-open-hours-4/2026-04-11/
LOCATION:New Lebanon Community Center\, 523 US Route 20\, New Lebanon
CATEGORIES:community
END:VEVENT
BEGIN:VEVENT
DTSTART;TZID=America/New_York:20260412T110000
DTEND;TZID=America/New_York:20260412T140000
DTSTAMP:20260422T175745
CREATED:20250108T220607Z
LAST-MODIFIED:20260319T144103Z
UID:10004247-1775991600-1776002400@townofnewlebanon.com
SUMMARY:New Lebanon Community Center Open Hours
DESCRIPTION:
URL:https://townofnewlebanon.com/event/new-lebanon-community-center-open-hours-5/2026-04-12/
LOCATION:New Lebanon Community Center\, 523 US Route 20\, New Lebanon
CATEGORIES:community
END:VEVENT
BEGIN:VEVENT
DTSTART;TZID=America/New_York:20260413T110000
DTEND;TZID=America/New_York:20260413T120000
DTSTAMP:20260422T175745
CREATED:20260310T172650Z
LAST-MODIFIED:20260310T172915Z
UID:10006188-1776078000-1776081600@townofnewlebanon.com
SUMMARY:Tai Chi at Community Center
DESCRIPTION:
URL:https://townofnewlebanon.com/event/tai-chi-at-community-center/2026-04-13/
LOCATION:New Lebanon Community Center\, 523 US Route 20\, New Lebanon
CATEGORIES:community
END:VEVENT
BEGIN:VEVENT
DTSTART;TZID=America/New_York:20260414T140000
DTEND;TZID=America/New_York:20260414T173000
DTSTAMP:20260422T175745
CREATED:20250108T215951Z
LAST-MODIFIED:20250108T215951Z
UID:10002159-1776175200-1776187800@townofnewlebanon.com
SUMMARY:New Lebanon Community Center Open Hours
DESCRIPTION:
URL:https://townofnewlebanon.com/event/new-lebanon-community-center-open-hours/2026-04-14/
LOCATION:New Lebanon Community Center\, 523 US Route 20\, New Lebanon
CATEGORIES:community
END:VEVENT
BEGIN:VEVENT
DTSTART;TZID=America/New_York:20260415T140000
DTEND;TZID=America/New_York:20260415T173000
DTSTAMP:20260422T175745
CREATED:20250415T184745Z
LAST-MODIFIED:20250415T184745Z
UID:10005065-1776261600-1776274200@townofnewlebanon.com
SUMMARY:New Lebanon Community Center Open Hours
DESCRIPTION:
URL:https://townofnewlebanon.com/event/new-lebanon-community-center-open-hours-2/2026-04-15/
LOCATION:New Lebanon Community Center\, 523 US Route 20\, New Lebanon
CATEGORIES:community,General
END:VEVENT
BEGIN:VEVENT
DTSTART;TZID=America/New_York:20260415T191500
DTEND;TZID=America/New_York:20260415T203000
DTSTAMP:20260422T175745
CREATED:20260323T192950Z
LAST-MODIFIED:20260323T193320Z
UID:10006590-1776280500-1776285000@townofnewlebanon.com
SUMMARY:Yoga at the Community Center
DESCRIPTION:
URL:https://townofnewlebanon.com/event/yoga-at-the-community-center/2026-04-15/
LOCATION:New Lebanon Community Center\, 523 US Route 20\, New Lebanon
CATEGORIES:community
END:VEVENT
BEGIN:VEVENT
DTSTART;TZID=America/New_York:20260416T130000
DTEND;TZID=America/New_York:20260416T150000
DTSTAMP:20260422T175745
CREATED:20250102T212053Z
LAST-MODIFIED:20250102T212133Z
UID:10002039-1776344400-1776351600@townofnewlebanon.com
SUMMARY:Acoustic Jam
DESCRIPTION:
URL:https://townofnewlebanon.com/event/acoustic-jam/2026-04-16/
LOCATION:New Lebanon Community Center\, 523 US Route 20\, New Lebanon
CATEGORIES:community,General
END:VEVENT
BEGIN:VEVENT
DTSTART;TZID=America/New_York:20260416T140000
DTEND;TZID=America/New_York:20260416T173000
DTSTAMP:20260422T175745
CREATED:20250108T220313Z
LAST-MODIFIED:20251023T151221Z
UID:10003204-1776348000-1776360600@townofnewlebanon.com
SUMMARY:New Lebanon Community Center Open Hours
DESCRIPTION:
URL:https://townofnewlebanon.com/event/new-lebanon-community-center-open-hours-3/2026-04-16/
LOCATION:New Lebanon Community Center\, 523 US Route 20\, New Lebanon
CATEGORIES:community
END:VEVENT
BEGIN:VEVENT
DTSTART;TZID=America/New_York:20260417T130000
DTEND;TZID=America/New_York:20260417T150000
DTSTAMP:20260422T175745
CREATED:20240406T213120Z
LAST-MODIFIED:20250113T220339Z
UID:10001452-1776430800-1776438000@townofnewlebanon.com
SUMMARY:Lebanon Valley Seniors Meeting
DESCRIPTION:
URL:https://townofnewlebanon.com/event/lebanon-valley-seniors-meeting/2026-04-17/
LOCATION:New Lebanon Community Center\, 523 US Route 20\, New Lebanon
CATEGORIES:community,General
END:VEVENT
BEGIN:VEVENT
DTSTART;TZID=America/New_York:20260418T170000
DTEND;TZID=America/New_York:20260418T200000
DTSTAMP:20260422T175745
CREATED:20250108T220435Z
LAST-MODIFIED:20250108T220521Z
UID:10003726-1776531600-1776542400@townofnewlebanon.com
SUMMARY:New Lebanon Community Center Open Hours
DESCRIPTION:
URL:https://townofnewlebanon.com/event/new-lebanon-community-center-open-hours-4/2026-04-18/
LOCATION:New Lebanon Community Center\, 523 US Route 20\, New Lebanon
CATEGORIES:community
END:VEVENT
END:VCALENDAR