BEGIN:VCALENDAR
VERSION:2.0
PRODID:-//Town of New Lebanon - ECPv6.15.20//NONSGML v1.0//EN
CALSCALE:GREGORIAN
METHOD:PUBLISH
X-WR-CALNAME:Town of New Lebanon
X-ORIGINAL-URL:https://townofnewlebanon.com
X-WR-CALDESC:Events for Town of New Lebanon
REFRESH-INTERVAL;VALUE=DURATION:PT1H
X-Robots-Tag:noindex
X-PUBLISHED-TTL:PT1H
BEGIN:VTIMEZONE
TZID:America/New_York
BEGIN:DAYLIGHT
TZOFFSETFROM:-0500
TZOFFSETTO:-0400
TZNAME:EDT
DTSTART:20250309T070000
END:DAYLIGHT
BEGIN:STANDARD
TZOFFSETFROM:-0400
TZOFFSETTO:-0500
TZNAME:EST
DTSTART:20251102T060000
END:STANDARD
BEGIN:DAYLIGHT
TZOFFSETFROM:-0500
TZOFFSETTO:-0400
TZNAME:EDT
DTSTART:20260308T070000
END:DAYLIGHT
BEGIN:STANDARD
TZOFFSETFROM:-0400
TZOFFSETTO:-0500
TZNAME:EST
DTSTART:20261101T060000
END:STANDARD
BEGIN:DAYLIGHT
TZOFFSETFROM:-0500
TZOFFSETTO:-0400
TZNAME:EDT
DTSTART:20270314T070000
END:DAYLIGHT
BEGIN:STANDARD
TZOFFSETFROM:-0400
TZOFFSETTO:-0500
TZNAME:EST
DTSTART:20271107T060000
END:STANDARD
END:VTIMEZONE
BEGIN:VEVENT
DTSTART;TZID=America/New_York:20260701T140000
DTEND;TZID=America/New_York:20260701T173000
DTSTAMP:20260420T003636
CREATED:20250415T184745Z
LAST-MODIFIED:20250415T184745Z
UID:10005076-1782914400-1782927000@townofnewlebanon.com
SUMMARY:New Lebanon Community Center Open Hours
DESCRIPTION:
URL:https://townofnewlebanon.com/event/new-lebanon-community-center-open-hours-2/2026-07-01/
LOCATION:New Lebanon Community Center\, 523 US Route 20\, New Lebanon
CATEGORIES:community,General
END:VEVENT
BEGIN:VEVENT
DTSTART;TZID=America/New_York:20260701T170000
DTEND;TZID=America/New_York:20260701T183000
DTSTAMP:20260420T003636
CREATED:20220626T161625Z
LAST-MODIFIED:20260320T194508Z
UID:10001616-1782925200-1782930600@townofnewlebanon.com
SUMMARY:CSC Meeting
DESCRIPTION:
URL:https://townofnewlebanon.com/event/csc-meeting-2022-08-03/2026-07-01/
LOCATION:Town Hall\, 14755 Route 22 North\, New Lebanon\, NY\, 12125\, United States
CATEGORIES:General
ATTACH;FMTTYPE=image/jpeg:https://townofnewlebanon.com/wp-content/uploads/2022/06/CSC_bronze-logo-with-NL-e1656592455471.jpeg
END:VEVENT
BEGIN:VEVENT
DTSTART;TZID=America/New_York:20260701T191500
DTEND;TZID=America/New_York:20260701T203000
DTSTAMP:20260420T003636
CREATED:20260323T192950Z
LAST-MODIFIED:20260323T193320Z
UID:10006601-1782933300-1782937800@townofnewlebanon.com
SUMMARY:Yoga at the Community Center
DESCRIPTION:
URL:https://townofnewlebanon.com/event/yoga-at-the-community-center/2026-07-01/
LOCATION:New Lebanon Community Center\, 523 US Route 20\, New Lebanon
CATEGORIES:community
END:VEVENT
END:VCALENDAR