BEGIN:VCALENDAR
VERSION:2.0
PRODID:-//Town of New Lebanon - ECPv6.15.20//NONSGML v1.0//EN
CALSCALE:GREGORIAN
METHOD:PUBLISH
X-ORIGINAL-URL:https://townofnewlebanon.com
X-WR-CALDESC:Events for Town of New Lebanon
REFRESH-INTERVAL;VALUE=DURATION:PT1H
X-Robots-Tag:noindex
X-PUBLISHED-TTL:PT1H
BEGIN:VTIMEZONE
TZID:America/New_York
BEGIN:DAYLIGHT
TZOFFSETFROM:-0500
TZOFFSETTO:-0400
TZNAME:EDT
DTSTART:20250309T070000
END:DAYLIGHT
BEGIN:STANDARD
TZOFFSETFROM:-0400
TZOFFSETTO:-0500
TZNAME:EST
DTSTART:20251102T060000
END:STANDARD
BEGIN:DAYLIGHT
TZOFFSETFROM:-0500
TZOFFSETTO:-0400
TZNAME:EDT
DTSTART:20260308T070000
END:DAYLIGHT
BEGIN:STANDARD
TZOFFSETFROM:-0400
TZOFFSETTO:-0500
TZNAME:EST
DTSTART:20261101T060000
END:STANDARD
BEGIN:DAYLIGHT
TZOFFSETFROM:-0500
TZOFFSETTO:-0400
TZNAME:EDT
DTSTART:20270314T070000
END:DAYLIGHT
BEGIN:STANDARD
TZOFFSETFROM:-0400
TZOFFSETTO:-0500
TZNAME:EST
DTSTART:20271107T060000
END:STANDARD
END:VTIMEZONE
BEGIN:VEVENT
DTSTART;TZID=America/New_York:20260615T110000
DTEND;TZID=America/New_York:20260615T120000
DTSTAMP:20260420T004345
CREATED:20260310T172650Z
LAST-MODIFIED:20260310T172915Z
UID:10006197-1781521200-1781524800@townofnewlebanon.com
SUMMARY:Tai Chi at Community Center
DESCRIPTION:
URL:https://townofnewlebanon.com/event/tai-chi-at-community-center/2026-06-15/
LOCATION:New Lebanon Community Center\, 523 US Route 20\, New Lebanon
CATEGORIES:community
END:VEVENT
BEGIN:VEVENT
DTSTART;TZID=America/New_York:20260615T190000
DTEND;TZID=America/New_York:20260615T203000
DTSTAMP:20260420T004345
CREATED:20241210T200511Z
LAST-MODIFIED:20260319T142531Z
UID:10005375-1781550000-1781555400@townofnewlebanon.com
SUMMARY:Zoning Rewrite Committee (ZRC) meeting
DESCRIPTION:
URL:https://townofnewlebanon.com/event/zoning-rewrite-committee-zrc-meeting/2026-06-15/
LOCATION:Town Hall\, 14755 Route 22 North\, New Lebanon\, NY\, 12125\, United States
CATEGORIES:General
END:VEVENT
END:VCALENDAR