BEGIN:VCALENDAR
VERSION:2.0
PRODID:-//Town of New Lebanon - ECPv6.15.20//NONSGML v1.0//EN
CALSCALE:GREGORIAN
METHOD:PUBLISH
X-WR-CALNAME:Town of New Lebanon
X-ORIGINAL-URL:https://townofnewlebanon.com
X-WR-CALDESC:Events for Town of New Lebanon
REFRESH-INTERVAL;VALUE=DURATION:PT1H
X-Robots-Tag:noindex
X-PUBLISHED-TTL:PT1H
BEGIN:VTIMEZONE
TZID:America/New_York
BEGIN:DAYLIGHT
TZOFFSETFROM:-0500
TZOFFSETTO:-0400
TZNAME:EDT
DTSTART:20250309T070000
END:DAYLIGHT
BEGIN:STANDARD
TZOFFSETFROM:-0400
TZOFFSETTO:-0500
TZNAME:EST
DTSTART:20251102T060000
END:STANDARD
BEGIN:DAYLIGHT
TZOFFSETFROM:-0500
TZOFFSETTO:-0400
TZNAME:EDT
DTSTART:20260308T070000
END:DAYLIGHT
BEGIN:STANDARD
TZOFFSETFROM:-0400
TZOFFSETTO:-0500
TZNAME:EST
DTSTART:20261101T060000
END:STANDARD
BEGIN:DAYLIGHT
TZOFFSETFROM:-0500
TZOFFSETTO:-0400
TZNAME:EDT
DTSTART:20270314T070000
END:DAYLIGHT
BEGIN:STANDARD
TZOFFSETFROM:-0400
TZOFFSETTO:-0500
TZNAME:EST
DTSTART:20271107T060000
END:STANDARD
END:VTIMEZONE
BEGIN:VEVENT
DTSTART;TZID=America/New_York:20260528T140000
DTEND;TZID=America/New_York:20260528T173000
DTSTAMP:20260419T195435
CREATED:20250108T220313Z
LAST-MODIFIED:20251023T151221Z
UID:10003210-1779976800-1779989400@townofnewlebanon.com
SUMMARY:New Lebanon Community Center Open Hours
DESCRIPTION:
URL:https://townofnewlebanon.com/event/new-lebanon-community-center-open-hours-3/2026-05-28/
LOCATION:New Lebanon Community Center\, 523 US Route 20\, New Lebanon
CATEGORIES:community
END:VEVENT
END:VCALENDAR